{"text_format":"1","workbook":"xlsx","n_sheets":32,"sheets":["Cover","Winbugs Settings","DATA Input","Diagram Data","Network Diagram","Forest Plot","League Table","Rankogram","Inconsistency Data","Inconsistency Results","FE Results","RE Results (Vague Prior) ","RE Results (Informative Prior)","FE Inconsistency Results","RE Inconsistency Results","WINBUGS data","WINBUGS Data Inconsistency","Informative Priors","Data Table","FE Script","RE Script","FE Inconsistency Script ","RE Inconsistency Script","FE Model","Fixed Effects","RE Model","League Table Data","Random Effects  (Informative)","Random Effects (Vague)","FE Inconsistency Model","RE Inconsistency Model","Rankogram Data"],"not_rendered":{"charts":4,"images":6,"macros":1,"external_links":0,"defined_names":90,"comments":0,"pivot_tables":0},"unopened":[],"bounds":{"document_bytes":16777216,"sheet_cells":100000,"rows_first":2000,"rows_last":500,"rows_between":2000,"halvings":0,"cell_chars":16384,"cell_head_chars":4096},"cells_cut":0,"cells_raw":0,"read":"whole","date_system":"1900"}

{"sheet":"Cover","index":0,"n_rows":30,"n_cols":3,"rows_kept":30,"cut":false,"hidden":false,"merged":[[29,2,45,12]]}
[]
[]
[]
[]
[]
[]
[]
[]
[]
[]
[]
[]
[]
[]
[]
[]
[]
[]
[]
[]
[]
[]
[]
[]
[]
[]
[]
[]
[null,null,"DISCLAIMER:"]
[null,null,"1. NO WARRANTIES\nNetMetaXL (HEREINAFTER CALLED \"THIS PROGRAM\") IS PROVIDED FREE OF CHARGE AND “AS IS” WITHOUT ANY WARRANTY WHATSOEVER. YOU ASSUME ALL RISKS AND RESPONSIBILITIES FOR SELECTION OF THIS PROGRAM TO ACHIEVE YOUR INTENDED RESULTS, AND FOR THE INSTALLATION OF, USE OF AND RESULTS OBTAINED FROM THIS PROGRAM. THE CREATORS OF THIS PROGRAM MAKE NO WARRANTY THAT THIS PROGRAM WILL BE ERROR FREE OR FREE FROM INTERRUPTION OR FAILURE. TO THE MAXIMUM EXTENT PERMITTED BY APPLICABLE LAW, THE CREATORS OF THIS PROGRAM DISCLAIMS ALL WARRANTIES, EITHER EXPRESS OR IMPLIED, INCLUDING BUT NOT LIMITED TO, WARRANTIES OR REPRESENTATIONS OF WORKMANSHIP, SUITABILITY OR FITNESS FOR A PARTICULAR PURPOSE, DURABILITY, AND NON INFRINGEMENT WITH RESPECT TO THIS PROGRAM. WITHOUT LIMITING THE GENERALITY OF THE FOREGOING, THE CREATORS OF THIS PROGRAM DO NOT WARRANT THAT THIS PROGRAM WILL MEET ALL OF YOUR NEEDS OR THAT OPERATION OF THIS PROGRAM WILL BE ERROR-FREE.  THE CREATORS OF THIS PROGRAM EXPRESSLY DISCLAIMS ANY EXPRESS OR IMPLIED WARRANTY REGARDING SYSTEM AND/OR SOFTWARE AVAILABILITY, ACCESSIBILITY, OR PERFORMANCE. THE CREATORS OF THIS PROGRAM RESERVES THE RIGHT TO REVISE THIS PROGRAM AND TO MAKE CHANGES THEREIN FROM TIME TO TIME WITHOUT OBLIGATION TO NOTIFY ANY PERSON OR ORGANISATION OF SUCH REVISION OR CHANGES.\n2. LIMITATIONS ON LIABILITY\nTO THE MAXIMUM EXTENT PERMITTED BY APPLICABLE LAW, IN NO EVENT WILL THE CREATORS OF THIS PROGRAM OR ITS SUPPLIERS OR LICENSORS BE LIABLE FOR ANY DAMAGES WHATSOEVER (INCLUDING, WITHOUT LIMITATION, DAMAGES FOR LOSS OF BUSINESS PROFITS, BUSINESS INTERRUPTION, LOSS OF BUSINESS INFORMATION, LOSS OF GOODWILL; WORK STOPPAGE; HARDWARE OR SOFTWARE FAILURE, OR OTHER PECUNIARY LOSS) ARISING OUT OF THE USE OR INABILITY TO USE THIS PROGRAM. YOU ASSUME THE ENTIRE COST OF ANY DAMAGE RESULTING FROM YOUR USE OF THIS PROGRAM AND THE INFORMATION CONTAINED IN OR COMPILED BY THIS PROGRAM.\n3. GENERAL\nTHE TERM OF THIS AGREEMENT SHALL CONTINUE FROM THE DATE OF ACCEPTANCE TO THE DATE AT WHICH YOU REMOVE THIS PROGRAM FROM YOUR COMPUTER. SECTION 2 HEREIN SHALL SURVIVE TERMINATION OF THIS AGREEMENT.  \n"]

{"sheet":"Winbugs Settings","index":1,"n_rows":54,"n_cols":16,"rows_kept":54,"cut":false,"hidden":false,"merged":[[35,5,38,7],[40,5,40,7],[41,5,42,7],[43,5,44,7],[8,5,9,7],[13,5,20,7],[21,5,24,7],[25,5,26,7],[11,5,11,7],[29,5,30,7],[12,5,12,7]]}
[]
[null,null,null,null,null,null,null,null,null,null,null,null,null,null,null,"Vague"]
[null,null,null,null,null,null,null,null,null,null,null,null,null,null,null,"Informative"]
[]
[]
[]
[]
[null,"WinBUGS Settings"]
[null,null,"Burn In Runs",40000,null,"Enter the number of \"Burn In\" runs and Model Runs"]
[null,null,"Model Runs",40000]
[null,"Statistics Settings",null,null,null,null,null," "]
[null,null,"Events are \"BAD\"",true,null,"Specify whether events are considered \"BAD\""]
[null,null,"Correct for Zero Values",true,null,"Correct for nodes or studies that only contain zero events"]
[null,null,"Monitor Odds Ratio ",true,null,"Select \"True\" to  monitor; OR, RR, Rank, Best, and/or Rank Probability variables"]
[null,null,"Monitor Risk Ratio",true]
[null,null,"Monitor Risk Difference",true]
[null,null,"Monitor Number Needed to Treat",true]
[null,null,"Monitor Rank",true]
[null,null,"Monitor Best",true]
[null,null,"Monitor SUCRA",true]
[null,null,"Monitor Rank Probability (Rankogram)",true]
[null,null,"Include Trace for OR",false,null,"Select \"True\" to monitor; Convergence traces for OR and RR and/or Gelman Rubin traces for OR and RR"]
[null,null,"Include Trace for RR",false]
[null,null,"Include Gelman Rubin for OR",false]
[null,null,"Include Gelman Rubin for RR",false]
[null,null,"Include DIC",true,null,"Select \"True\" to monitor DIC and ResDev variables"]
[null,null,"Include Resdev",true]
[]
[null,"Informative Prior Settings (Random Effects Model)"]
[null,null,"Intervention Type","Pharmacological vs Control/Placebo",null,"Select Intervention Type and Outcome Type.  Informative prior based on Turner 2012"]
[null,null,"Outcome Type","All Cause Mortality"]
[]
[]
[]
[null,"Inits Ranges"]
[null,null,"Low Range for Inits  (Random and Fixed Effects)",0,null,"Inits and SD are randomly selected between a low and high value.  These low and high values can be entered here"]
[null,null,"High range for Inits (Random and Fixed Effects)",2]
[null,null,"Low range for SD (Random Effects)",1]
[null,null,"High range for SD (Random Effects)",2]
[null,"Program Settings"]
[null,null,"Winbugs Directory","C:\\WinBUGS14\\"," ","Enter the path for the WinBUGS program or click folder to open Explorer window"]
[null,null,"Data directory","C:\\WinBUGS data\\",null,"Enter the path for the results and data files that excel generates  click folder to open Explorer window"]
[null,null,"Results Directoty","C:\\WinBUGS Results\\"]
[null,null,"Fixed Effects Results File Name","Fixed Effect Results",null,"Enter the name of the results files"]
[null,null,"Random Effects Results File Name","Random Effect Results"]
[null,null,"Fixed Effects Model File Name","Fixed Effect Model"]
[null,null,"Random Effects Model File Name","Random Effect Model"]
[null,null,"Data Table File Name","Data Table"]
[null,null,"Data table List File Name","Data List"]
[null,null,"Fixed Effects Inits File name","Fixed Effect Inits"]
[null,null,"Random Effects Inits File name","Random Effect Inits"]
[null,null,"date/time",{"$f":"TEXT(NOW(),\" m d yyyy h mm ss AM/PM\")","v":" 5 28 2014 10 26 50 AM"}]
[null,null,"Automatically run",true]
[null,null,"Vague Prior",true]

{"sheet":"DATA Input","index":2,"n_rows":57,"n_cols":34,"rows_kept":57,"cut":false,"hidden":false,"merged":[[3,30,3,31],[3,32,3,33],[2,4,2,33],[3,20,3,21],[3,22,3,23],[3,24,3,25],[3,26,3,27],[3,28,3,29],[3,10,3,11],[3,12,3,13],[3,14,3,15],[3,16,3,17],[3,18,3,19],[56,24,56,25],[56,26,56,27],[56,28,56,29],[56,30,56,31],[56,32,56,33],[56,14,56,15],[56,16,56,17],[56,18,56,19],[56,20,56,21],[56,22,56,23],[56,4,56,5],[56,6,56,7],[56,8,56,9],[56,10,56,11],[56,12,56,13],[4,26,4,27],[4,28,4,29],[4,30,4,31],[4,32,4,33],[4,20,4,21],[4,22,4,23],[4,24,4,25],[4,16,4,17],[4,18,4,19],[4,4,4,5],[4,6,4,7],[4,8,4,9],[4,10,4,11],[4,12,4,13],[4,2,5,2],[3,4,3,5],[3,6,3,7],[3,8,3,9],[4,14,4,15]]}
[]
[null,null,{"$f":"COUNTIF(D7:D56,\"<>\")","v":12},"Number of Studies"]
[null,null,{"$f":"COUNTIF(E5:AH5,\"<>\")","v":5},"Number of Treatments","Treatments"]
[null,null,{"$f":"COUNTIF(F7:F56,\"<>\")","v":8},"Number of Treatment 1 Studies",1,null,{"$f":"E4+1","v":2},null,{"$f":"G4+1","v":3},null,{"$f":"I4+1","v":4},null,{"$f":"K4+1","v":5},null,{"$f":"M4+1","v":6},null,{"$f":"O4+1","v":7},null,{"$f":"Q4+1","v":8},null,{"$f":"S4+1","v":9},null,{"$f":"U4+1","v":10},null,{"$f":"W4+1","v":11},null,{"$f":"Y4+1","v":12},null,{"$f":"AA4+1","v":13},null,{"$f":"AC4+1","v":14},null,{"$f":"AE4+1","v":15}]
[null,null,"Study #","Treatment Name","Medical",null,"Cardiac Resynchronisation",null,"Implantable Defibrilator",null,"Combined Resyn and Def.",null,"Amiodarone"]
[null,null,null,"Study Name","# of Events","# of Patients","# of Events","# of Patients","# of Events","# of Patients","# of Events","# of Patients","# of Events","# of Patients","# of Events","# of Patients","# of Events","# of Patients","# of Events","# of Patients","# of Events","# of Patients","# of Events","# of Patients","# of Events","# of Patients","# of Events","# of Patients","# of Events","# of Patients","# of Events","# of Patients","# of Events","# of Patients"]
[null,null,1,"CARE_HF-ext",154,404,101,409]
[null,null,2,"COMPANION",77,308,131,617,null,null,105,595]
[null,null,3,"MIRACLE",16,225,12,228]
[null,null,4,"MUSTIC-SR",0,29,1,29]
[null,null,5,"SCD-HeFT",244,847,null,null,182,829,null,null,240,845]
[null,null,6,"MADIT-II",97,490,null,null,105,742]
[null,null,7,"DEFINITE",40,229,null,null,28,229]
[null,null,8,"CAT",17,54,null,null,13,50]
[null,null,9,"MICRACLE-ICD-I",null,null,null,null,5,182,4,187]
[null,null,10,"MICRACLE-ICD-II",null,null,null,null,2,101,2,85]
[null,null,11,"CONTAK-CD",null,null,null,null,16,245,11,245]
[null,null,12,"AMIOVIRT",null,null,null,null,6,51,null,null,7,52]
[null,null,13]
[null,null,14]
[null,null,15]
[null,null,16]
[null,null,17]
[null,null,18]
[null,null,19]
[null,null,20]
[null,null,21]
[null,null,22]
[null,null,23]
[null,null,24]
[null,null,25]
[null,null,26]
[null,null,27]
[null,null,28]
[null,null,29]
[null,null,30]
[null,null,31]
[null,null,32]
[null,null,33]
[null,null,34]
[null,null,35]
[null,null,36]
[null,null,37]
[null,null,38]
[null,null,39]
[null,null,40]
[null,null,41]
[null,null,42]
[null,null,43]
[null,null,44]
[null,null,45]
[null,null,46]
[null,null,47]
[null,null,48]
[null,null,49]
[null,null,50]
[null,null,{"$f":"MIN(patient_totals)","v":897},{"$f":"SUM(patient_totals)","v":8307},{"$f":"IF(SUM(F7:F56)=0,\"\",SUM(F7:F56))","v":2586},null,{"$f":"IF(SUM(H7:H56)=0,\"\",SUM(H7:H56))","v":1283},null,{"$f":"IF(SUM(J7:J56)=0,\"\",SUM(J7:J56))","v":2429},null,{"$f":"IF(SUM(L7:L56)=0,\"\",SUM(L7:L56))","v":1112},null,{"$f":"IF(SUM(N7:N56)=0,\"\",SUM(N7:N56))","v":897},null,{"$f":"IF(SUM(P7:P56)=0,\"\",SUM(P7:P56))","v":""},null,{"$f":"IF(SUM(R7:R56)=0,\"\",SUM(R7:R56))","v":""},null,{"$f":"IF(SUM(T7:T56)=0,\"\",SUM(T7:T56))","v":""},null,{"$f":"IF(SUM(V7:V56)=0,\"\",SUM(V7:V56))","v":""},null,{"$f":"IF(SUM(X7:X56)=0,\"\",SUM(X7:X56))","v":""},null,{"$f":"IF(SUM(Z7:Z56)=0,\"\",SUM(Z7:Z56))","v":""},null,{"$f":"IF(SUM(AB7:AB56)=0,\"\",SUM(AB7:AB56))","v":""},null,{"$f":"IF(SUM(AD7:AD56)=0,\"\",SUM(AD7:AD56))","v":""},null,{"$f":"IF(SUM(AF7:AF56)=0,\"\",SUM(AF7:AF56))","v":""},null,{"$f":"IF(SUM(AH7:AH56)=0,\"\",SUM(AH7:AH56))","v":""}]

{"sheet":"Diagram Data","index":3,"n_rows":59,"n_cols":20,"rows_kept":59,"cut":false,"hidden":true,"merged":[]}
[]
[]
[]
[null,null,"Study #","Treatment Arms","Comparisons",1,2,3,4,5,6,7,8,9,10,11,12,13,14,15]
[null,null,{"$f":"IF('WINBUGS data'!F13<>\"\",'WINBUGS data'!F13,\"\")","v":1},{"$f":"IFERROR(INDEX('WINBUGS data'!$F$12:$AI$26,MATCH(C5,'WINBUGS data'!$F$12:$F$26,0),MATCH(\"na[]\",'WINBUGS data'!$F$12:$AI$12,0)),\"\")","v":2},{"$f":"CONCATENATE(IF(ISNUMBER(F5),F5,\"\"),IF(ISNUMBER(G5),\",\"&G5,\"\"),IF(ISNUMBER(H5),\",\"&H5,\"\"),IF(ISNUMBER(I5),\",\"&I5,\"\"),IF(ISNUMBER(J5),\",\"&J5,\"\"),IF(ISNUMBER(K5),\",\"&K5,\"\"),IF(ISNUMBER(L5),\",\"&L5,\"\"),IF(ISNUMBER(M5),\",\"&M5,\"\"),IF(ISNUMBER(N5),\",\"&N5,\"\"),IF(ISNUMBER(O5),\",\"&O5,\"\"),IF(ISNUMBER(P5),\",\"&P5,\"\"),IF(ISNUMBER(Q5),\",\"&Q5,\"\"),IF(ISNUMBER(R5),\",\"&R5,\"\"),IF(ISNUMBER(S5),\",\"&S5,\"\"),IF(ISNUMBER(T5),\",\"&T5,\"\"))","v":"1,2"},{"$f":"IFERROR(INDEX('WINBUGS data'!$F$12:$AI$26,MATCH($C5,'WINBUGS data'!$F$12:$F$26,0),MATCH(\"t[,\"&F$4 &\"]\",'WINBUGS data'!$F$12:$AI$12,0)),\"\")","v":1},{"$f":"IFERROR(INDEX('WINBUGS data'!$F$12:$AI$26,MATCH($C5,'WINBUGS data'!$F$12:$F$26,0),MATCH(\"t[,\"&G$4 &\"]\",'WINBUGS data'!$F$12:$AI$12,0)),\"\")","v":2},{"$f":"IFERROR(INDEX('WINBUGS data'!$F$12:$AI$26,MATCH($C5,'WINBUGS data'!$F$12:$F$26,0),MATCH(\"t[,\"&H$4 &\"]\",'WINBUGS data'!$F$12:$AI$12,0)),\"\")","v":"NA"},{"$f":"IFERROR(INDEX('WINBUGS data'!$F$12:$AI$26,MATCH($C5,'WINBUGS data'!$F$12:$F$26,0),MATCH(\"t[,\"&I$4 &\"]\",'WINBUGS data'!$F$12:$AI$12,0)),\"\")","v":"NA"},{"$f":"IFERROR(INDEX('WINBUGS data'!$F$12:$AI$26,MATCH($C5,'WINBUGS data'!$F$12:$F$26,0),MATCH(\"t[,\"&J$4 &\"]\",'WINBUGS data'!$F$12:$AI$12,0)),\"\")","v":"NA"},{"$f":"IFERROR(INDEX('WINBUGS data'!$F$12:$AI$26,MATCH($C5,'WINBUGS data'!$F$12:$F$26,0),MATCH(\"t[,\"&K$4 &\"]\",'WINBUGS data'!$F$12:$AI$12,0)),\"\")","v":""},{"$f":"IFERROR(INDEX('WINBUGS data'!$F$12:$AI$26,MATCH($C5,'WINBUGS data'!$F$12:$F$26,0),MATCH(\"t[,\"&L$4 &\"]\",'WINBUGS data'!$F$12:$AI$12,0)),\"\")","v":""},{"$f":"IFERROR(INDEX('WINBUGS data'!$F$12:$AI$26,MATCH($C5,'WINBUGS data'!$F$12:$F$26,0),MATCH(\"t[,\"&M$4 &\"]\",'WINBUGS data'!$F$12:$AI$12,0)),\"\")","v":""},{"$f":"IFERROR(INDEX('WINBUGS data'!$F$12:$AI$26,MATCH($C5,'WINBUGS data'!$F$12:$F$26,0),MATCH(\"t[,\"&N$4 &\"]\",'WINBUGS data'!$F$12:$AI$12,0)),\"\")","v":""},{"$f":"IFERROR(INDEX('WINBUGS data'!$F$12:$AI$26,MATCH($C5,'WINBUGS data'!$F$12:$F$26,0),MATCH(\"t[,\"&O$4 &\"]\",'WINBUGS data'!$F$12:$AI$12,0)),\"\")","v":""},{"$f":"IFERROR(INDEX('WINBUGS data'!$F$12:$AI$26,MATCH($C5,'WINBUGS data'!$F$12:$F$26,0),MATCH(\"t[,\"&P$4 &\"]\",'WINBUGS data'!$F$12:$AI$12,0)),\"\")","v":""},{"$f":"IFERROR(INDEX('WINBUGS data'!$F$12:$AI$26,MATCH($C5,'WINBUGS data'!$F$12:$F$26,0),MATCH(\"t[,\"&Q$4 &\"]\",'WINBUGS data'!$F$12:$AI$12,0)),\"\")","v":""},{"$f":"IFERROR(INDEX('WINBUGS data'!$F$12:$AI$26,MATCH($C5,'WINBUGS data'!$F$12:$F$26,0),MATCH(\"t[,\"&R$4 &\"]\",'WINBUGS data'!$F$12:$AI$12,0)),\"\")","v":""},{"$f":"IFERROR(INDEX('WINBUGS data'!$F$12:$AI$26,MATCH($C5,'WINBUGS data'!$F$12:$F$26,0),MATCH(\"t[,\"&S$4 &\"]\",'WINBUGS data'!$F$12:$AI$12,0)),\"\")","v":""},{"$f":"IFERROR(INDEX('WINBUGS data'!$F$12:$AI$26,MATCH($C5,'WINBUGS data'!$F$12:$F$26,0),MATCH(\"t[,\"&T$4 &\"]\",'WINBUGS data'!$F$12:$AI$12,0)),\"\")","v":""}]
[null,null,{"$f":"IF('WINBUGS data'!F14<>\"\",'WINBUGS data'!F14,\"\")","v":2},{"$f":"IFERROR(INDEX('WINBUGS data'!$F$12:$AI$26,MATCH(C6,'WINBUGS data'!$F$12:$F$26,0),MATCH(\"na[]\",'WINBUGS data'!$F$12:$AI$12,0)),\"\")","v":3},{"$f":"CONCATENATE(IF(ISNUMBER(F6),F6,\"\"),IF(ISNUMBER(G6),\",\"&G6,\"\"),IF(ISNUMBER(H6),\",\"&H6,\"\"),IF(ISNUMBER(I6),\",\"&I6,\"\"),IF(ISNUMBER(J6),\",\"&J6,\"\"),IF(ISNUMBER(K6),\",\"&K6,\"\"),IF(ISNUMBER(L6),\",\"&L6,\"\"),IF(ISNUMBER(M6),\",\"&M6,\"\"),IF(ISNUMBER(N6),\",\"&N6,\"\"),IF(ISNUMBER(O6),\",\"&O6,\"\"),IF(ISNUMBER(P6),\",\"&P6,\"\"),IF(ISNUMBER(Q6),\",\"&Q6,\"\"),IF(ISNUMBER(R6),\",\"&R6,\"\"),IF(ISNUMBER(S6),\",\"&S6,\"\"),IF(ISNUMBER(T6),\",\"&T6,\"\"))","v":"1,2,4"},{"$f":"IFERROR(INDEX('WINBUGS data'!$F$12:$AI$26,MATCH($C6,'WINBUGS data'!$F$12:$F$26,0),MATCH(\"t[,\"&F$4 &\"]\",'WINBUGS data'!$F$12:$AI$12,0)),\"\")","v":1},{"$f":"IFERROR(INDEX('WINBUGS data'!$F$12:$AI$26,MATCH($C6,'WINBUGS data'!$F$12:$F$26,0),MATCH(\"t[,\"&G$4 &\"]\",'WINBUGS data'!$F$12:$AI$12,0)),\"\")","v":2},{"$f":"IFERROR(INDEX('WINBUGS data'!$F$12:$AI$26,MATCH($C6,'WINBUGS data'!$F$12:$F$26,0),MATCH(\"t[,\"&H$4 &\"]\",'WINBUGS data'!$F$12:$AI$12,0)),\"\")","v":4},{"$f":"IFERROR(INDEX('WINBUGS data'!$F$12:$AI$26,MATCH($C6,'WINBUGS data'!$F$12:$F$26,0),MATCH(\"t[,\"&I$4 &\"]\",'WINBUGS data'!$F$12:$AI$12,0)),\"\")","v":"NA"},{"$f":"IFERROR(INDEX('WINBUGS data'!$F$12:$AI$26,MATCH($C6,'WINBUGS data'!$F$12:$F$26,0),MATCH(\"t[,\"&J$4 &\"]\",'WINBUGS data'!$F$12:$AI$12,0)),\"\")","v":"NA"},{"$f":"IFERROR(INDEX('WINBUGS data'!$F$12:$AI$26,MATCH($C6,'WINBUGS data'!$F$12:$F$26,0),MATCH(\"t[,\"&K$4 &\"]\",'WINBUGS data'!$F$12:$AI$12,0)),\"\")","v":""},{"$f":"IFERROR(INDEX('WINBUGS data'!$F$12:$AI$26,MATCH($C6,'WINBUGS data'!$F$12:$F$26,0),MATCH(\"t[,\"&L$4 &\"]\",'WINBUGS data'!$F$12:$AI$12,0)),\"\")","v":""},{"$f":"IFERROR(INDEX('WINBUGS data'!$F$12:$AI$26,MATCH($C6,'WINBUGS data'!$F$12:$F$26,0),MATCH(\"t[,\"&M$4 &\"]\",'WINBUGS data'!$F$12:$AI$12,0)),\"\")","v":""},{"$f":"IFERROR(INDEX('WINBUGS data'!$F$12:$AI$26,MATCH($C6,'WINBUGS data'!$F$12:$F$26,0),MATCH(\"t[,\"&N$4 &\"]\",'WINBUGS data'!$F$12:$AI$12,0)),\"\")","v":""},{"$f":"IFERROR(INDEX('WINBUGS data'!$F$12:$AI$26,MATCH($C6,'WINBUGS data'!$F$12:$F$26,0),MATCH(\"t[,\"&O$4 &\"]\",'WINBUGS data'!$F$12:$AI$12,0)),\"\")","v":""},{"$f":"IFERROR(INDEX('WINBUGS data'!$F$12:$AI$26,MATCH($C6,'WINBUGS data'!$F$12:$F$26,0),MATCH(\"t[,\"&P$4 &\"]\",'WINBUGS data'!$F$12:$AI$12,0)),\"\")","v":""},{"$f":"IFERROR(INDEX('WINBUGS data'!$F$12:$AI$26,MATCH($C6,'WINBUGS data'!$F$12:$F$26,0),MATCH(\"t[,\"&Q$4 &\"]\",'WINBUGS data'!$F$12:$AI$12,0)),\"\")","v":""},{"$f":"IFERROR(INDEX('WINBUGS data'!$F$12:$AI$26,MATCH($C6,'WINBUGS data'!$F$12:$F$26,0),MATCH(\"t[,\"&R$4 &\"]\",'WINBUGS data'!$F$12:$AI$12,0)),\"\")","v":""},{"$f":"IFERROR(INDEX('WINBUGS data'!$F$12:$AI$26,MATCH($C6,'WINBUGS data'!$F$12:$F$26,0),MATCH(\"t[,\"&S$4 &\"]\",'WINBUGS data'!$F$12:$AI$12,0)),\"\")","v":""},{"$f":"IFERROR(INDEX('WINBUGS data'!$F$12:$AI$26,MATCH($C6,'WINBUGS data'!$F$12:$F$26,0),MATCH(\"t[,\"&T$4 &\"]\",'WINBUGS data'!$F$12:$AI$12,0)),\"\")","v":""}]
[null,null,{"$f":"IF('WINBUGS data'!F15<>\"\",'WINBUGS data'!F15,\"\")","v":3},{"$f":"IFERROR(INDEX('WINBUGS data'!$F$12:$AI$26,MATCH(C7,'WINBUGS data'!$F$12:$F$26,0),MATCH(\"na[]\",'WINBUGS data'!$F$12:$AI$12,0)),\"\")","v":2},"1,2",{"$f":"IFERROR(INDEX('WINBUGS data'!$F$12:$AI$26,MATCH($C7,'WINBUGS data'!$F$12:$F$26,0),MATCH(\"t[,\"&F$4 &\"]\",'WINBUGS data'!$F$12:$AI$12,0)),\"\")","v":1},{"$f":"IFERROR(INDEX('WINBUGS data'!$F$12:$AI$26,MATCH($C7,'WINBUGS data'!$F$12:$F$26,0),MATCH(\"t[,\"&G$4 &\"]\",'WINBUGS data'!$F$12:$AI$12,0)),\"\")","v":2},{"$f":"IFERROR(INDEX('WINBUGS data'!$F$12:$AI$26,MATCH($C7,'WINBUGS data'!$F$12:$F$26,0),MATCH(\"t[,\"&H$4 &\"]\",'WINBUGS data'!$F$12:$AI$12,0)),\"\")","v":"NA"},{"$f":"IFERROR(INDEX('WINBUGS data'!$F$12:$AI$26,MATCH($C7,'WINBUGS data'!$F$12:$F$26,0),MATCH(\"t[,\"&I$4 &\"]\",'WINBUGS data'!$F$12:$AI$12,0)),\"\")","v":"NA"},{"$f":"IFERROR(INDEX('WINBUGS data'!$F$12:$AI$26,MATCH($C7,'WINBUGS data'!$F$12:$F$26,0),MATCH(\"t[,\"&J$4 &\"]\",'WINBUGS data'!$F$12:$AI$12,0)),\"\")","v":"NA"},{"$f":"IFERROR(INDEX('WINBUGS data'!$F$12:$AI$26,MATCH($C7,'WINBUGS data'!$F$12:$F$26,0),MATCH(\"t[,\"&K$4 &\"]\",'WINBUGS data'!$F$12:$AI$12,0)),\"\")","v":""},{"$f":"IFERROR(INDEX('WINBUGS data'!$F$12:$AI$26,MATCH($C7,'WINBUGS data'!$F$12:$F$26,0),MATCH(\"t[,\"&L$4 &\"]\",'WINBUGS data'!$F$12:$AI$12,0)),\"\")","v":""},{"$f":"IFERROR(INDEX('WINBUGS data'!$F$12:$AI$26,MATCH($C7,'WINBUGS data'!$F$12:$F$26,0),MATCH(\"t[,\"&M$4 &\"]\",'WINBUGS data'!$F$12:$AI$12,0)),\"\")","v":""},{"$f":"IFERROR(INDEX('WINBUGS data'!$F$12:$AI$26,MATCH($C7,'WINBUGS data'!$F$12:$F$26,0),MATCH(\"t[,\"&N$4 &\"]\",'WINBUGS data'!$F$12:$AI$12,0)),\"\")","v":""},{"$f":"IFERROR(INDEX('WINBUGS data'!$F$12:$AI$26,MATCH($C7,'WINBUGS data'!$F$12:$F$26,0),MATCH(\"t[,\"&O$4 &\"]\",'WINBUGS data'!$F$12:$AI$12,0)),\"\")","v":""},{"$f":"IFERROR(INDEX('WINBUGS data'!$F$12:$AI$26,MATCH($C7,'WINBUGS data'!$F$12:$F$26,0),MATCH(\"t[,\"&P$4 &\"]\",'WINBUGS data'!$F$12:$AI$12,0)),\"\")","v":""},{"$f":"IFERROR(INDEX('WINBUGS data'!$F$12:$AI$26,MATCH($C7,'WINBUGS data'!$F$12:$F$26,0),MATCH(\"t[,\"&Q$4 &\"]\",'WINBUGS data'!$F$12:$AI$12,0)),\"\")","v":""},{"$f":"IFERROR(INDEX('WINBUGS data'!$F$12:$AI$26,MATCH($C7,'WINBUGS data'!$F$12:$F$26,0),MATCH(\"t[,\"&R$4 &\"]\",'WINBUGS data'!$F$12:$AI$12,0)),\"\")","v":""},{"$f":"IFERROR(INDEX('WINBUGS data'!$F$12:$AI$26,MATCH($C7,'WINBUGS data'!$F$12:$F$26,0),MATCH(\"t[,\"&S$4 &\"]\",'WINBUGS data'!$F$12:$AI$12,0)),\"\")","v":""},{"$f":"IFERROR(INDEX('WINBUGS data'!$F$12:$AI$26,MATCH($C7,'WINBUGS data'!$F$12:$F$26,0),MATCH(\"t[,\"&T$4 &\"]\",'WINBUGS data'!$F$12:$AI$12,0)),\"\")","v":""}]
[null,null,{"$f":"IF('WINBUGS data'!F16<>\"\",'WINBUGS data'!F16,\"\")","v":4},{"$f":"IFERROR(INDEX('WINBUGS data'!$F$12:$AI$26,MATCH(C8,'WINBUGS data'!$F$12:$F$26,0),MATCH(\"na[]\",'WINBUGS data'!$F$12:$AI$12,0)),\"\")","v":2},"1,2",{"$f":"IFERROR(INDEX('WINBUGS data'!$F$12:$AI$26,MATCH($C8,'WINBUGS data'!$F$12:$F$26,0),MATCH(\"t[,\"&F$4 &\"]\",'WINBUGS data'!$F$12:$AI$12,0)),\"\")","v":1},{"$f":"IFERROR(INDEX('WINBUGS data'!$F$12:$AI$26,MATCH($C8,'WINBUGS data'!$F$12:$F$26,0),MATCH(\"t[,\"&G$4 &\"]\",'WINBUGS data'!$F$12:$AI$12,0)),\"\")","v":2},{"$f":"IFERROR(INDEX('WINBUGS data'!$F$12:$AI$26,MATCH($C8,'WINBUGS data'!$F$12:$F$26,0),MATCH(\"t[,\"&H$4 &\"]\",'WINBUGS data'!$F$12:$AI$12,0)),\"\")","v":"NA"},{"$f":"IFERROR(INDEX('WINBUGS data'!$F$12:$AI$26,MATCH($C8,'WINBUGS data'!$F$12:$F$26,0),MATCH(\"t[,\"&I$4 &\"]\",'WINBUGS data'!$F$12:$AI$12,0)),\"\")","v":"NA"},{"$f":"IFERROR(INDEX('WINBUGS data'!$F$12:$AI$26,MATCH($C8,'WINBUGS data'!$F$12:$F$26,0),MATCH(\"t[,\"&J$4 &\"]\",'WINBUGS data'!$F$12:$AI$12,0)),\"\")","v":"NA"},{"$f":"IFERROR(INDEX('WINBUGS data'!$F$12:$AI$26,MATCH($C8,'WINBUGS data'!$F$12:$F$26,0),MATCH(\"t[,\"&K$4 &\"]\",'WINBUGS data'!$F$12:$AI$12,0)),\"\")","v":""},{"$f":"IFERROR(INDEX('WINBUGS data'!$F$12:$AI$26,MATCH($C8,'WINBUGS data'!$F$12:$F$26,0),MATCH(\"t[,\"&L$4 &\"]\",'WINBUGS data'!$F$12:$AI$12,0)),\"\")","v":""},{"$f":"IFERROR(INDEX('WINBUGS data'!$F$12:$AI$26,MATCH($C8,'WINBUGS data'!$F$12:$F$26,0),MATCH(\"t[,\"&M$4 &\"]\",'WINBUGS data'!$F$12:$AI$12,0)),\"\")","v":""},{"$f":"IFERROR(INDEX('WINBUGS data'!$F$12:$AI$26,MATCH($C8,'WINBUGS data'!$F$12:$F$26,0),MATCH(\"t[,\"&N$4 &\"]\",'WINBUGS data'!$F$12:$AI$12,0)),\"\")","v":""},{"$f":"IFERROR(INDEX('WINBUGS data'!$F$12:$AI$26,MATCH($C8,'WINBUGS data'!$F$12:$F$26,0),MATCH(\"t[,\"&O$4 &\"]\",'WINBUGS data'!$F$12:$AI$12,0)),\"\")","v":""},{"$f":"IFERROR(INDEX('WINBUGS data'!$F$12:$AI$26,MATCH($C8,'WINBUGS data'!$F$12:$F$26,0),MATCH(\"t[,\"&P$4 &\"]\",'WINBUGS data'!$F$12:$AI$12,0)),\"\")","v":""},{"$f":"IFERROR(INDEX('WINBUGS data'!$F$12:$AI$26,MATCH($C8,'WINBUGS data'!$F$12:$F$26,0),MATCH(\"t[,\"&Q$4 &\"]\",'WINBUGS data'!$F$12:$AI$12,0)),\"\")","v":""},{"$f":"IFERROR(INDEX('WINBUGS data'!$F$12:$AI$26,MATCH($C8,'WINBUGS data'!$F$12:$F$26,0),MATCH(\"t[,\"&R$4 &\"]\",'WINBUGS data'!$F$12:$AI$12,0)),\"\")","v":""},{"$f":"IFERROR(INDEX('WINBUGS data'!$F$12:$AI$26,MATCH($C8,'WINBUGS data'!$F$12:$F$26,0),MATCH(\"t[,\"&S$4 &\"]\",'WINBUGS data'!$F$12:$AI$12,0)),\"\")","v":""},{"$f":"IFERROR(INDEX('WINBUGS data'!$F$12:$AI$26,MATCH($C8,'WINBUGS data'!$F$12:$F$26,0),MATCH(\"t[,\"&T$4 &\"]\",'WINBUGS data'!$F$12:$AI$12,0)),\"\")","v":""}]
[null,null,{"$f":"IF('WINBUGS data'!F17<>\"\",'WINBUGS data'!F17,\"\")","v":5},{"$f":"IFERROR(INDEX('WINBUGS data'!$F$12:$AI$26,MATCH(C9,'WINBUGS data'!$F$12:$F$26,0),MATCH(\"na[]\",'WINBUGS data'!$F$12:$AI$12,0)),\"\")","v":3},"1,3,5",{"$f":"IFERROR(INDEX('WINBUGS data'!$F$12:$AI$26,MATCH($C9,'WINBUGS data'!$F$12:$F$26,0),MATCH(\"t[,\"&F$4 &\"]\",'WINBUGS data'!$F$12:$AI$12,0)),\"\")","v":1},{"$f":"IFERROR(INDEX('WINBUGS data'!$F$12:$AI$26,MATCH($C9,'WINBUGS data'!$F$12:$F$26,0),MATCH(\"t[,\"&G$4 &\"]\",'WINBUGS data'!$F$12:$AI$12,0)),\"\")","v":3},{"$f":"IFERROR(INDEX('WINBUGS data'!$F$12:$AI$26,MATCH($C9,'WINBUGS data'!$F$12:$F$26,0),MATCH(\"t[,\"&H$4 &\"]\",'WINBUGS data'!$F$12:$AI$12,0)),\"\")","v":5},{"$f":"IFERROR(INDEX('WINBUGS data'!$F$12:$AI$26,MATCH($C9,'WINBUGS data'!$F$12:$F$26,0),MATCH(\"t[,\"&I$4 &\"]\",'WINBUGS data'!$F$12:$AI$12,0)),\"\")","v":"NA"},{"$f":"IFERROR(INDEX('WINBUGS data'!$F$12:$AI$26,MATCH($C9,'WINBUGS data'!$F$12:$F$26,0),MATCH(\"t[,\"&J$4 &\"]\",'WINBUGS data'!$F$12:$AI$12,0)),\"\")","v":"NA"},{"$f":"IFERROR(INDEX('WINBUGS data'!$F$12:$AI$26,MATCH($C9,'WINBUGS data'!$F$12:$F$26,0),MATCH(\"t[,\"&K$4 &\"]\",'WINBUGS data'!$F$12:$AI$12,0)),\"\")","v":""},{"$f":"IFERROR(INDEX('WINBUGS data'!$F$12:$AI$26,MATCH($C9,'WINBUGS data'!$F$12:$F$26,0),MATCH(\"t[,\"&L$4 &\"]\",'WINBUGS data'!$F$12:$AI$12,0)),\"\")","v":""},{"$f":"IFERROR(INDEX('WINBUGS data'!$F$12:$AI$26,MATCH($C9,'WINBUGS data'!$F$12:$F$26,0),MATCH(\"t[,\"&M$4 &\"]\",'WINBUGS data'!$F$12:$AI$12,0)),\"\")","v":""},{"$f":"IFERROR(INDEX('WINBUGS data'!$F$12:$AI$26,MATCH($C9,'WINBUGS data'!$F$12:$F$26,0),MATCH(\"t[,\"&N$4 &\"]\",'WINBUGS data'!$F$12:$AI$12,0)),\"\")","v":""},{"$f":"IFERROR(INDEX('WINBUGS data'!$F$12:$AI$26,MATCH($C9,'WINBUGS data'!$F$12:$F$26,0),MATCH(\"t[,\"&O$4 &\"]\",'WINBUGS data'!$F$12:$AI$12,0)),\"\")","v":""},{"$f":"IFERROR(INDEX('WINBUGS data'!$F$12:$AI$26,MATCH($C9,'WINBUGS data'!$F$12:$F$26,0),MATCH(\"t[,\"&P$4 &\"]\",'WINBUGS data'!$F$12:$AI$12,0)),\"\")","v":""},{"$f":"IFERROR(INDEX('WINBUGS data'!$F$12:$AI$26,MATCH($C9,'WINBUGS data'!$F$12:$F$26,0),MATCH(\"t[,\"&Q$4 &\"]\",'WINBUGS data'!$F$12:$AI$12,0)),\"\")","v":""},{"$f":"IFERROR(INDEX('WINBUGS data'!$F$12:$AI$26,MATCH($C9,'WINBUGS data'!$F$12:$F$26,0),MATCH(\"t[,\"&R$4 &\"]\",'WINBUGS data'!$F$12:$AI$12,0)),\"\")","v":""},{"$f":"IFERROR(INDEX('WINBUGS data'!$F$12:$AI$26,MATCH($C9,'WINBUGS data'!$F$12:$F$26,0),MATCH(\"t[,\"&S$4 &\"]\",'WINBUGS data'!$F$12:$AI$12,0)),\"\")","v":""},{"$f":"IFERROR(INDEX('WINBUGS data'!$F$12:$AI$26,MATCH($C9,'WINBUGS data'!$F$12:$F$26,0),MATCH(\"t[,\"&T$4 &\"]\",'WINBUGS data'!$F$12:$AI$12,0)),\"\")","v":""}]
[null,null,{"$f":"IF('WINBUGS data'!F18<>\"\",'WINBUGS data'!F18,\"\")","v":6},{"$f":"IFERROR(INDEX('WINBUGS data'!$F$12:$AI$26,MATCH(C10,'WINBUGS data'!$F$12:$F$26,0),MATCH(\"na[]\",'WINBUGS data'!$F$12:$AI$12,0)),\"\")","v":2},"1,3",{"$f":"IFERROR(INDEX('WINBUGS data'!$F$12:$AI$26,MATCH($C10,'WINBUGS data'!$F$12:$F$26,0),MATCH(\"t[,\"&F$4 &\"]\",'WINBUGS data'!$F$12:$AI$12,0)),\"\")","v":1},{"$f":"IFERROR(INDEX('WINBUGS data'!$F$12:$AI$26,MATCH($C10,'WINBUGS data'!$F$12:$F$26,0),MATCH(\"t[,\"&G$4 &\"]\",'WINBUGS data'!$F$12:$AI$12,0)),\"\")","v":3},{"$f":"IFERROR(INDEX('WINBUGS data'!$F$12:$AI$26,MATCH($C10,'WINBUGS data'!$F$12:$F$26,0),MATCH(\"t[,\"&H$4 &\"]\",'WINBUGS data'!$F$12:$AI$12,0)),\"\")","v":"NA"},{"$f":"IFERROR(INDEX('WINBUGS data'!$F$12:$AI$26,MATCH($C10,'WINBUGS data'!$F$12:$F$26,0),MATCH(\"t[,\"&I$4 &\"]\",'WINBUGS data'!$F$12:$AI$12,0)),\"\")","v":"NA"},{"$f":"IFERROR(INDEX('WINBUGS data'!$F$12:$AI$26,MATCH($C10,'WINBUGS data'!$F$12:$F$26,0),MATCH(\"t[,\"&J$4 &\"]\",'WINBUGS data'!$F$12:$AI$12,0)),\"\")","v":"NA"},{"$f":"IFERROR(INDEX('WINBUGS data'!$F$12:$AI$26,MATCH($C10,'WINBUGS data'!$F$12:$F$26,0),MATCH(\"t[,\"&K$4 &\"]\",'WINBUGS data'!$F$12:$AI$12,0)),\"\")","v":""},{"$f":"IFERROR(INDEX('WINBUGS data'!$F$12:$AI$26,MATCH($C10,'WINBUGS data'!$F$12:$F$26,0),MATCH(\"t[,\"&L$4 &\"]\",'WINBUGS data'!$F$12:$AI$12,0)),\"\")","v":""},{"$f":"IFERROR(INDEX('WINBUGS data'!$F$12:$AI$26,MATCH($C10,'WINBUGS data'!$F$12:$F$26,0),MATCH(\"t[,\"&M$4 &\"]\",'WINBUGS data'!$F$12:$AI$12,0)),\"\")","v":""},{"$f":"IFERROR(INDEX('WINBUGS data'!$F$12:$AI$26,MATCH($C10,'WINBUGS data'!$F$12:$F$26,0),MATCH(\"t[,\"&N$4 &\"]\",'WINBUGS data'!$F$12:$AI$12,0)),\"\")","v":""},{"$f":"IFERROR(INDEX('WINBUGS data'!$F$12:$AI$26,MATCH($C10,'WINBUGS data'!$F$12:$F$26,0),MATCH(\"t[,\"&O$4 &\"]\",'WINBUGS data'!$F$12:$AI$12,0)),\"\")","v":""},{"$f":"IFERROR(INDEX('WINBUGS data'!$F$12:$AI$26,MATCH($C10,'WINBUGS data'!$F$12:$F$26,0),MATCH(\"t[,\"&P$4 &\"]\",'WINBUGS data'!$F$12:$AI$12,0)),\"\")","v":""},{"$f":"IFERROR(INDEX('WINBUGS data'!$F$12:$AI$26,MATCH($C10,'WINBUGS data'!$F$12:$F$26,0),MATCH(\"t[,\"&Q$4 &\"]\",'WINBUGS data'!$F$12:$AI$12,0)),\"\")","v":""},{"$f":"IFERROR(INDEX('WINBUGS data'!$F$12:$AI$26,MATCH($C10,'WINBUGS data'!$F$12:$F$26,0),MATCH(\"t[,\"&R$4 &\"]\",'WINBUGS data'!$F$12:$AI$12,0)),\"\")","v":""},{"$f":"IFERROR(INDEX('WINBUGS data'!$F$12:$AI$26,MATCH($C10,'WINBUGS data'!$F$12:$F$26,0),MATCH(\"t[,\"&S$4 &\"]\",'WINBUGS data'!$F$12:$AI$12,0)),\"\")","v":""},{"$f":"IFERROR(INDEX('WINBUGS data'!$F$12:$AI$26,MATCH($C10,'WINBUGS data'!$F$12:$F$26,0),MATCH(\"t[,\"&T$4 &\"]\",'WINBUGS data'!$F$12:$AI$12,0)),\"\")","v":""}]
[null,null,{"$f":"IF('WINBUGS data'!F19<>\"\",'WINBUGS data'!F19,\"\")","v":7},{"$f":"IFERROR(INDEX('WINBUGS data'!$F$12:$AI$26,MATCH(C11,'WINBUGS data'!$F$12:$F$26,0),MATCH(\"na[]\",'WINBUGS data'!$F$12:$AI$12,0)),\"\")","v":2},"1,3",{"$f":"IFERROR(INDEX('WINBUGS data'!$F$12:$AI$26,MATCH($C11,'WINBUGS data'!$F$12:$F$26,0),MATCH(\"t[,\"&F$4 &\"]\",'WINBUGS data'!$F$12:$AI$12,0)),\"\")","v":1},{"$f":"IFERROR(INDEX('WINBUGS data'!$F$12:$AI$26,MATCH($C11,'WINBUGS data'!$F$12:$F$26,0),MATCH(\"t[,\"&G$4 &\"]\",'WINBUGS data'!$F$12:$AI$12,0)),\"\")","v":3},{"$f":"IFERROR(INDEX('WINBUGS data'!$F$12:$AI$26,MATCH($C11,'WINBUGS data'!$F$12:$F$26,0),MATCH(\"t[,\"&H$4 &\"]\",'WINBUGS data'!$F$12:$AI$12,0)),\"\")","v":"NA"},{"$f":"IFERROR(INDEX('WINBUGS data'!$F$12:$AI$26,MATCH($C11,'WINBUGS data'!$F$12:$F$26,0),MATCH(\"t[,\"&I$4 &\"]\",'WINBUGS data'!$F$12:$AI$12,0)),\"\")","v":"NA"},{"$f":"IFERROR(INDEX('WINBUGS data'!$F$12:$AI$26,MATCH($C11,'WINBUGS data'!$F$12:$F$26,0),MATCH(\"t[,\"&J$4 &\"]\",'WINBUGS data'!$F$12:$AI$12,0)),\"\")","v":"NA"},{"$f":"IFERROR(INDEX('WINBUGS data'!$F$12:$AI$26,MATCH($C11,'WINBUGS data'!$F$12:$F$26,0),MATCH(\"t[,\"&K$4 &\"]\",'WINBUGS data'!$F$12:$AI$12,0)),\"\")","v":""},{"$f":"IFERROR(INDEX('WINBUGS data'!$F$12:$AI$26,MATCH($C11,'WINBUGS data'!$F$12:$F$26,0),MATCH(\"t[,\"&L$4 &\"]\",'WINBUGS data'!$F$12:$AI$12,0)),\"\")","v":""},{"$f":"IFERROR(INDEX('WINBUGS data'!$F$12:$AI$26,MATCH($C11,'WINBUGS data'!$F$12:$F$26,0),MATCH(\"t[,\"&M$4 &\"]\",'WINBUGS data'!$F$12:$AI$12,0)),\"\")","v":""},{"$f":"IFERROR(INDEX('WINBUGS data'!$F$12:$AI$26,MATCH($C11,'WINBUGS data'!$F$12:$F$26,0),MATCH(\"t[,\"&N$4 &\"]\",'WINBUGS data'!$F$12:$AI$12,0)),\"\")","v":""},{"$f":"IFERROR(INDEX('WINBUGS data'!$F$12:$AI$26,MATCH($C11,'WINBUGS data'!$F$12:$F$26,0),MATCH(\"t[,\"&O$4 &\"]\",'WINBUGS data'!$F$12:$AI$12,0)),\"\")","v":""},{"$f":"IFERROR(INDEX('WINBUGS data'!$F$12:$AI$26,MATCH($C11,'WINBUGS data'!$F$12:$F$26,0),MATCH(\"t[,\"&P$4 &\"]\",'WINBUGS data'!$F$12:$AI$12,0)),\"\")","v":""},{"$f":"IFERROR(INDEX('WINBUGS data'!$F$12:$AI$26,MATCH($C11,'WINBUGS data'!$F$12:$F$26,0),MATCH(\"t[,\"&Q$4 &\"]\",'WINBUGS data'!$F$12:$AI$12,0)),\"\")","v":""},{"$f":"IFERROR(INDEX('WINBUGS data'!$F$12:$AI$26,MATCH($C11,'WINBUGS data'!$F$12:$F$26,0),MATCH(\"t[,\"&R$4 &\"]\",'WINBUGS data'!$F$12:$AI$12,0)),\"\")","v":""},{"$f":"IFERROR(INDEX('WINBUGS data'!$F$12:$AI$26,MATCH($C11,'WINBUGS data'!$F$12:$F$26,0),MATCH(\"t[,\"&S$4 &\"]\",'WINBUGS data'!$F$12:$AI$12,0)),\"\")","v":""},{"$f":"IFERROR(INDEX('WINBUGS data'!$F$12:$AI$26,MATCH($C11,'WINBUGS data'!$F$12:$F$26,0),MATCH(\"t[,\"&T$4 &\"]\",'WINBUGS data'!$F$12:$AI$12,0)),\"\")","v":""}]
[null,null,{"$f":"IF('WINBUGS data'!F20<>\"\",'WINBUGS data'!F20,\"\")","v":8},{"$f":"IFERROR(INDEX('WINBUGS data'!$F$12:$AI$26,MATCH(C12,'WINBUGS data'!$F$12:$F$26,0),MATCH(\"na[]\",'WINBUGS data'!$F$12:$AI$12,0)),\"\")","v":2},"1,3",{"$f":"IFERROR(INDEX('WINBUGS data'!$F$12:$AI$26,MATCH($C12,'WINBUGS data'!$F$12:$F$26,0),MATCH(\"t[,\"&F$4 &\"]\",'WINBUGS data'!$F$12:$AI$12,0)),\"\")","v":1},{"$f":"IFERROR(INDEX('WINBUGS data'!$F$12:$AI$26,MATCH($C12,'WINBUGS data'!$F$12:$F$26,0),MATCH(\"t[,\"&G$4 &\"]\",'WINBUGS data'!$F$12:$AI$12,0)),\"\")","v":3},{"$f":"IFERROR(INDEX('WINBUGS data'!$F$12:$AI$26,MATCH($C12,'WINBUGS data'!$F$12:$F$26,0),MATCH(\"t[,\"&H$4 &\"]\",'WINBUGS data'!$F$12:$AI$12,0)),\"\")","v":"NA"},{"$f":"IFERROR(INDEX('WINBUGS data'!$F$12:$AI$26,MATCH($C12,'WINBUGS data'!$F$12:$F$26,0),MATCH(\"t[,\"&I$4 &\"]\",'WINBUGS data'!$F$12:$AI$12,0)),\"\")","v":"NA"},{"$f":"IFERROR(INDEX('WINBUGS data'!$F$12:$AI$26,MATCH($C12,'WINBUGS data'!$F$12:$F$26,0),MATCH(\"t[,\"&J$4 &\"]\",'WINBUGS data'!$F$12:$AI$12,0)),\"\")","v":"NA"},{"$f":"IFERROR(INDEX('WINBUGS data'!$F$12:$AI$26,MATCH($C12,'WINBUGS data'!$F$12:$F$26,0),MATCH(\"t[,\"&K$4 &\"]\",'WINBUGS data'!$F$12:$AI$12,0)),\"\")","v":""},{"$f":"IFERROR(INDEX('WINBUGS data'!$F$12:$AI$26,MATCH($C12,'WINBUGS data'!$F$12:$F$26,0),MATCH(\"t[,\"&L$4 &\"]\",'WINBUGS data'!$F$12:$AI$12,0)),\"\")","v":""},{"$f":"IFERROR(INDEX('WINBUGS data'!$F$12:$AI$26,MATCH($C12,'WINBUGS data'!$F$12:$F$26,0),MATCH(\"t[,\"&M$4 &\"]\",'WINBUGS data'!$F$12:$AI$12,0)),\"\")","v":""},{"$f":"IFERROR(INDEX('WINBUGS data'!$F$12:$AI$26,MATCH($C12,'WINBUGS data'!$F$12:$F$26,0),MATCH(\"t[,\"&N$4 &\"]\",'WINBUGS data'!$F$12:$AI$12,0)),\"\")","v":""},{"$f":"IFERROR(INDEX('WINBUGS data'!$F$12:$AI$26,MATCH($C12,'WINBUGS data'!$F$12:$F$26,0),MATCH(\"t[,\"&O$4 &\"]\",'WINBUGS data'!$F$12:$AI$12,0)),\"\")","v":""},{"$f":"IFERROR(INDEX('WINBUGS data'!$F$12:$AI$26,MATCH($C12,'WINBUGS data'!$F$12:$F$26,0),MATCH(\"t[,\"&P$4 &\"]\",'WINBUGS data'!$F$12:$AI$12,0)),\"\")","v":""},{"$f":"IFERROR(INDEX('WINBUGS data'!$F$12:$AI$26,MATCH($C12,'WINBUGS data'!$F$12:$F$26,0),MATCH(\"t[,\"&Q$4 &\"]\",'WINBUGS data'!$F$12:$AI$12,0)),\"\")","v":""},{"$f":"IFERROR(INDEX('WINBUGS data'!$F$12:$AI$26,MATCH($C12,'WINBUGS data'!$F$12:$F$26,0),MATCH(\"t[,\"&R$4 &\"]\",'WINBUGS data'!$F$12:$AI$12,0)),\"\")","v":""},{"$f":"IFERROR(INDEX('WINBUGS data'!$F$12:$AI$26,MATCH($C12,'WINBUGS data'!$F$12:$F$26,0),MATCH(\"t[,\"&S$4 &\"]\",'WINBUGS data'!$F$12:$AI$12,0)),\"\")","v":""},{"$f":"IFERROR(INDEX('WINBUGS data'!$F$12:$AI$26,MATCH($C12,'WINBUGS data'!$F$12:$F$26,0),MATCH(\"t[,\"&T$4 &\"]\",'WINBUGS data'!$F$12:$AI$12,0)),\"\")","v":""}]
[null,null,{"$f":"IF('WINBUGS data'!F21<>\"\",'WINBUGS data'!F21,\"\")","v":9},{"$f":"IFERROR(INDEX('WINBUGS data'!$F$12:$AI$26,MATCH(C13,'WINBUGS data'!$F$12:$F$26,0),MATCH(\"na[]\",'WINBUGS data'!$F$12:$AI$12,0)),\"\")","v":2},"3,4",{"$f":"IFERROR(INDEX('WINBUGS data'!$F$12:$AI$26,MATCH($C13,'WINBUGS data'!$F$12:$F$26,0),MATCH(\"t[,\"&F$4 &\"]\",'WINBUGS data'!$F$12:$AI$12,0)),\"\")","v":3},{"$f":"IFERROR(INDEX('WINBUGS data'!$F$12:$AI$26,MATCH($C13,'WINBUGS data'!$F$12:$F$26,0),MATCH(\"t[,\"&G$4 &\"]\",'WINBUGS data'!$F$12:$AI$12,0)),\"\")","v":4},{"$f":"IFERROR(INDEX('WINBUGS data'!$F$12:$AI$26,MATCH($C13,'WINBUGS data'!$F$12:$F$26,0),MATCH(\"t[,\"&H$4 &\"]\",'WINBUGS data'!$F$12:$AI$12,0)),\"\")","v":"NA"},{"$f":"IFERROR(INDEX('WINBUGS data'!$F$12:$AI$26,MATCH($C13,'WINBUGS data'!$F$12:$F$26,0),MATCH(\"t[,\"&I$4 &\"]\",'WINBUGS data'!$F$12:$AI$12,0)),\"\")","v":"NA"},{"$f":"IFERROR(INDEX('WINBUGS data'!$F$12:$AI$26,MATCH($C13,'WINBUGS data'!$F$12:$F$26,0),MATCH(\"t[,\"&J$4 &\"]\",'WINBUGS data'!$F$12:$AI$12,0)),\"\")","v":"NA"},{"$f":"IFERROR(INDEX('WINBUGS data'!$F$12:$AI$26,MATCH($C13,'WINBUGS data'!$F$12:$F$26,0),MATCH(\"t[,\"&K$4 &\"]\",'WINBUGS data'!$F$12:$AI$12,0)),\"\")","v":""},{"$f":"IFERROR(INDEX('WINBUGS data'!$F$12:$AI$26,MATCH($C13,'WINBUGS data'!$F$12:$F$26,0),MATCH(\"t[,\"&L$4 &\"]\",'WINBUGS data'!$F$12:$AI$12,0)),\"\")","v":""},{"$f":"IFERROR(INDEX('WINBUGS data'!$F$12:$AI$26,MATCH($C13,'WINBUGS data'!$F$12:$F$26,0),MATCH(\"t[,\"&M$4 &\"]\",'WINBUGS data'!$F$12:$AI$12,0)),\"\")","v":""},{"$f":"IFERROR(INDEX('WINBUGS data'!$F$12:$AI$26,MATCH($C13,'WINBUGS data'!$F$12:$F$26,0),MATCH(\"t[,\"&N$4 &\"]\",'WINBUGS data'!$F$12:$AI$12,0)),\"\")","v":""},{"$f":"IFERROR(INDEX('WINBUGS data'!$F$12:$AI$26,MATCH($C13,'WINBUGS data'!$F$12:$F$26,0),MATCH(\"t[,\"&O$4 &\"]\",'WINBUGS data'!$F$12:$AI$12,0)),\"\")","v":""},{"$f":"IFERROR(INDEX('WINBUGS data'!$F$12:$AI$26,MATCH($C13,'WINBUGS data'!$F$12:$F$26,0),MATCH(\"t[,\"&P$4 &\"]\",'WINBUGS data'!$F$12:$AI$12,0)),\"\")","v":""},{"$f":"IFERROR(INDEX('WINBUGS data'!$F$12:$AI$26,MATCH($C13,'WINBUGS data'!$F$12:$F$26,0),MATCH(\"t[,\"&Q$4 &\"]\",'WINBUGS data'!$F$12:$AI$12,0)),\"\")","v":""},{"$f":"IFERROR(INDEX('WINBUGS data'!$F$12:$AI$26,MATCH($C13,'WINBUGS data'!$F$12:$F$26,0),MATCH(\"t[,\"&R$4 &\"]\",'WINBUGS data'!$F$12:$AI$12,0)),\"\")","v":""},{"$f":"IFERROR(INDEX('WINBUGS data'!$F$12:$AI$26,MATCH($C13,'WINBUGS data'!$F$12:$F$26,0),MATCH(\"t[,\"&S$4 &\"]\",'WINBUGS data'!$F$12:$AI$12,0)),\"\")","v":""},{"$f":"IFERROR(INDEX('WINBUGS data'!$F$12:$AI$26,MATCH($C13,'WINBUGS data'!$F$12:$F$26,0),MATCH(\"t[,\"&T$4 &\"]\",'WINBUGS data'!$F$12:$AI$12,0)),\"\")","v":""}]
[null,null,{"$f":"IF('WINBUGS data'!F22<>\"\",'WINBUGS data'!F22,\"\")","v":10},{"$f":"IFERROR(INDEX('WINBUGS data'!$F$12:$AI$26,MATCH(C14,'WINBUGS data'!$F$12:$F$26,0),MATCH(\"na[]\",'WINBUGS data'!$F$12:$AI$12,0)),\"\")","v":2},"3,4",{"$f":"IFERROR(INDEX('WINBUGS data'!$F$12:$AI$26,MATCH($C14,'WINBUGS data'!$F$12:$F$26,0),MATCH(\"t[,\"&F$4 &\"]\",'WINBUGS data'!$F$12:$AI$12,0)),\"\")","v":3},{"$f":"IFERROR(INDEX('WINBUGS data'!$F$12:$AI$26,MATCH($C14,'WINBUGS data'!$F$12:$F$26,0),MATCH(\"t[,\"&G$4 &\"]\",'WINBUGS data'!$F$12:$AI$12,0)),\"\")","v":4},{"$f":"IFERROR(INDEX('WINBUGS data'!$F$12:$AI$26,MATCH($C14,'WINBUGS data'!$F$12:$F$26,0),MATCH(\"t[,\"&H$4 &\"]\",'WINBUGS data'!$F$12:$AI$12,0)),\"\")","v":"NA"},{"$f":"IFERROR(INDEX('WINBUGS data'!$F$12:$AI$26,MATCH($C14,'WINBUGS data'!$F$12:$F$26,0),MATCH(\"t[,\"&I$4 &\"]\",'WINBUGS data'!$F$12:$AI$12,0)),\"\")","v":"NA"},{"$f":"IFERROR(INDEX('WINBUGS data'!$F$12:$AI$26,MATCH($C14,'WINBUGS data'!$F$12:$F$26,0),MATCH(\"t[,\"&J$4 &\"]\",'WINBUGS data'!$F$12:$AI$12,0)),\"\")","v":"NA"},{"$f":"IFERROR(INDEX('WINBUGS data'!$F$12:$AI$26,MATCH($C14,'WINBUGS data'!$F$12:$F$26,0),MATCH(\"t[,\"&K$4 &\"]\",'WINBUGS data'!$F$12:$AI$12,0)),\"\")","v":""},{"$f":"IFERROR(INDEX('WINBUGS data'!$F$12:$AI$26,MATCH($C14,'WINBUGS data'!$F$12:$F$26,0),MATCH(\"t[,\"&L$4 &\"]\",'WINBUGS data'!$F$12:$AI$12,0)),\"\")","v":""},{"$f":"IFERROR(INDEX('WINBUGS data'!$F$12:$AI$26,MATCH($C14,'WINBUGS data'!$F$12:$F$26,0),MATCH(\"t[,\"&M$4 &\"]\",'WINBUGS data'!$F$12:$AI$12,0)),\"\")","v":""},{"$f":"IFERROR(INDEX('WINBUGS data'!$F$12:$AI$26,MATCH($C14,'WINBUGS data'!$F$12:$F$26,0),MATCH(\"t[,\"&N$4 &\"]\",'WINBUGS data'!$F$12:$AI$12,0)),\"\")","v":""},{"$f":"IFERROR(INDEX('WINBUGS data'!$F$12:$AI$26,MATCH($C14,'WINBUGS data'!$F$12:$F$26,0),MATCH(\"t[,\"&O$4 &\"]\",'WINBUGS data'!$F$12:$AI$12,0)),\"\")","v":""},{"$f":"IFERROR(INDEX('WINBUGS data'!$F$12:$AI$26,MATCH($C14,'WINBUGS data'!$F$12:$F$26,0),MATCH(\"t[,\"&P$4 &\"]\",'WINBUGS data'!$F$12:$AI$12,0)),\"\")","v":""},{"$f":"IFERROR(INDEX('WINBUGS data'!$F$12:$AI$26,MATCH($C14,'WINBUGS data'!$F$12:$F$26,0),MATCH(\"t[,\"&Q$4 &\"]\",'WINBUGS data'!$F$12:$AI$12,0)),\"\")","v":""},{"$f":"IFERROR(INDEX('WINBUGS data'!$F$12:$AI$26,MATCH($C14,'WINBUGS data'!$F$12:$F$26,0),MATCH(\"t[,\"&R$4 &\"]\",'WINBUGS data'!$F$12:$AI$12,0)),\"\")","v":""},{"$f":"IFERROR(INDEX('WINBUGS data'!$F$12:$AI$26,MATCH($C14,'WINBUGS data'!$F$12:$F$26,0),MATCH(\"t[,\"&S$4 &\"]\",'WINBUGS data'!$F$12:$AI$12,0)),\"\")","v":""},{"$f":"IFERROR(INDEX('WINBUGS data'!$F$12:$AI$26,MATCH($C14,'WINBUGS data'!$F$12:$F$26,0),MATCH(\"t[,\"&T$4 &\"]\",'WINBUGS data'!$F$12:$AI$12,0)),\"\")","v":""}]
[null,null,{"$f":"IF('WINBUGS data'!F23<>\"\",'WINBUGS data'!F23,\"\")","v":11},{"$f":"IFERROR(INDEX('WINBUGS data'!$F$12:$AI$26,MATCH(C15,'WINBUGS data'!$F$12:$F$26,0),MATCH(\"na[]\",'WINBUGS data'!$F$12:$AI$12,0)),\"\")","v":2},"3,4",{"$f":"IFERROR(INDEX('WINBUGS data'!$F$12:$AI$26,MATCH($C15,'WINBUGS data'!$F$12:$F$26,0),MATCH(\"t[,\"&F$4 &\"]\",'WINBUGS data'!$F$12:$AI$12,0)),\"\")","v":3},{"$f":"IFERROR(INDEX('WINBUGS data'!$F$12:$AI$26,MATCH($C15,'WINBUGS data'!$F$12:$F$26,0),MATCH(\"t[,\"&G$4 &\"]\",'WINBUGS data'!$F$12:$AI$12,0)),\"\")","v":4},{"$f":"IFERROR(INDEX('WINBUGS data'!$F$12:$AI$26,MATCH($C15,'WINBUGS data'!$F$12:$F$26,0),MATCH(\"t[,\"&H$4 &\"]\",'WINBUGS data'!$F$12:$AI$12,0)),\"\")","v":"NA"},{"$f":"IFERROR(INDEX('WINBUGS data'!$F$12:$AI$26,MATCH($C15,'WINBUGS data'!$F$12:$F$26,0),MATCH(\"t[,\"&I$4 &\"]\",'WINBUGS data'!$F$12:$AI$12,0)),\"\")","v":"NA"},{"$f":"IFERROR(INDEX('WINBUGS data'!$F$12:$AI$26,MATCH($C15,'WINBUGS data'!$F$12:$F$26,0),MATCH(\"t[,\"&J$4 &\"]\",'WINBUGS data'!$F$12:$AI$12,0)),\"\")","v":"NA"},{"$f":"IFERROR(INDEX('WINBUGS data'!$F$12:$AI$26,MATCH($C15,'WINBUGS data'!$F$12:$F$26,0),MATCH(\"t[,\"&K$4 &\"]\",'WINBUGS data'!$F$12:$AI$12,0)),\"\")","v":""},{"$f":"IFERROR(INDEX('WINBUGS data'!$F$12:$AI$26,MATCH($C15,'WINBUGS data'!$F$12:$F$26,0),MATCH(\"t[,\"&L$4 &\"]\",'WINBUGS data'!$F$12:$AI$12,0)),\"\")","v":""},{"$f":"IFERROR(INDEX('WINBUGS data'!$F$12:$AI$26,MATCH($C15,'WINBUGS data'!$F$12:$F$26,0),MATCH(\"t[,\"&M$4 &\"]\",'WINBUGS data'!$F$12:$AI$12,0)),\"\")","v":""},{"$f":"IFERROR(INDEX('WINBUGS data'!$F$12:$AI$26,MATCH($C15,'WINBUGS data'!$F$12:$F$26,0),MATCH(\"t[,\"&N$4 &\"]\",'WINBUGS data'!$F$12:$AI$12,0)),\"\")","v":""},{"$f":"IFERROR(INDEX('WINBUGS data'!$F$12:$AI$26,MATCH($C15,'WINBUGS data'!$F$12:$F$26,0),MATCH(\"t[,\"&O$4 &\"]\",'WINBUGS data'!$F$12:$AI$12,0)),\"\")","v":""},{"$f":"IFERROR(INDEX('WINBUGS data'!$F$12:$AI$26,MATCH($C15,'WINBUGS data'!$F$12:$F$26,0),MATCH(\"t[,\"&P$4 &\"]\",'WINBUGS data'!$F$12:$AI$12,0)),\"\")","v":""},{"$f":"IFERROR(INDEX('WINBUGS data'!$F$12:$AI$26,MATCH($C15,'WINBUGS data'!$F$12:$F$26,0),MATCH(\"t[,\"&Q$4 &\"]\",'WINBUGS data'!$F$12:$AI$12,0)),\"\")","v":""},{"$f":"IFERROR(INDEX('WINBUGS data'!$F$12:$AI$26,MATCH($C15,'WINBUGS data'!$F$12:$F$26,0),MATCH(\"t[,\"&R$4 &\"]\",'WINBUGS data'!$F$12:$AI$12,0)),\"\")","v":""},{"$f":"IFERROR(INDEX('WINBUGS data'!$F$12:$AI$26,MATCH($C15,'WINBUGS data'!$F$12:$F$26,0),MATCH(\"t[,\"&S$4 &\"]\",'WINBUGS data'!$F$12:$AI$12,0)),\"\")","v":""},{"$f":"IFERROR(INDEX('WINBUGS data'!$F$12:$AI$26,MATCH($C15,'WINBUGS data'!$F$12:$F$26,0),MATCH(\"t[,\"&T$4 &\"]\",'WINBUGS data'!$F$12:$AI$12,0)),\"\")","v":""}]
[null,{"$f":"IFERROR(INDEX(list,MATCH(0,COUNTIF($E$5:E16,list),0)),\"\")","v":""},{"$f":"IF('WINBUGS data'!F24<>\"\",'WINBUGS data'!F24,\"\")","v":12},{"$f":"IFERROR(INDEX('WINBUGS data'!$F$12:$AI$26,MATCH(C16,'WINBUGS data'!$F$12:$F$26,0),MATCH(\"na[]\",'WINBUGS data'!$F$12:$AI$12,0)),\"\")","v":2},"3,5",{"$f":"IFERROR(INDEX('WINBUGS data'!$F$12:$AI$26,MATCH($C16,'WINBUGS data'!$F$12:$F$26,0),MATCH(\"t[,\"&F$4 &\"]\",'WINBUGS data'!$F$12:$AI$12,0)),\"\")","v":3},{"$f":"IFERROR(INDEX('WINBUGS data'!$F$12:$AI$26,MATCH($C16,'WINBUGS data'!$F$12:$F$26,0),MATCH(\"t[,\"&G$4 &\"]\",'WINBUGS data'!$F$12:$AI$12,0)),\"\")","v":5},{"$f":"IFERROR(INDEX('WINBUGS data'!$F$12:$AI$26,MATCH($C16,'WINBUGS data'!$F$12:$F$26,0),MATCH(\"t[,\"&H$4 &\"]\",'WINBUGS data'!$F$12:$AI$12,0)),\"\")","v":"NA"},{"$f":"IFERROR(INDEX('WINBUGS data'!$F$12:$AI$26,MATCH($C16,'WINBUGS data'!$F$12:$F$26,0),MATCH(\"t[,\"&I$4 &\"]\",'WINBUGS data'!$F$12:$AI$12,0)),\"\")","v":"NA"},{"$f":"IFERROR(INDEX('WINBUGS data'!$F$12:$AI$26,MATCH($C16,'WINBUGS data'!$F$12:$F$26,0),MATCH(\"t[,\"&J$4 &\"]\",'WINBUGS data'!$F$12:$AI$12,0)),\"\")","v":"NA"},{"$f":"IFERROR(INDEX('WINBUGS data'!$F$12:$AI$26,MATCH($C16,'WINBUGS data'!$F$12:$F$26,0),MATCH(\"t[,\"&K$4 &\"]\",'WINBUGS data'!$F$12:$AI$12,0)),\"\")","v":""},{"$f":"IFERROR(INDEX('WINBUGS data'!$F$12:$AI$26,MATCH($C16,'WINBUGS data'!$F$12:$F$26,0),MATCH(\"t[,\"&L$4 &\"]\",'WINBUGS data'!$F$12:$AI$12,0)),\"\")","v":""},{"$f":"IFERROR(INDEX('WINBUGS data'!$F$12:$AI$26,MATCH($C16,'WINBUGS data'!$F$12:$F$26,0),MATCH(\"t[,\"&M$4 &\"]\",'WINBUGS data'!$F$12:$AI$12,0)),\"\")","v":""},{"$f":"IFERROR(INDEX('WINBUGS data'!$F$12:$AI$26,MATCH($C16,'WINBUGS data'!$F$12:$F$26,0),MATCH(\"t[,\"&N$4 &\"]\",'WINBUGS data'!$F$12:$AI$12,0)),\"\")","v":""},{"$f":"IFERROR(INDEX('WINBUGS data'!$F$12:$AI$26,MATCH($C16,'WINBUGS data'!$F$12:$F$26,0),MATCH(\"t[,\"&O$4 &\"]\",'WINBUGS data'!$F$12:$AI$12,0)),\"\")","v":""},{"$f":"IFERROR(INDEX('WINBUGS data'!$F$12:$AI$26,MATCH($C16,'WINBUGS data'!$F$12:$F$26,0),MATCH(\"t[,\"&P$4 &\"]\",'WINBUGS data'!$F$12:$AI$12,0)),\"\")","v":""},{"$f":"IFERROR(INDEX('WINBUGS data'!$F$12:$AI$26,MATCH($C16,'WINBUGS data'!$F$12:$F$26,0),MATCH(\"t[,\"&Q$4 &\"]\",'WINBUGS data'!$F$12:$AI$12,0)),\"\")","v":""},{"$f":"IFERROR(INDEX('WINBUGS data'!$F$12:$AI$26,MATCH($C16,'WINBUGS data'!$F$12:$F$26,0),MATCH(\"t[,\"&R$4 &\"]\",'WINBUGS data'!$F$12:$AI$12,0)),\"\")","v":""},{"$f":"IFERROR(INDEX('WINBUGS data'!$F$12:$AI$26,MATCH($C16,'WINBUGS data'!$F$12:$F$26,0),MATCH(\"t[,\"&S$4 &\"]\",'WINBUGS data'!$F$12:$AI$12,0)),\"\")","v":""},{"$f":"IFERROR(INDEX('WINBUGS data'!$F$12:$AI$26,MATCH($C16,'WINBUGS data'!$F$12:$F$26,0),MATCH(\"t[,\"&T$4 &\"]\",'WINBUGS data'!$F$12:$AI$12,0)),\"\")","v":""}]
[null,{"$f":"IFERROR(INDEX(list,MATCH(0,COUNTIF($E$5:E17,list),0)),\"\")","v":""},{"$f":"IF('WINBUGS data'!F25<>\"\",'WINBUGS data'!F25,\"\")","v":""},{"$f":"IFERROR(INDEX('WINBUGS data'!$F$12:$AI$26,MATCH(C17,'WINBUGS data'!$F$12:$F$26,0),MATCH(\"na[]\",'WINBUGS data'!$F$12:$AI$12,0)),\"\")","v":""},{"$f":"CONCATENATE(IF(ISNUMBER(F17),F17,\"\"),IF(ISNUMBER(G17),\",\"&G17,\"\"),IF(ISNUMBER(H17),\",\"&H17,\"\"),IF(ISNUMBER(I17),\",\"&I17,\"\"),IF(ISNUMBER(J17),\",\"&J17,\"\"),IF(ISNUMBER(K17),\",\"&K17,\"\"),IF(ISNUMBER(L17),\",\"&L17,\"\"),IF(ISNUMBER(M17),\",\"&M17,\"\"),IF(ISNUMBER(N17),\",\"&N17,\"\"),IF(ISNUMBER(O17),\",\"&O17,\"\"),IF(ISNUMBER(P17),\",\"&P17,\"\"),IF(ISNUMBER(Q17),\",\"&Q17,\"\"),IF(ISNUMBER(R17),\",\"&R17,\"\"),IF(ISNUMBER(S17),\",\"&S17,\"\"),IF(ISNUMBER(T17),\",\"&T17,\"\"))","v":""},{"$f":"IFERROR(INDEX('WINBUGS data'!$F$12:$AI$26,MATCH($C17,'WINBUGS data'!$F$12:$F$26,0),MATCH(\"t[,\"&F$4 &\"]\",'WINBUGS data'!$F$12:$AI$12,0)),\"\")","v":""},{"$f":"IFERROR(INDEX('WINBUGS data'!$F$12:$AI$26,MATCH($C17,'WINBUGS data'!$F$12:$F$26,0),MATCH(\"t[,\"&G$4 &\"]\",'WINBUGS data'!$F$12:$AI$12,0)),\"\")","v":""},{"$f":"IFERROR(INDEX('WINBUGS data'!$F$12:$AI$26,MATCH($C17,'WINBUGS data'!$F$12:$F$26,0),MATCH(\"t[,\"&H$4 &\"]\",'WINBUGS data'!$F$12:$AI$12,0)),\"\")","v":""},{"$f":"IFERROR(INDEX('WINBUGS data'!$F$12:$AI$26,MATCH($C17,'WINBUGS data'!$F$12:$F$26,0),MATCH(\"t[,\"&I$4 &\"]\",'WINBUGS data'!$F$12:$AI$12,0)),\"\")","v":""},{"$f":"IFERROR(INDEX('WINBUGS data'!$F$12:$AI$26,MATCH($C17,'WINBUGS data'!$F$12:$F$26,0),MATCH(\"t[,\"&J$4 &\"]\",'WINBUGS data'!$F$12:$AI$12,0)),\"\")","v":""},{"$f":"IFERROR(INDEX('WINBUGS data'!$F$12:$AI$26,MATCH($C17,'WINBUGS data'!$F$12:$F$26,0),MATCH(\"t[,\"&K$4 &\"]\",'WINBUGS data'!$F$12:$AI$12,0)),\"\")","v":""},{"$f":"IFERROR(INDEX('WINBUGS data'!$F$12:$AI$26,MATCH($C17,'WINBUGS data'!$F$12:$F$26,0),MATCH(\"t[,\"&L$4 &\"]\",'WINBUGS data'!$F$12:$AI$12,0)),\"\")","v":""},{"$f":"IFERROR(INDEX('WINBUGS data'!$F$12:$AI$26,MATCH($C17,'WINBUGS data'!$F$12:$F$26,0),MATCH(\"t[,\"&M$4 &\"]\",'WINBUGS data'!$F$12:$AI$12,0)),\"\")","v":""},{"$f":"IFERROR(INDEX('WINBUGS data'!$F$12:$AI$26,MATCH($C17,'WINBUGS data'!$F$12:$F$26,0),MATCH(\"t[,\"&N$4 &\"]\",'WINBUGS data'!$F$12:$AI$12,0)),\"\")","v":""},{"$f":"IFERROR(INDEX('WINBUGS data'!$F$12:$AI$26,MATCH($C17,'WINBUGS data'!$F$12:$F$26,0),MATCH(\"t[,\"&O$4 &\"]\",'WINBUGS data'!$F$12:$AI$12,0)),\"\")","v":""},{"$f":"IFERROR(INDEX('WINBUGS data'!$F$12:$AI$26,MATCH($C17,'WINBUGS data'!$F$12:$F$26,0),MATCH(\"t[,\"&P$4 &\"]\",'WINBUGS data'!$F$12:$AI$12,0)),\"\")","v":""},{"$f":"IFERROR(INDEX('WINBUGS data'!$F$12:$AI$26,MATCH($C17,'WINBUGS data'!$F$12:$F$26,0),MATCH(\"t[,\"&Q$4 &\"]\",'WINBUGS data'!$F$12:$AI$12,0)),\"\")","v":""},{"$f":"IFERROR(INDEX('WINBUGS data'!$F$12:$AI$26,MATCH($C17,'WINBUGS data'!$F$12:$F$26,0),MATCH(\"t[,\"&R$4 &\"]\",'WINBUGS data'!$F$12:$AI$12,0)),\"\")","v":""},{"$f":"IFERROR(INDEX('WINBUGS data'!$F$12:$AI$26,MATCH($C17,'WINBUGS data'!$F$12:$F$26,0),MATCH(\"t[,\"&S$4 &\"]\",'WINBUGS data'!$F$12:$AI$12,0)),\"\")","v":""},{"$f":"IFERROR(INDEX('WINBUGS data'!$F$12:$AI$26,MATCH($C17,'WINBUGS data'!$F$12:$F$26,0),MATCH(\"t[,\"&T$4 &\"]\",'WINBUGS data'!$F$12:$AI$12,0)),\"\")","v":""}]
[null,{"$f":"IFERROR(INDEX(list,MATCH(0,COUNTIF($E$5:E18,list),0)),\"\")","v":""},{"$f":"IF('WINBUGS data'!F26<>\"\",'WINBUGS data'!F26,\"\")","v":""},{"$f":"IFERROR(INDEX('WINBUGS data'!$F$12:$AI$26,MATCH(C18,'WINBUGS data'!$F$12:$F$26,0),MATCH(\"na[]\",'WINBUGS data'!$F$12:$AI$12,0)),\"\")","v":""},"",{"$f":"IFERROR(INDEX('WINBUGS data'!$F$12:$AI$26,MATCH($C18,'WINBUGS data'!$F$12:$F$26,0),MATCH(\"t[,\"&F$4 &\"]\",'WINBUGS data'!$F$12:$AI$12,0)),\"\")","v":""},{"$f":"IFERROR(INDEX('WINBUGS data'!$F$12:$AI$26,MATCH($C18,'WINBUGS data'!$F$12:$F$26,0),MATCH(\"t[,\"&G$4 &\"]\",'WINBUGS data'!$F$12:$AI$12,0)),\"\")","v":""},{"$f":"IFERROR(INDEX('WINBUGS data'!$F$12:$AI$26,MATCH($C18,'WINBUGS data'!$F$12:$F$26,0),MATCH(\"t[,\"&H$4 &\"]\",'WINBUGS data'!$F$12:$AI$12,0)),\"\")","v":""},{"$f":"IFERROR(INDEX('WINBUGS data'!$F$12:$AI$26,MATCH($C18,'WINBUGS data'!$F$12:$F$26,0),MATCH(\"t[,\"&I$4 &\"]\",'WINBUGS data'!$F$12:$AI$12,0)),\"\")","v":""},{"$f":"IFERROR(INDEX('WINBUGS data'!$F$12:$AI$26,MATCH($C18,'WINBUGS data'!$F$12:$F$26,0),MATCH(\"t[,\"&J$4 &\"]\",'WINBUGS data'!$F$12:$AI$12,0)),\"\")","v":""},{"$f":"IFERROR(INDEX('WINBUGS data'!$F$12:$AI$26,MATCH($C18,'WINBUGS data'!$F$12:$F$26,0),MATCH(\"t[,\"&K$4 &\"]\",'WINBUGS data'!$F$12:$AI$12,0)),\"\")","v":""},{"$f":"IFERROR(INDEX('WINBUGS data'!$F$12:$AI$26,MATCH($C18,'WINBUGS data'!$F$12:$F$26,0),MATCH(\"t[,\"&L$4 &\"]\",'WINBUGS data'!$F$12:$AI$12,0)),\"\")","v":""},{"$f":"IFERROR(INDEX('WINBUGS data'!$F$12:$AI$26,MATCH($C18,'WINBUGS data'!$F$12:$F$26,0),MATCH(\"t[,\"&M$4 &\"]\",'WINBUGS data'!$F$12:$AI$12,0)),\"\")","v":""},{"$f":"IFERROR(INDEX('WINBUGS data'!$F$12:$AI$26,MATCH($C18,'WINBUGS data'!$F$12:$F$26,0),MATCH(\"t[,\"&N$4 &\"]\",'WINBUGS data'!$F$12:$AI$12,0)),\"\")","v":""},{"$f":"IFERROR(INDEX('WINBUGS data'!$F$12:$AI$26,MATCH($C18,'WINBUGS data'!$F$12:$F$26,0),MATCH(\"t[,\"&O$4 &\"]\",'WINBUGS data'!$F$12:$AI$12,0)),\"\")","v":""},{"$f":"IFERROR(INDEX('WINBUGS data'!$F$12:$AI$26,MATCH($C18,'WINBUGS data'!$F$12:$F$26,0),MATCH(\"t[,\"&P$4 &\"]\",'WINBUGS data'!$F$12:$AI$12,0)),\"\")","v":""},{"$f":"IFERROR(INDEX('WINBUGS data'!$F$12:$AI$26,MATCH($C18,'WINBUGS data'!$F$12:$F$26,0),MATCH(\"t[,\"&Q$4 &\"]\",'WINBUGS data'!$F$12:$AI$12,0)),\"\")","v":""},{"$f":"IFERROR(INDEX('WINBUGS data'!$F$12:$AI$26,MATCH($C18,'WINBUGS data'!$F$12:$F$26,0),MATCH(\"t[,\"&R$4 &\"]\",'WINBUGS data'!$F$12:$AI$12,0)),\"\")","v":""},{"$f":"IFERROR(INDEX('WINBUGS data'!$F$12:$AI$26,MATCH($C18,'WINBUGS data'!$F$12:$F$26,0),MATCH(\"t[,\"&S$4 &\"]\",'WINBUGS data'!$F$12:$AI$12,0)),\"\")","v":""},{"$f":"IFERROR(INDEX('WINBUGS data'!$F$12:$AI$26,MATCH($C18,'WINBUGS data'!$F$12:$F$26,0),MATCH(\"t[,\"&T$4 &\"]\",'WINBUGS data'!$F$12:$AI$12,0)),\"\")","v":""}]
[null,{"$f":"IFERROR(INDEX(list,MATCH(0,COUNTIF($E$5:E19,list),0)),\"\")","v":""},{"$f":"IF('WINBUGS data'!F27<>\"\",'WINBUGS data'!F27,\"\")","v":""},{"$f":"IFERROR(INDEX('WINBUGS data'!$F$12:$AI$26,MATCH(C19,'WINBUGS data'!$F$12:$F$26,0),MATCH(\"na[]\",'WINBUGS data'!$F$12:$AI$12,0)),\"\")","v":""},"",{"$f":"IFERROR(INDEX('WINBUGS data'!$F$12:$AI$26,MATCH($C19,'WINBUGS data'!$F$12:$F$26,0),MATCH(\"t[,\"&F$4 &\"]\",'WINBUGS data'!$F$12:$AI$12,0)),\"\")","v":""},{"$f":"IFERROR(INDEX('WINBUGS data'!$F$12:$AI$26,MATCH($C19,'WINBUGS data'!$F$12:$F$26,0),MATCH(\"t[,\"&G$4 &\"]\",'WINBUGS data'!$F$12:$AI$12,0)),\"\")","v":""},{"$f":"IFERROR(INDEX('WINBUGS data'!$F$12:$AI$26,MATCH($C19,'WINBUGS data'!$F$12:$F$26,0),MATCH(\"t[,\"&H$4 &\"]\",'WINBUGS data'!$F$12:$AI$12,0)),\"\")","v":""},{"$f":"IFERROR(INDEX('WINBUGS data'!$F$12:$AI$26,MATCH($C19,'WINBUGS data'!$F$12:$F$26,0),MATCH(\"t[,\"&I$4 &\"]\",'WINBUGS data'!$F$12:$AI$12,0)),\"\")","v":""},{"$f":"IFERROR(INDEX('WINBUGS data'!$F$12:$AI$26,MATCH($C19,'WINBUGS data'!$F$12:$F$26,0),MATCH(\"t[,\"&J$4 &\"]\",'WINBUGS data'!$F$12:$AI$12,0)),\"\")","v":""},{"$f":"IFERROR(INDEX('WINBUGS data'!$F$12:$AI$26,MATCH($C19,'WINBUGS data'!$F$12:$F$26,0),MATCH(\"t[,\"&K$4 &\"]\",'WINBUGS data'!$F$12:$AI$12,0)),\"\")","v":""},{"$f":"IFERROR(INDEX('WINBUGS data'!$F$12:$AI$26,MATCH($C19,'WINBUGS data'!$F$12:$F$26,0),MATCH(\"t[,\"&L$4 &\"]\",'WINBUGS data'!$F$12:$AI$12,0)),\"\")","v":""},{"$f":"IFERROR(INDEX('WINBUGS data'!$F$12:$AI$26,MATCH($C19,'WINBUGS data'!$F$12:$F$26,0),MATCH(\"t[,\"&M$4 &\"]\",'WINBUGS data'!$F$12:$AI$12,0)),\"\")","v":""},{"$f":"IFERROR(INDEX('WINBUGS data'!$F$12:$AI$26,MATCH($C19,'WINBUGS data'!$F$12:$F$26,0),MATCH(\"t[,\"&N$4 &\"]\",'WINBUGS data'!$F$12:$AI$12,0)),\"\")","v":""},{"$f":"IFERROR(INDEX('WINBUGS data'!$F$12:$AI$26,MATCH($C19,'WINBUGS data'!$F$12:$F$26,0),MATCH(\"t[,\"&O$4 &\"]\",'WINBUGS data'!$F$12:$AI$12,0)),\"\")","v":""},{"$f":"IFERROR(INDEX('WINBUGS data'!$F$12:$AI$26,MATCH($C19,'WINBUGS data'!$F$12:$F$26,0),MATCH(\"t[,\"&P$4 &\"]\",'WINBUGS data'!$F$12:$AI$12,0)),\"\")","v":""},{"$f":"IFERROR(INDEX('WINBUGS data'!$F$12:$AI$26,MATCH($C19,'WINBUGS data'!$F$12:$F$26,0),MATCH(\"t[,\"&Q$4 &\"]\",'WINBUGS data'!$F$12:$AI$12,0)),\"\")","v":""},{"$f":"IFERROR(INDEX('WINBUGS data'!$F$12:$AI$26,MATCH($C19,'WINBUGS data'!$F$12:$F$26,0),MATCH(\"t[,\"&R$4 &\"]\",'WINBUGS data'!$F$12:$AI$12,0)),\"\")","v":""},{"$f":"IFERROR(INDEX('WINBUGS data'!$F$12:$AI$26,MATCH($C19,'WINBUGS data'!$F$12:$F$26,0),MATCH(\"t[,\"&S$4 &\"]\",'WINBUGS data'!$F$12:$AI$12,0)),\"\")","v":""},{"$f":"IFERROR(INDEX('WINBUGS data'!$F$12:$AI$26,MATCH($C19,'WINBUGS data'!$F$12:$F$26,0),MATCH(\"t[,\"&T$4 &\"]\",'WINBUGS data'!$F$12:$AI$12,0)),\"\")","v":""}]
[null,{"$f":"IFERROR(INDEX(list,MATCH(0,COUNTIF($E$5:E20,list),0)),\"\")","v":""},{"$f":"IF('WINBUGS data'!F28<>\"\",'WINBUGS data'!F28,\"\")","v":""},{"$f":"IFERROR(INDEX('WINBUGS data'!$F$12:$AI$26,MATCH(C20,'WINBUGS data'!$F$12:$F$26,0),MATCH(\"na[]\",'WINBUGS data'!$F$12:$AI$12,0)),\"\")","v":""},"",{"$f":"IFERROR(INDEX('WINBUGS data'!$F$12:$AI$26,MATCH($C20,'WINBUGS data'!$F$12:$F$26,0),MATCH(\"t[,\"&F$4 &\"]\",'WINBUGS data'!$F$12:$AI$12,0)),\"\")","v":""},{"$f":"IFERROR(INDEX('WINBUGS data'!$F$12:$AI$26,MATCH($C20,'WINBUGS data'!$F$12:$F$26,0),MATCH(\"t[,\"&G$4 &\"]\",'WINBUGS data'!$F$12:$AI$12,0)),\"\")","v":""},{"$f":"IFERROR(INDEX('WINBUGS data'!$F$12:$AI$26,MATCH($C20,'WINBUGS data'!$F$12:$F$26,0),MATCH(\"t[,\"&H$4 &\"]\",'WINBUGS data'!$F$12:$AI$12,0)),\"\")","v":""},{"$f":"IFERROR(INDEX('WINBUGS data'!$F$12:$AI$26,MATCH($C20,'WINBUGS data'!$F$12:$F$26,0),MATCH(\"t[,\"&I$4 &\"]\",'WINBUGS data'!$F$12:$AI$12,0)),\"\")","v":""},{"$f":"IFERROR(INDEX('WINBUGS data'!$F$12:$AI$26,MATCH($C20,'WINBUGS data'!$F$12:$F$26,0),MATCH(\"t[,\"&J$4 &\"]\",'WINBUGS data'!$F$12:$AI$12,0)),\"\")","v":""},{"$f":"IFERROR(INDEX('WINBUGS data'!$F$12:$AI$26,MATCH($C20,'WINBUGS data'!$F$12:$F$26,0),MATCH(\"t[,\"&K$4 &\"]\",'WINBUGS data'!$F$12:$AI$12,0)),\"\")","v":""},{"$f":"IFERROR(INDEX('WINBUGS data'!$F$12:$AI$26,MATCH($C20,'WINBUGS data'!$F$12:$F$26,0),MATCH(\"t[,\"&L$4 &\"]\",'WINBUGS data'!$F$12:$AI$12,0)),\"\")","v":""},{"$f":"IFERROR(INDEX('WINBUGS data'!$F$12:$AI$26,MATCH($C20,'WINBUGS data'!$F$12:$F$26,0),MATCH(\"t[,\"&M$4 &\"]\",'WINBUGS data'!$F$12:$AI$12,0)),\"\")","v":""},{"$f":"IFERROR(INDEX('WINBUGS data'!$F$12:$AI$26,MATCH($C20,'WINBUGS data'!$F$12:$F$26,0),MATCH(\"t[,\"&N$4 &\"]\",'WINBUGS data'!$F$12:$AI$12,0)),\"\")","v":""},{"$f":"IFERROR(INDEX('WINBUGS data'!$F$12:$AI$26,MATCH($C20,'WINBUGS data'!$F$12:$F$26,0),MATCH(\"t[,\"&O$4 &\"]\",'WINBUGS data'!$F$12:$AI$12,0)),\"\")","v":""},{"$f":"IFERROR(INDEX('WINBUGS data'!$F$12:$AI$26,MATCH($C20,'WINBUGS data'!$F$12:$F$26,0),MATCH(\"t[,\"&P$4 &\"]\",'WINBUGS data'!$F$12:$AI$12,0)),\"\")","v":""},{"$f":"IFERROR(INDEX('WINBUGS data'!$F$12:$AI$26,MATCH($C20,'WINBUGS data'!$F$12:$F$26,0),MATCH(\"t[,\"&Q$4 &\"]\",'WINBUGS data'!$F$12:$AI$12,0)),\"\")","v":""},{"$f":"IFERROR(INDEX('WINBUGS data'!$F$12:$AI$26,MATCH($C20,'WINBUGS data'!$F$12:$F$26,0),MATCH(\"t[,\"&R$4 &\"]\",'WINBUGS data'!$F$12:$AI$12,0)),\"\")","v":""},{"$f":"IFERROR(INDEX('WINBUGS data'!$F$12:$AI$26,MATCH($C20,'WINBUGS data'!$F$12:$F$26,0),MATCH(\"t[,\"&S$4 &\"]\",'WINBUGS data'!$F$12:$AI$12,0)),\"\")","v":""},{"$f":"IFERROR(INDEX('WINBUGS data'!$F$12:$AI$26,MATCH($C20,'WINBUGS data'!$F$12:$F$26,0),MATCH(\"t[,\"&T$4 &\"]\",'WINBUGS data'!$F$12:$AI$12,0)),\"\")","v":""}]
[null,{"$f":"IFERROR(INDEX(list,MATCH(0,COUNTIF($E$5:E21,list),0)),\"\")","v":""},{"$f":"IF('WINBUGS data'!F29<>\"\",'WINBUGS data'!F29,\"\")","v":""},{"$f":"IFERROR(INDEX('WINBUGS data'!$F$12:$AI$26,MATCH(C21,'WINBUGS data'!$F$12:$F$26,0),MATCH(\"na[]\",'WINBUGS data'!$F$12:$AI$12,0)),\"\")","v":""},"",{"$f":"IFERROR(INDEX('WINBUGS data'!$F$12:$AI$26,MATCH($C21,'WINBUGS data'!$F$12:$F$26,0),MATCH(\"t[,\"&F$4 &\"]\",'WINBUGS data'!$F$12:$AI$12,0)),\"\")","v":""},{"$f":"IFERROR(INDEX('WINBUGS data'!$F$12:$AI$26,MATCH($C21,'WINBUGS data'!$F$12:$F$26,0),MATCH(\"t[,\"&G$4 &\"]\",'WINBUGS data'!$F$12:$AI$12,0)),\"\")","v":""},{"$f":"IFERROR(INDEX('WINBUGS data'!$F$12:$AI$26,MATCH($C21,'WINBUGS data'!$F$12:$F$26,0),MATCH(\"t[,\"&H$4 &\"]\",'WINBUGS data'!$F$12:$AI$12,0)),\"\")","v":""},{"$f":"IFERROR(INDEX('WINBUGS data'!$F$12:$AI$26,MATCH($C21,'WINBUGS data'!$F$12:$F$26,0),MATCH(\"t[,\"&I$4 &\"]\",'WINBUGS data'!$F$12:$AI$12,0)),\"\")","v":""},{"$f":"IFERROR(INDEX('WINBUGS data'!$F$12:$AI$26,MATCH($C21,'WINBUGS data'!$F$12:$F$26,0),MATCH(\"t[,\"&J$4 &\"]\",'WINBUGS data'!$F$12:$AI$12,0)),\"\")","v":""},{"$f":"IFERROR(INDEX('WINBUGS data'!$F$12:$AI$26,MATCH($C21,'WINBUGS data'!$F$12:$F$26,0),MATCH(\"t[,\"&K$4 &\"]\",'WINBUGS data'!$F$12:$AI$12,0)),\"\")","v":""},{"$f":"IFERROR(INDEX('WINBUGS data'!$F$12:$AI$26,MATCH($C21,'WINBUGS data'!$F$12:$F$26,0),MATCH(\"t[,\"&L$4 &\"]\",'WINBUGS data'!$F$12:$AI$12,0)),\"\")","v":""},{"$f":"IFERROR(INDEX('WINBUGS data'!$F$12:$AI$26,MATCH($C21,'WINBUGS data'!$F$12:$F$26,0),MATCH(\"t[,\"&M$4 &\"]\",'WINBUGS data'!$F$12:$AI$12,0)),\"\")","v":""},{"$f":"IFERROR(INDEX('WINBUGS data'!$F$12:$AI$26,MATCH($C21,'WINBUGS data'!$F$12:$F$26,0),MATCH(\"t[,\"&N$4 &\"]\",'WINBUGS data'!$F$12:$AI$12,0)),\"\")","v":""},{"$f":"IFERROR(INDEX('WINBUGS data'!$F$12:$AI$26,MATCH($C21,'WINBUGS data'!$F$12:$F$26,0),MATCH(\"t[,\"&O$4 &\"]\",'WINBUGS data'!$F$12:$AI$12,0)),\"\")","v":""},{"$f":"IFERROR(INDEX('WINBUGS data'!$F$12:$AI$26,MATCH($C21,'WINBUGS data'!$F$12:$F$26,0),MATCH(\"t[,\"&P$4 &\"]\",'WINBUGS data'!$F$12:$AI$12,0)),\"\")","v":""},{"$f":"IFERROR(INDEX('WINBUGS data'!$F$12:$AI$26,MATCH($C21,'WINBUGS data'!$F$12:$F$26,0),MATCH(\"t[,\"&Q$4 &\"]\",'WINBUGS data'!$F$12:$AI$12,0)),\"\")","v":""},{"$f":"IFERROR(INDEX('WINBUGS data'!$F$12:$AI$26,MATCH($C21,'WINBUGS data'!$F$12:$F$26,0),MATCH(\"t[,\"&R$4 &\"]\",'WINBUGS data'!$F$12:$AI$12,0)),\"\")","v":""},{"$f":"IFERROR(INDEX('WINBUGS data'!$F$12:$AI$26,MATCH($C21,'WINBUGS data'!$F$12:$F$26,0),MATCH(\"t[,\"&S$4 &\"]\",'WINBUGS data'!$F$12:$AI$12,0)),\"\")","v":""},{"$f":"IFERROR(INDEX('WINBUGS data'!$F$12:$AI$26,MATCH($C21,'WINBUGS data'!$F$12:$F$26,0),MATCH(\"t[,\"&T$4 &\"]\",'WINBUGS data'!$F$12:$AI$12,0)),\"\")","v":""}]
[null,{"$f":"IFERROR(INDEX(list,MATCH(0,COUNTIF($E$5:E22,list),0)),\"\")","v":""},{"$f":"IF('WINBUGS data'!F30<>\"\",'WINBUGS data'!F30,\"\")","v":""},{"$f":"IFERROR(INDEX('WINBUGS data'!$F$12:$AI$26,MATCH(C22,'WINBUGS data'!$F$12:$F$26,0),MATCH(\"na[]\",'WINBUGS data'!$F$12:$AI$12,0)),\"\")","v":""},"",{"$f":"IFERROR(INDEX('WINBUGS data'!$F$12:$AI$26,MATCH($C22,'WINBUGS data'!$F$12:$F$26,0),MATCH(\"t[,\"&F$4 &\"]\",'WINBUGS data'!$F$12:$AI$12,0)),\"\")","v":""},{"$f":"IFERROR(INDEX('WINBUGS data'!$F$12:$AI$26,MATCH($C22,'WINBUGS data'!$F$12:$F$26,0),MATCH(\"t[,\"&G$4 &\"]\",'WINBUGS data'!$F$12:$AI$12,0)),\"\")","v":""},{"$f":"IFERROR(INDEX('WINBUGS data'!$F$12:$AI$26,MATCH($C22,'WINBUGS data'!$F$12:$F$26,0),MATCH(\"t[,\"&H$4 &\"]\",'WINBUGS data'!$F$12:$AI$12,0)),\"\")","v":""},{"$f":"IFERROR(INDEX('WINBUGS data'!$F$12:$AI$26,MATCH($C22,'WINBUGS data'!$F$12:$F$26,0),MATCH(\"t[,\"&I$4 &\"]\",'WINBUGS data'!$F$12:$AI$12,0)),\"\")","v":""},{"$f":"IFERROR(INDEX('WINBUGS data'!$F$12:$AI$26,MATCH($C22,'WINBUGS data'!$F$12:$F$26,0),MATCH(\"t[,\"&J$4 &\"]\",'WINBUGS data'!$F$12:$AI$12,0)),\"\")","v":""},{"$f":"IFERROR(INDEX('WINBUGS data'!$F$12:$AI$26,MATCH($C22,'WINBUGS data'!$F$12:$F$26,0),MATCH(\"t[,\"&K$4 &\"]\",'WINBUGS data'!$F$12:$AI$12,0)),\"\")","v":""},{"$f":"IFERROR(INDEX('WINBUGS data'!$F$12:$AI$26,MATCH($C22,'WINBUGS data'!$F$12:$F$26,0),MATCH(\"t[,\"&L$4 &\"]\",'WINBUGS data'!$F$12:$AI$12,0)),\"\")","v":""},{"$f":"IFERROR(INDEX('WINBUGS data'!$F$12:$AI$26,MATCH($C22,'WINBUGS data'!$F$12:$F$26,0),MATCH(\"t[,\"&M$4 &\"]\",'WINBUGS data'!$F$12:$AI$12,0)),\"\")","v":""},{"$f":"IFERROR(INDEX('WINBUGS data'!$F$12:$AI$26,MATCH($C22,'WINBUGS data'!$F$12:$F$26,0),MATCH(\"t[,\"&N$4 &\"]\",'WINBUGS data'!$F$12:$AI$12,0)),\"\")","v":""},{"$f":"IFERROR(INDEX('WINBUGS data'!$F$12:$AI$26,MATCH($C22,'WINBUGS data'!$F$12:$F$26,0),MATCH(\"t[,\"&O$4 &\"]\",'WINBUGS data'!$F$12:$AI$12,0)),\"\")","v":""},{"$f":"IFERROR(INDEX('WINBUGS data'!$F$12:$AI$26,MATCH($C22,'WINBUGS data'!$F$12:$F$26,0),MATCH(\"t[,\"&P$4 &\"]\",'WINBUGS data'!$F$12:$AI$12,0)),\"\")","v":""},{"$f":"IFERROR(INDEX('WINBUGS data'!$F$12:$AI$26,MATCH($C22,'WINBUGS data'!$F$12:$F$26,0),MATCH(\"t[,\"&Q$4 &\"]\",'WINBUGS data'!$F$12:$AI$12,0)),\"\")","v":""},{"$f":"IFERROR(INDEX('WINBUGS data'!$F$12:$AI$26,MATCH($C22,'WINBUGS data'!$F$12:$F$26,0),MATCH(\"t[,\"&R$4 &\"]\",'WINBUGS data'!$F$12:$AI$12,0)),\"\")","v":""},{"$f":"IFERROR(INDEX('WINBUGS data'!$F$12:$AI$26,MATCH($C22,'WINBUGS data'!$F$12:$F$26,0),MATCH(\"t[,\"&S$4 &\"]\",'WINBUGS data'!$F$12:$AI$12,0)),\"\")","v":""},{"$f":"IFERROR(INDEX('WINBUGS data'!$F$12:$AI$26,MATCH($C22,'WINBUGS data'!$F$12:$F$26,0),MATCH(\"t[,\"&T$4 &\"]\",'WINBUGS data'!$F$12:$AI$12,0)),\"\")","v":""}]
[null,{"$f":"IFERROR(INDEX(list,MATCH(0,COUNTIF($E$5:E23,list),0)),\"\")","v":""},{"$f":"IF('WINBUGS data'!F31<>\"\",'WINBUGS data'!F31,\"\")","v":""},{"$f":"IFERROR(INDEX('WINBUGS data'!$F$12:$AI$26,MATCH(C23,'WINBUGS data'!$F$12:$F$26,0),MATCH(\"na[]\",'WINBUGS data'!$F$12:$AI$12,0)),\"\")","v":""},"",{"$f":"IFERROR(INDEX('WINBUGS data'!$F$12:$AI$26,MATCH($C23,'WINBUGS data'!$F$12:$F$26,0),MATCH(\"t[,\"&F$4 &\"]\",'WINBUGS data'!$F$12:$AI$12,0)),\"\")","v":""},{"$f":"IFERROR(INDEX('WINBUGS data'!$F$12:$AI$26,MATCH($C23,'WINBUGS data'!$F$12:$F$26,0),MATCH(\"t[,\"&G$4 &\"]\",'WINBUGS data'!$F$12:$AI$12,0)),\"\")","v":""},{"$f":"IFERROR(INDEX('WINBUGS data'!$F$12:$AI$26,MATCH($C23,'WINBUGS data'!$F$12:$F$26,0),MATCH(\"t[,\"&H$4 &\"]\",'WINBUGS data'!$F$12:$AI$12,0)),\"\")","v":""},{"$f":"IFERROR(INDEX('WINBUGS data'!$F$12:$AI$26,MATCH($C23,'WINBUGS data'!$F$12:$F$26,0),MATCH(\"t[,\"&I$4 &\"]\",'WINBUGS data'!$F$12:$AI$12,0)),\"\")","v":""},{"$f":"IFERROR(INDEX('WINBUGS data'!$F$12:$AI$26,MATCH($C23,'WINBUGS data'!$F$12:$F$26,0),MATCH(\"t[,\"&J$4 &\"]\",'WINBUGS data'!$F$12:$AI$12,0)),\"\")","v":""},{"$f":"IFERROR(INDEX('WINBUGS data'!$F$12:$AI$26,MATCH($C23,'WINBUGS data'!$F$12:$F$26,0),MATCH(\"t[,\"&K$4 &\"]\",'WINBUGS data'!$F$12:$AI$12,0)),\"\")","v":""},{"$f":"IFERROR(INDEX('WINBUGS data'!$F$12:$AI$26,MATCH($C23,'WINBUGS data'!$F$12:$F$26,0),MATCH(\"t[,\"&L$4 &\"]\",'WINBUGS data'!$F$12:$AI$12,0)),\"\")","v":""},{"$f":"IFERROR(INDEX('WINBUGS data'!$F$12:$AI$26,MATCH($C23,'WINBUGS data'!$F$12:$F$26,0),MATCH(\"t[,\"&M$4 &\"]\",'WINBUGS data'!$F$12:$AI$12,0)),\"\")","v":""},{"$f":"IFERROR(INDEX('WINBUGS data'!$F$12:$AI$26,MATCH($C23,'WINBUGS data'!$F$12:$F$26,0),MATCH(\"t[,\"&N$4 &\"]\",'WINBUGS data'!$F$12:$AI$12,0)),\"\")","v":""},{"$f":"IFERROR(INDEX('WINBUGS data'!$F$12:$AI$26,MATCH($C23,'WINBUGS data'!$F$12:$F$26,0),MATCH(\"t[,\"&O$4 &\"]\",'WINBUGS data'!$F$12:$AI$12,0)),\"\")","v":""},{"$f":"IFERROR(INDEX('WINBUGS data'!$F$12:$AI$26,MATCH($C23,'WINBUGS data'!$F$12:$F$26,0),MATCH(\"t[,\"&P$4 &\"]\",'WINBUGS data'!$F$12:$AI$12,0)),\"\")","v":""},{"$f":"IFERROR(INDEX('WINBUGS data'!$F$12:$AI$26,MATCH($C23,'WINBUGS data'!$F$12:$F$26,0),MATCH(\"t[,\"&Q$4 &\"]\",'WINBUGS data'!$F$12:$AI$12,0)),\"\")","v":""},{"$f":"IFERROR(INDEX('WINBUGS data'!$F$12:$AI$26,MATCH($C23,'WINBUGS data'!$F$12:$F$26,0),MATCH(\"t[,\"&R$4 &\"]\",'WINBUGS data'!$F$12:$AI$12,0)),\"\")","v":""},{"$f":"IFERROR(INDEX('WINBUGS data'!$F$12:$AI$26,MATCH($C23,'WINBUGS data'!$F$12:$F$26,0),MATCH(\"t[,\"&S$4 &\"]\",'WINBUGS data'!$F$12:$AI$12,0)),\"\")","v":""},{"$f":"IFERROR(INDEX('WINBUGS data'!$F$12:$AI$26,MATCH($C23,'WINBUGS data'!$F$12:$F$26,0),MATCH(\"t[,\"&T$4 &\"]\",'WINBUGS data'!$F$12:$AI$12,0)),\"\")","v":""}]
[null,{"$f":"IFERROR(INDEX(list,MATCH(0,COUNTIF($E$5:E24,list),0)),\"\")","v":""},{"$f":"IF('WINBUGS data'!F32<>\"\",'WINBUGS data'!F32,\"\")","v":""},{"$f":"IFERROR(INDEX('WINBUGS data'!$F$12:$AI$26,MATCH(C24,'WINBUGS data'!$F$12:$F$26,0),MATCH(\"na[]\",'WINBUGS data'!$F$12:$AI$12,0)),\"\")","v":""},"",{"$f":"IFERROR(INDEX('WINBUGS data'!$F$12:$AI$26,MATCH($C24,'WINBUGS data'!$F$12:$F$26,0),MATCH(\"t[,\"&F$4 &\"]\",'WINBUGS data'!$F$12:$AI$12,0)),\"\")","v":""},{"$f":"IFERROR(INDEX('WINBUGS data'!$F$12:$AI$26,MATCH($C24,'WINBUGS data'!$F$12:$F$26,0),MATCH(\"t[,\"&G$4 &\"]\",'WINBUGS data'!$F$12:$AI$12,0)),\"\")","v":""},{"$f":"IFERROR(INDEX('WINBUGS data'!$F$12:$AI$26,MATCH($C24,'WINBUGS data'!$F$12:$F$26,0),MATCH(\"t[,\"&H$4 &\"]\",'WINBUGS data'!$F$12:$AI$12,0)),\"\")","v":""},{"$f":"IFERROR(INDEX('WINBUGS data'!$F$12:$AI$26,MATCH($C24,'WINBUGS data'!$F$12:$F$26,0),MATCH(\"t[,\"&I$4 &\"]\",'WINBUGS data'!$F$12:$AI$12,0)),\"\")","v":""},{"$f":"IFERROR(INDEX('WINBUGS data'!$F$12:$AI$26,MATCH($C24,'WINBUGS data'!$F$12:$F$26,0),MATCH(\"t[,\"&J$4 &\"]\",'WINBUGS data'!$F$12:$AI$12,0)),\"\")","v":""},{"$f":"IFERROR(INDEX('WINBUGS data'!$F$12:$AI$26,MATCH($C24,'WINBUGS data'!$F$12:$F$26,0),MATCH(\"t[,\"&K$4 &\"]\",'WINBUGS data'!$F$12:$AI$12,0)),\"\")","v":""},{"$f":"IFERROR(INDEX('WINBUGS data'!$F$12:$AI$26,MATCH($C24,'WINBUGS data'!$F$12:$F$26,0),MATCH(\"t[,\"&L$4 &\"]\",'WINBUGS data'!$F$12:$AI$12,0)),\"\")","v":""},{"$f":"IFERROR(INDEX('WINBUGS data'!$F$12:$AI$26,MATCH($C24,'WINBUGS data'!$F$12:$F$26,0),MATCH(\"t[,\"&M$4 &\"]\",'WINBUGS data'!$F$12:$AI$12,0)),\"\")","v":""},{"$f":"IFERROR(INDEX('WINBUGS data'!$F$12:$AI$26,MATCH($C24,'WINBUGS data'!$F$12:$F$26,0),MATCH(\"t[,\"&N$4 &\"]\",'WINBUGS data'!$F$12:$AI$12,0)),\"\")","v":""},{"$f":"IFERROR(INDEX('WINBUGS data'!$F$12:$AI$26,MATCH($C24,'WINBUGS data'!$F$12:$F$26,0),MATCH(\"t[,\"&O$4 &\"]\",'WINBUGS data'!$F$12:$AI$12,0)),\"\")","v":""},{"$f":"IFERROR(INDEX('WINBUGS data'!$F$12:$AI$26,MATCH($C24,'WINBUGS data'!$F$12:$F$26,0),MATCH(\"t[,\"&P$4 &\"]\",'WINBUGS data'!$F$12:$AI$12,0)),\"\")","v":""},{"$f":"IFERROR(INDEX('WINBUGS data'!$F$12:$AI$26,MATCH($C24,'WINBUGS data'!$F$12:$F$26,0),MATCH(\"t[,\"&Q$4 &\"]\",'WINBUGS data'!$F$12:$AI$12,0)),\"\")","v":""},{"$f":"IFERROR(INDEX('WINBUGS data'!$F$12:$AI$26,MATCH($C24,'WINBUGS data'!$F$12:$F$26,0),MATCH(\"t[,\"&R$4 &\"]\",'WINBUGS data'!$F$12:$AI$12,0)),\"\")","v":""},{"$f":"IFERROR(INDEX('WINBUGS data'!$F$12:$AI$26,MATCH($C24,'WINBUGS data'!$F$12:$F$26,0),MATCH(\"t[,\"&S$4 &\"]\",'WINBUGS data'!$F$12:$AI$12,0)),\"\")","v":""},{"$f":"IFERROR(INDEX('WINBUGS data'!$F$12:$AI$26,MATCH($C24,'WINBUGS data'!$F$12:$F$26,0),MATCH(\"t[,\"&T$4 &\"]\",'WINBUGS data'!$F$12:$AI$12,0)),\"\")","v":""}]
[null,{"$f":"IFERROR(INDEX(list,MATCH(0,COUNTIF($E$5:E25,list),0)),\"\")","v":""},{"$f":"IF('WINBUGS data'!F33<>\"\",'WINBUGS data'!F33,\"\")","v":""},{"$f":"IFERROR(INDEX('WINBUGS data'!$F$12:$AI$26,MATCH(C25,'WINBUGS data'!$F$12:$F$26,0),MATCH(\"na[]\",'WINBUGS data'!$F$12:$AI$12,0)),\"\")","v":""},"",{"$f":"IFERROR(INDEX('WINBUGS data'!$F$12:$AI$26,MATCH($C25,'WINBUGS data'!$F$12:$F$26,0),MATCH(\"t[,\"&F$4 &\"]\",'WINBUGS data'!$F$12:$AI$12,0)),\"\")","v":""},{"$f":"IFERROR(INDEX('WINBUGS data'!$F$12:$AI$26,MATCH($C25,'WINBUGS data'!$F$12:$F$26,0),MATCH(\"t[,\"&G$4 &\"]\",'WINBUGS data'!$F$12:$AI$12,0)),\"\")","v":""},{"$f":"IFERROR(INDEX('WINBUGS data'!$F$12:$AI$26,MATCH($C25,'WINBUGS data'!$F$12:$F$26,0),MATCH(\"t[,\"&H$4 &\"]\",'WINBUGS data'!$F$12:$AI$12,0)),\"\")","v":""},{"$f":"IFERROR(INDEX('WINBUGS data'!$F$12:$AI$26,MATCH($C25,'WINBUGS data'!$F$12:$F$26,0),MATCH(\"t[,\"&I$4 &\"]\",'WINBUGS data'!$F$12:$AI$12,0)),\"\")","v":""},{"$f":"IFERROR(INDEX('WINBUGS data'!$F$12:$AI$26,MATCH($C25,'WINBUGS data'!$F$12:$F$26,0),MATCH(\"t[,\"&J$4 &\"]\",'WINBUGS data'!$F$12:$AI$12,0)),\"\")","v":""},{"$f":"IFERROR(INDEX('WINBUGS data'!$F$12:$AI$26,MATCH($C25,'WINBUGS data'!$F$12:$F$26,0),MATCH(\"t[,\"&K$4 &\"]\",'WINBUGS data'!$F$12:$AI$12,0)),\"\")","v":""},{"$f":"IFERROR(INDEX('WINBUGS data'!$F$12:$AI$26,MATCH($C25,'WINBUGS data'!$F$12:$F$26,0),MATCH(\"t[,\"&L$4 &\"]\",'WINBUGS data'!$F$12:$AI$12,0)),\"\")","v":""},{"$f":"IFERROR(INDEX('WINBUGS data'!$F$12:$AI$26,MATCH($C25,'WINBUGS data'!$F$12:$F$26,0),MATCH(\"t[,\"&M$4 &\"]\",'WINBUGS data'!$F$12:$AI$12,0)),\"\")","v":""},{"$f":"IFERROR(INDEX('WINBUGS data'!$F$12:$AI$26,MATCH($C25,'WINBUGS data'!$F$12:$F$26,0),MATCH(\"t[,\"&N$4 &\"]\",'WINBUGS data'!$F$12:$AI$12,0)),\"\")","v":""},{"$f":"IFERROR(INDEX('WINBUGS data'!$F$12:$AI$26,MATCH($C25,'WINBUGS data'!$F$12:$F$26,0),MATCH(\"t[,\"&O$4 &\"]\",'WINBUGS data'!$F$12:$AI$12,0)),\"\")","v":""},{"$f":"IFERROR(INDEX('WINBUGS data'!$F$12:$AI$26,MATCH($C25,'WINBUGS data'!$F$12:$F$26,0),MATCH(\"t[,\"&P$4 &\"]\",'WINBUGS data'!$F$12:$AI$12,0)),\"\")","v":""},{"$f":"IFERROR(INDEX('WINBUGS data'!$F$12:$AI$26,MATCH($C25,'WINBUGS data'!$F$12:$F$26,0),MATCH(\"t[,\"&Q$4 &\"]\",'WINBUGS data'!$F$12:$AI$12,0)),\"\")","v":""},{"$f":"IFERROR(INDEX('WINBUGS data'!$F$12:$AI$26,MATCH($C25,'WINBUGS data'!$F$12:$F$26,0),MATCH(\"t[,\"&R$4 &\"]\",'WINBUGS data'!$F$12:$AI$12,0)),\"\")","v":""},{"$f":"IFERROR(INDEX('WINBUGS data'!$F$12:$AI$26,MATCH($C25,'WINBUGS data'!$F$12:$F$26,0),MATCH(\"t[,\"&S$4 &\"]\",'WINBUGS data'!$F$12:$AI$12,0)),\"\")","v":""},{"$f":"IFERROR(INDEX('WINBUGS data'!$F$12:$AI$26,MATCH($C25,'WINBUGS data'!$F$12:$F$26,0),MATCH(\"t[,\"&T$4 &\"]\",'WINBUGS data'!$F$12:$AI$12,0)),\"\")","v":""}]
[null,{"$f":"IFERROR(INDEX(list,MATCH(0,COUNTIF($E$5:E26,list),0)),\"\")","v":""},{"$f":"IF('WINBUGS data'!F34<>\"\",'WINBUGS data'!F34,\"\")","v":""},{"$f":"IFERROR(INDEX('WINBUGS data'!$F$12:$AI$26,MATCH(C26,'WINBUGS data'!$F$12:$F$26,0),MATCH(\"na[]\",'WINBUGS data'!$F$12:$AI$12,0)),\"\")","v":""},"",{"$f":"IFERROR(INDEX('WINBUGS data'!$F$12:$AI$26,MATCH($C26,'WINBUGS data'!$F$12:$F$26,0),MATCH(\"t[,\"&F$4 &\"]\",'WINBUGS data'!$F$12:$AI$12,0)),\"\")","v":""},{"$f":"IFERROR(INDEX('WINBUGS data'!$F$12:$AI$26,MATCH($C26,'WINBUGS data'!$F$12:$F$26,0),MATCH(\"t[,\"&G$4 &\"]\",'WINBUGS data'!$F$12:$AI$12,0)),\"\")","v":""},{"$f":"IFERROR(INDEX('WINBUGS data'!$F$12:$AI$26,MATCH($C26,'WINBUGS data'!$F$12:$F$26,0),MATCH(\"t[,\"&H$4 &\"]\",'WINBUGS data'!$F$12:$AI$12,0)),\"\")","v":""},{"$f":"IFERROR(INDEX('WINBUGS data'!$F$12:$AI$26,MATCH($C26,'WINBUGS data'!$F$12:$F$26,0),MATCH(\"t[,\"&I$4 &\"]\",'WINBUGS data'!$F$12:$AI$12,0)),\"\")","v":""},{"$f":"IFERROR(INDEX('WINBUGS data'!$F$12:$AI$26,MATCH($C26,'WINBUGS data'!$F$12:$F$26,0),MATCH(\"t[,\"&J$4 &\"]\",'WINBUGS data'!$F$12:$AI$12,0)),\"\")","v":""},{"$f":"IFERROR(INDEX('WINBUGS data'!$F$12:$AI$26,MATCH($C26,'WINBUGS data'!$F$12:$F$26,0),MATCH(\"t[,\"&K$4 &\"]\",'WINBUGS data'!$F$12:$AI$12,0)),\"\")","v":""},{"$f":"IFERROR(INDEX('WINBUGS data'!$F$12:$AI$26,MATCH($C26,'WINBUGS data'!$F$12:$F$26,0),MATCH(\"t[,\"&L$4 &\"]\",'WINBUGS data'!$F$12:$AI$12,0)),\"\")","v":""},{"$f":"IFERROR(INDEX('WINBUGS data'!$F$12:$AI$26,MATCH($C26,'WINBUGS data'!$F$12:$F$26,0),MATCH(\"t[,\"&M$4 &\"]\",'WINBUGS data'!$F$12:$AI$12,0)),\"\")","v":""},{"$f":"IFERROR(INDEX('WINBUGS data'!$F$12:$AI$26,MATCH($C26,'WINBUGS data'!$F$12:$F$26,0),MATCH(\"t[,\"&N$4 &\"]\",'WINBUGS data'!$F$12:$AI$12,0)),\"\")","v":""},{"$f":"IFERROR(INDEX('WINBUGS data'!$F$12:$AI$26,MATCH($C26,'WINBUGS data'!$F$12:$F$26,0),MATCH(\"t[,\"&O$4 &\"]\",'WINBUGS data'!$F$12:$AI$12,0)),\"\")","v":""},{"$f":"IFERROR(INDEX('WINBUGS data'!$F$12:$AI$26,MATCH($C26,'WINBUGS data'!$F$12:$F$26,0),MATCH(\"t[,\"&P$4 &\"]\",'WINBUGS data'!$F$12:$AI$12,0)),\"\")","v":""},{"$f":"IFERROR(INDEX('WINBUGS data'!$F$12:$AI$26,MATCH($C26,'WINBUGS data'!$F$12:$F$26,0),MATCH(\"t[,\"&Q$4 &\"]\",'WINBUGS data'!$F$12:$AI$12,0)),\"\")","v":""},{"$f":"IFERROR(INDEX('WINBUGS data'!$F$12:$AI$26,MATCH($C26,'WINBUGS data'!$F$12:$F$26,0),MATCH(\"t[,\"&R$4 &\"]\",'WINBUGS data'!$F$12:$AI$12,0)),\"\")","v":""},{"$f":"IFERROR(INDEX('WINBUGS data'!$F$12:$AI$26,MATCH($C26,'WINBUGS data'!$F$12:$F$26,0),MATCH(\"t[,\"&S$4 &\"]\",'WINBUGS data'!$F$12:$AI$12,0)),\"\")","v":""},{"$f":"IFERROR(INDEX('WINBUGS data'!$F$12:$AI$26,MATCH($C26,'WINBUGS data'!$F$12:$F$26,0),MATCH(\"t[,\"&T$4 &\"]\",'WINBUGS data'!$F$12:$AI$12,0)),\"\")","v":""}]
[null,{"$f":"IFERROR(INDEX(list,MATCH(0,COUNTIF($E$5:E27,list),0)),\"\")","v":""},{"$f":"IF('WINBUGS data'!F35<>\"\",'WINBUGS data'!F35,\"\")","v":""},{"$f":"IFERROR(INDEX('WINBUGS data'!$F$12:$AI$26,MATCH(C27,'WINBUGS data'!$F$12:$F$26,0),MATCH(\"na[]\",'WINBUGS data'!$F$12:$AI$12,0)),\"\")","v":""},"",{"$f":"IFERROR(INDEX('WINBUGS data'!$F$12:$AI$26,MATCH($C27,'WINBUGS data'!$F$12:$F$26,0),MATCH(\"t[,\"&F$4 &\"]\",'WINBUGS data'!$F$12:$AI$12,0)),\"\")","v":""},{"$f":"IFERROR(INDEX('WINBUGS data'!$F$12:$AI$26,MATCH($C27,'WINBUGS data'!$F$12:$F$26,0),MATCH(\"t[,\"&G$4 &\"]\",'WINBUGS data'!$F$12:$AI$12,0)),\"\")","v":""},{"$f":"IFERROR(INDEX('WINBUGS data'!$F$12:$AI$26,MATCH($C27,'WINBUGS data'!$F$12:$F$26,0),MATCH(\"t[,\"&H$4 &\"]\",'WINBUGS data'!$F$12:$AI$12,0)),\"\")","v":""},{"$f":"IFERROR(INDEX('WINBUGS data'!$F$12:$AI$26,MATCH($C27,'WINBUGS data'!$F$12:$F$26,0),MATCH(\"t[,\"&I$4 &\"]\",'WINBUGS data'!$F$12:$AI$12,0)),\"\")","v":""},{"$f":"IFERROR(INDEX('WINBUGS data'!$F$12:$AI$26,MATCH($C27,'WINBUGS data'!$F$12:$F$26,0),MATCH(\"t[,\"&J$4 &\"]\",'WINBUGS data'!$F$12:$AI$12,0)),\"\")","v":""},{"$f":"IFERROR(INDEX('WINBUGS data'!$F$12:$AI$26,MATCH($C27,'WINBUGS data'!$F$12:$F$26,0),MATCH(\"t[,\"&K$4 &\"]\",'WINBUGS data'!$F$12:$AI$12,0)),\"\")","v":""},{"$f":"IFERROR(INDEX('WINBUGS data'!$F$12:$AI$26,MATCH($C27,'WINBUGS data'!$F$12:$F$26,0),MATCH(\"t[,\"&L$4 &\"]\",'WINBUGS data'!$F$12:$AI$12,0)),\"\")","v":""},{"$f":"IFERROR(INDEX('WINBUGS data'!$F$12:$AI$26,MATCH($C27,'WINBUGS data'!$F$12:$F$26,0),MATCH(\"t[,\"&M$4 &\"]\",'WINBUGS data'!$F$12:$AI$12,0)),\"\")","v":""},{"$f":"IFERROR(INDEX('WINBUGS data'!$F$12:$AI$26,MATCH($C27,'WINBUGS data'!$F$12:$F$26,0),MATCH(\"t[,\"&N$4 &\"]\",'WINBUGS data'!$F$12:$AI$12,0)),\"\")","v":""},{"$f":"IFERROR(INDEX('WINBUGS data'!$F$12:$AI$26,MATCH($C27,'WINBUGS data'!$F$12:$F$26,0),MATCH(\"t[,\"&O$4 &\"]\",'WINBUGS data'!$F$12:$AI$12,0)),\"\")","v":""},{"$f":"IFERROR(INDEX('WINBUGS data'!$F$12:$AI$26,MATCH($C27,'WINBUGS data'!$F$12:$F$26,0),MATCH(\"t[,\"&P$4 &\"]\",'WINBUGS data'!$F$12:$AI$12,0)),\"\")","v":""},{"$f":"IFERROR(INDEX('WINBUGS data'!$F$12:$AI$26,MATCH($C27,'WINBUGS data'!$F$12:$F$26,0),MATCH(\"t[,\"&Q$4 &\"]\",'WINBUGS data'!$F$12:$AI$12,0)),\"\")","v":""},{"$f":"IFERROR(INDEX('WINBUGS data'!$F$12:$AI$26,MATCH($C27,'WINBUGS data'!$F$12:$F$26,0),MATCH(\"t[,\"&R$4 &\"]\",'WINBUGS data'!$F$12:$AI$12,0)),\"\")","v":""},{"$f":"IFERROR(INDEX('WINBUGS data'!$F$12:$AI$26,MATCH($C27,'WINBUGS data'!$F$12:$F$26,0),MATCH(\"t[,\"&S$4 &\"]\",'WINBUGS data'!$F$12:$AI$12,0)),\"\")","v":""},{"$f":"IFERROR(INDEX('WINBUGS data'!$F$12:$AI$26,MATCH($C27,'WINBUGS data'!$F$12:$F$26,0),MATCH(\"t[,\"&T$4 &\"]\",'WINBUGS data'!$F$12:$AI$12,0)),\"\")","v":""}]
[null,{"$f":"IFERROR(INDEX(list,MATCH(0,COUNTIF($E$5:E28,list),0)),\"\")","v":""},{"$f":"IF('WINBUGS data'!F36<>\"\",'WINBUGS data'!F36,\"\")","v":""},{"$f":"IFERROR(INDEX('WINBUGS data'!$F$12:$AI$26,MATCH(C28,'WINBUGS data'!$F$12:$F$26,0),MATCH(\"na[]\",'WINBUGS data'!$F$12:$AI$12,0)),\"\")","v":""},"",{"$f":"IFERROR(INDEX('WINBUGS data'!$F$12:$AI$26,MATCH($C28,'WINBUGS data'!$F$12:$F$26,0),MATCH(\"t[,\"&F$4 &\"]\",'WINBUGS data'!$F$12:$AI$12,0)),\"\")","v":""},{"$f":"IFERROR(INDEX('WINBUGS data'!$F$12:$AI$26,MATCH($C28,'WINBUGS data'!$F$12:$F$26,0),MATCH(\"t[,\"&G$4 &\"]\",'WINBUGS data'!$F$12:$AI$12,0)),\"\")","v":""},{"$f":"IFERROR(INDEX('WINBUGS data'!$F$12:$AI$26,MATCH($C28,'WINBUGS data'!$F$12:$F$26,0),MATCH(\"t[,\"&H$4 &\"]\",'WINBUGS data'!$F$12:$AI$12,0)),\"\")","v":""},{"$f":"IFERROR(INDEX('WINBUGS data'!$F$12:$AI$26,MATCH($C28,'WINBUGS data'!$F$12:$F$26,0),MATCH(\"t[,\"&I$4 &\"]\",'WINBUGS data'!$F$12:$AI$12,0)),\"\")","v":""},{"$f":"IFERROR(INDEX('WINBUGS data'!$F$12:$AI$26,MATCH($C28,'WINBUGS data'!$F$12:$F$26,0),MATCH(\"t[,\"&J$4 &\"]\",'WINBUGS data'!$F$12:$AI$12,0)),\"\")","v":""},{"$f":"IFERROR(INDEX('WINBUGS data'!$F$12:$AI$26,MATCH($C28,'WINBUGS data'!$F$12:$F$26,0),MATCH(\"t[,\"&K$4 &\"]\",'WINBUGS data'!$F$12:$AI$12,0)),\"\")","v":""},{"$f":"IFERROR(INDEX('WINBUGS data'!$F$12:$AI$26,MATCH($C28,'WINBUGS data'!$F$12:$F$26,0),MATCH(\"t[,\"&L$4 &\"]\",'WINBUGS data'!$F$12:$AI$12,0)),\"\")","v":""},{"$f":"IFERROR(INDEX('WINBUGS data'!$F$12:$AI$26,MATCH($C28,'WINBUGS data'!$F$12:$F$26,0),MATCH(\"t[,\"&M$4 &\"]\",'WINBUGS data'!$F$12:$AI$12,0)),\"\")","v":""},{"$f":"IFERROR(INDEX('WINBUGS data'!$F$12:$AI$26,MATCH($C28,'WINBUGS data'!$F$12:$F$26,0),MATCH(\"t[,\"&N$4 &\"]\",'WINBUGS data'!$F$12:$AI$12,0)),\"\")","v":""},{"$f":"IFERROR(INDEX('WINBUGS data'!$F$12:$AI$26,MATCH($C28,'WINBUGS data'!$F$12:$F$26,0),MATCH(\"t[,\"&O$4 &\"]\",'WINBUGS data'!$F$12:$AI$12,0)),\"\")","v":""},{"$f":"IFERROR(INDEX('WINBUGS data'!$F$12:$AI$26,MATCH($C28,'WINBUGS data'!$F$12:$F$26,0),MATCH(\"t[,\"&P$4 &\"]\",'WINBUGS data'!$F$12:$AI$12,0)),\"\")","v":""},{"$f":"IFERROR(INDEX('WINBUGS data'!$F$12:$AI$26,MATCH($C28,'WINBUGS data'!$F$12:$F$26,0),MATCH(\"t[,\"&Q$4 &\"]\",'WINBUGS data'!$F$12:$AI$12,0)),\"\")","v":""},{"$f":"IFERROR(INDEX('WINBUGS data'!$F$12:$AI$26,MATCH($C28,'WINBUGS data'!$F$12:$F$26,0),MATCH(\"t[,\"&R$4 &\"]\",'WINBUGS data'!$F$12:$AI$12,0)),\"\")","v":""},{"$f":"IFERROR(INDEX('WINBUGS data'!$F$12:$AI$26,MATCH($C28,'WINBUGS data'!$F$12:$F$26,0),MATCH(\"t[,\"&S$4 &\"]\",'WINBUGS data'!$F$12:$AI$12,0)),\"\")","v":""},{"$f":"IFERROR(INDEX('WINBUGS data'!$F$12:$AI$26,MATCH($C28,'WINBUGS data'!$F$12:$F$26,0),MATCH(\"t[,\"&T$4 &\"]\",'WINBUGS data'!$F$12:$AI$12,0)),\"\")","v":""}]
[null,{"$f":"IFERROR(INDEX(list,MATCH(0,COUNTIF($E$5:E29,list),0)),\"\")","v":""},{"$f":"IF('WINBUGS data'!F37<>\"\",'WINBUGS data'!F37,\"\")","v":""},{"$f":"IFERROR(INDEX('WINBUGS data'!$F$12:$AI$26,MATCH(C29,'WINBUGS data'!$F$12:$F$26,0),MATCH(\"na[]\",'WINBUGS data'!$F$12:$AI$12,0)),\"\")","v":""},"",{"$f":"IFERROR(INDEX('WINBUGS data'!$F$12:$AI$26,MATCH($C29,'WINBUGS data'!$F$12:$F$26,0),MATCH(\"t[,\"&F$4 &\"]\",'WINBUGS data'!$F$12:$AI$12,0)),\"\")","v":""},{"$f":"IFERROR(INDEX('WINBUGS data'!$F$12:$AI$26,MATCH($C29,'WINBUGS data'!$F$12:$F$26,0),MATCH(\"t[,\"&G$4 &\"]\",'WINBUGS data'!$F$12:$AI$12,0)),\"\")","v":""},{"$f":"IFERROR(INDEX('WINBUGS data'!$F$12:$AI$26,MATCH($C29,'WINBUGS data'!$F$12:$F$26,0),MATCH(\"t[,\"&H$4 &\"]\",'WINBUGS data'!$F$12:$AI$12,0)),\"\")","v":""},{"$f":"IFERROR(INDEX('WINBUGS data'!$F$12:$AI$26,MATCH($C29,'WINBUGS data'!$F$12:$F$26,0),MATCH(\"t[,\"&I$4 &\"]\",'WINBUGS data'!$F$12:$AI$12,0)),\"\")","v":""},{"$f":"IFERROR(INDEX('WINBUGS data'!$F$12:$AI$26,MATCH($C29,'WINBUGS data'!$F$12:$F$26,0),MATCH(\"t[,\"&J$4 &\"]\",'WINBUGS data'!$F$12:$AI$12,0)),\"\")","v":""},{"$f":"IFERROR(INDEX('WINBUGS data'!$F$12:$AI$26,MATCH($C29,'WINBUGS data'!$F$12:$F$26,0),MATCH(\"t[,\"&K$4 &\"]\",'WINBUGS data'!$F$12:$AI$12,0)),\"\")","v":""},{"$f":"IFERROR(INDEX('WINBUGS data'!$F$12:$AI$26,MATCH($C29,'WINBUGS data'!$F$12:$F$26,0),MATCH(\"t[,\"&L$4 &\"]\",'WINBUGS data'!$F$12:$AI$12,0)),\"\")","v":""},{"$f":"IFERROR(INDEX('WINBUGS data'!$F$12:$AI$26,MATCH($C29,'WINBUGS data'!$F$12:$F$26,0),MATCH(\"t[,\"&M$4 &\"]\",'WINBUGS data'!$F$12:$AI$12,0)),\"\")","v":""},{"$f":"IFERROR(INDEX('WINBUGS data'!$F$12:$AI$26,MATCH($C29,'WINBUGS data'!$F$12:$F$26,0),MATCH(\"t[,\"&N$4 &\"]\",'WINBUGS data'!$F$12:$AI$12,0)),\"\")","v":""},{"$f":"IFERROR(INDEX('WINBUGS data'!$F$12:$AI$26,MATCH($C29,'WINBUGS data'!$F$12:$F$26,0),MATCH(\"t[,\"&O$4 &\"]\",'WINBUGS data'!$F$12:$AI$12,0)),\"\")","v":""},{"$f":"IFERROR(INDEX('WINBUGS data'!$F$12:$AI$26,MATCH($C29,'WINBUGS data'!$F$12:$F$26,0),MATCH(\"t[,\"&P$4 &\"]\",'WINBUGS data'!$F$12:$AI$12,0)),\"\")","v":""},{"$f":"IFERROR(INDEX('WINBUGS data'!$F$12:$AI$26,MATCH($C29,'WINBUGS data'!$F$12:$F$26,0),MATCH(\"t[,\"&Q$4 &\"]\",'WINBUGS data'!$F$12:$AI$12,0)),\"\")","v":""},{"$f":"IFERROR(INDEX('WINBUGS data'!$F$12:$AI$26,MATCH($C29,'WINBUGS data'!$F$12:$F$26,0),MATCH(\"t[,\"&R$4 &\"]\",'WINBUGS data'!$F$12:$AI$12,0)),\"\")","v":""},{"$f":"IFERROR(INDEX('WINBUGS data'!$F$12:$AI$26,MATCH($C29,'WINBUGS data'!$F$12:$F$26,0),MATCH(\"t[,\"&S$4 &\"]\",'WINBUGS data'!$F$12:$AI$12,0)),\"\")","v":""},{"$f":"IFERROR(INDEX('WINBUGS data'!$F$12:$AI$26,MATCH($C29,'WINBUGS data'!$F$12:$F$26,0),MATCH(\"t[,\"&T$4 &\"]\",'WINBUGS data'!$F$12:$AI$12,0)),\"\")","v":""}]
[null,{"$f":"IFERROR(INDEX(list,MATCH(0,COUNTIF($E$5:E30,list),0)),\"\")","v":""},{"$f":"IF('WINBUGS data'!F38<>\"\",'WINBUGS data'!F38,\"\")","v":""},{"$f":"IFERROR(INDEX('WINBUGS data'!$F$12:$AI$26,MATCH(C30,'WINBUGS data'!$F$12:$F$26,0),MATCH(\"na[]\",'WINBUGS data'!$F$12:$AI$12,0)),\"\")","v":""},"",{"$f":"IFERROR(INDEX('WINBUGS data'!$F$12:$AI$26,MATCH($C30,'WINBUGS data'!$F$12:$F$26,0),MATCH(\"t[,\"&F$4 &\"]\",'WINBUGS data'!$F$12:$AI$12,0)),\"\")","v":""},{"$f":"IFERROR(INDEX('WINBUGS data'!$F$12:$AI$26,MATCH($C30,'WINBUGS data'!$F$12:$F$26,0),MATCH(\"t[,\"&G$4 &\"]\",'WINBUGS data'!$F$12:$AI$12,0)),\"\")","v":""},{"$f":"IFERROR(INDEX('WINBUGS data'!$F$12:$AI$26,MATCH($C30,'WINBUGS data'!$F$12:$F$26,0),MATCH(\"t[,\"&H$4 &\"]\",'WINBUGS data'!$F$12:$AI$12,0)),\"\")","v":""},{"$f":"IFERROR(INDEX('WINBUGS data'!$F$12:$AI$26,MATCH($C30,'WINBUGS data'!$F$12:$F$26,0),MATCH(\"t[,\"&I$4 &\"]\",'WINBUGS data'!$F$12:$AI$12,0)),\"\")","v":""},{"$f":"IFERROR(INDEX('WINBUGS data'!$F$12:$AI$26,MATCH($C30,'WINBUGS data'!$F$12:$F$26,0),MATCH(\"t[,\"&J$4 &\"]\",'WINBUGS data'!$F$12:$AI$12,0)),\"\")","v":""},{"$f":"IFERROR(INDEX('WINBUGS data'!$F$12:$AI$26,MATCH($C30,'WINBUGS data'!$F$12:$F$26,0),MATCH(\"t[,\"&K$4 &\"]\",'WINBUGS data'!$F$12:$AI$12,0)),\"\")","v":""},{"$f":"IFERROR(INDEX('WINBUGS data'!$F$12:$AI$26,MATCH($C30,'WINBUGS data'!$F$12:$F$26,0),MATCH(\"t[,\"&L$4 &\"]\",'WINBUGS data'!$F$12:$AI$12,0)),\"\")","v":""},{"$f":"IFERROR(INDEX('WINBUGS data'!$F$12:$AI$26,MATCH($C30,'WINBUGS data'!$F$12:$F$26,0),MATCH(\"t[,\"&M$4 &\"]\",'WINBUGS data'!$F$12:$AI$12,0)),\"\")","v":""},{"$f":"IFERROR(INDEX('WINBUGS data'!$F$12:$AI$26,MATCH($C30,'WINBUGS data'!$F$12:$F$26,0),MATCH(\"t[,\"&N$4 &\"]\",'WINBUGS data'!$F$12:$AI$12,0)),\"\")","v":""},{"$f":"IFERROR(INDEX('WINBUGS data'!$F$12:$AI$26,MATCH($C30,'WINBUGS data'!$F$12:$F$26,0),MATCH(\"t[,\"&O$4 &\"]\",'WINBUGS data'!$F$12:$AI$12,0)),\"\")","v":""},{"$f":"IFERROR(INDEX('WINBUGS data'!$F$12:$AI$26,MATCH($C30,'WINBUGS data'!$F$12:$F$26,0),MATCH(\"t[,\"&P$4 &\"]\",'WINBUGS data'!$F$12:$AI$12,0)),\"\")","v":""},{"$f":"IFERROR(INDEX('WINBUGS data'!$F$12:$AI$26,MATCH($C30,'WINBUGS data'!$F$12:$F$26,0),MATCH(\"t[,\"&Q$4 &\"]\",'WINBUGS data'!$F$12:$AI$12,0)),\"\")","v":""},{"$f":"IFERROR(INDEX('WINBUGS data'!$F$12:$AI$26,MATCH($C30,'WINBUGS data'!$F$12:$F$26,0),MATCH(\"t[,\"&R$4 &\"]\",'WINBUGS data'!$F$12:$AI$12,0)),\"\")","v":""},{"$f":"IFERROR(INDEX('WINBUGS data'!$F$12:$AI$26,MATCH($C30,'WINBUGS data'!$F$12:$F$26,0),MATCH(\"t[,\"&S$4 &\"]\",'WINBUGS data'!$F$12:$AI$12,0)),\"\")","v":""},{"$f":"IFERROR(INDEX('WINBUGS data'!$F$12:$AI$26,MATCH($C30,'WINBUGS data'!$F$12:$F$26,0),MATCH(\"t[,\"&T$4 &\"]\",'WINBUGS data'!$F$12:$AI$12,0)),\"\")","v":""}]
[null,{"$f":"IFERROR(INDEX(list,MATCH(0,COUNTIF($E$5:E31,list),0)),\"\")","v":""},{"$f":"IF('WINBUGS data'!F39<>\"\",'WINBUGS data'!F39,\"\")","v":""},{"$f":"IFERROR(INDEX('WINBUGS data'!$F$12:$AI$26,MATCH(C31,'WINBUGS data'!$F$12:$F$26,0),MATCH(\"na[]\",'WINBUGS data'!$F$12:$AI$12,0)),\"\")","v":""},"",{"$f":"IFERROR(INDEX('WINBUGS data'!$F$12:$AI$26,MATCH($C31,'WINBUGS data'!$F$12:$F$26,0),MATCH(\"t[,\"&F$4 &\"]\",'WINBUGS data'!$F$12:$AI$12,0)),\"\")","v":""},{"$f":"IFERROR(INDEX('WINBUGS data'!$F$12:$AI$26,MATCH($C31,'WINBUGS data'!$F$12:$F$26,0),MATCH(\"t[,\"&G$4 &\"]\",'WINBUGS data'!$F$12:$AI$12,0)),\"\")","v":""},{"$f":"IFERROR(INDEX('WINBUGS data'!$F$12:$AI$26,MATCH($C31,'WINBUGS data'!$F$12:$F$26,0),MATCH(\"t[,\"&H$4 &\"]\",'WINBUGS data'!$F$12:$AI$12,0)),\"\")","v":""},{"$f":"IFERROR(INDEX('WINBUGS data'!$F$12:$AI$26,MATCH($C31,'WINBUGS data'!$F$12:$F$26,0),MATCH(\"t[,\"&I$4 &\"]\",'WINBUGS data'!$F$12:$AI$12,0)),\"\")","v":""},{"$f":"IFERROR(INDEX('WINBUGS data'!$F$12:$AI$26,MATCH($C31,'WINBUGS data'!$F$12:$F$26,0),MATCH(\"t[,\"&J$4 &\"]\",'WINBUGS data'!$F$12:$AI$12,0)),\"\")","v":""},{"$f":"IFERROR(INDEX('WINBUGS data'!$F$12:$AI$26,MATCH($C31,'WINBUGS data'!$F$12:$F$26,0),MATCH(\"t[,\"&K$4 &\"]\",'WINBUGS data'!$F$12:$AI$12,0)),\"\")","v":""},{"$f":"IFERROR(INDEX('WINBUGS data'!$F$12:$AI$26,MATCH($C31,'WINBUGS data'!$F$12:$F$26,0),MATCH(\"t[,\"&L$4 &\"]\",'WINBUGS data'!$F$12:$AI$12,0)),\"\")","v":""},{"$f":"IFERROR(INDEX('WINBUGS data'!$F$12:$AI$26,MATCH($C31,'WINBUGS data'!$F$12:$F$26,0),MATCH(\"t[,\"&M$4 &\"]\",'WINBUGS data'!$F$12:$AI$12,0)),\"\")","v":""},{"$f":"IFERROR(INDEX('WINBUGS data'!$F$12:$AI$26,MATCH($C31,'WINBUGS data'!$F$12:$F$26,0),MATCH(\"t[,\"&N$4 &\"]\",'WINBUGS data'!$F$12:$AI$12,0)),\"\")","v":""},{"$f":"IFERROR(INDEX('WINBUGS data'!$F$12:$AI$26,MATCH($C31,'WINBUGS data'!$F$12:$F$26,0),MATCH(\"t[,\"&O$4 &\"]\",'WINBUGS data'!$F$12:$AI$12,0)),\"\")","v":""},{"$f":"IFERROR(INDEX('WINBUGS data'!$F$12:$AI$26,MATCH($C31,'WINBUGS data'!$F$12:$F$26,0),MATCH(\"t[,\"&P$4 &\"]\",'WINBUGS data'!$F$12:$AI$12,0)),\"\")","v":""},{"$f":"IFERROR(INDEX('WINBUGS data'!$F$12:$AI$26,MATCH($C31,'WINBUGS data'!$F$12:$F$26,0),MATCH(\"t[,\"&Q$4 &\"]\",'WINBUGS data'!$F$12:$AI$12,0)),\"\")","v":""},{"$f":"IFERROR(INDEX('WINBUGS data'!$F$12:$AI$26,MATCH($C31,'WINBUGS data'!$F$12:$F$26,0),MATCH(\"t[,\"&R$4 &\"]\",'WINBUGS data'!$F$12:$AI$12,0)),\"\")","v":""},{"$f":"IFERROR(INDEX('WINBUGS data'!$F$12:$AI$26,MATCH($C31,'WINBUGS data'!$F$12:$F$26,0),MATCH(\"t[,\"&S$4 &\"]\",'WINBUGS data'!$F$12:$AI$12,0)),\"\")","v":""},{"$f":"IFERROR(INDEX('WINBUGS data'!$F$12:$AI$26,MATCH($C31,'WINBUGS data'!$F$12:$F$26,0),MATCH(\"t[,\"&T$4 &\"]\",'WINBUGS data'!$F$12:$AI$12,0)),\"\")","v":""}]
[null,{"$f":"IFERROR(INDEX(list,MATCH(0,COUNTIF($E$5:E32,list),0)),\"\")","v":""},{"$f":"IF('WINBUGS data'!F40<>\"\",'WINBUGS data'!F40,\"\")","v":""},{"$f":"IFERROR(INDEX('WINBUGS data'!$F$12:$AI$26,MATCH(C32,'WINBUGS data'!$F$12:$F$26,0),MATCH(\"na[]\",'WINBUGS data'!$F$12:$AI$12,0)),\"\")","v":""},"",{"$f":"IFERROR(INDEX('WINBUGS data'!$F$12:$AI$26,MATCH($C32,'WINBUGS data'!$F$12:$F$26,0),MATCH(\"t[,\"&F$4 &\"]\",'WINBUGS data'!$F$12:$AI$12,0)),\"\")","v":""},{"$f":"IFERROR(INDEX('WINBUGS data'!$F$12:$AI$26,MATCH($C32,'WINBUGS data'!$F$12:$F$26,0),MATCH(\"t[,\"&G$4 &\"]\",'WINBUGS data'!$F$12:$AI$12,0)),\"\")","v":""},{"$f":"IFERROR(INDEX('WINBUGS data'!$F$12:$AI$26,MATCH($C32,'WINBUGS data'!$F$12:$F$26,0),MATCH(\"t[,\"&H$4 &\"]\",'WINBUGS data'!$F$12:$AI$12,0)),\"\")","v":""},{"$f":"IFERROR(INDEX('WINBUGS data'!$F$12:$AI$26,MATCH($C32,'WINBUGS data'!$F$12:$F$26,0),MATCH(\"t[,\"&I$4 &\"]\",'WINBUGS data'!$F$12:$AI$12,0)),\"\")","v":""},{"$f":"IFERROR(INDEX('WINBUGS data'!$F$12:$AI$26,MATCH($C32,'WINBUGS data'!$F$12:$F$26,0),MATCH(\"t[,\"&J$4 &\"]\",'WINBUGS data'!$F$12:$AI$12,0)),\"\")","v":""},{"$f":"IFERROR(INDEX('WINBUGS data'!$F$12:$AI$26,MATCH($C32,'WINBUGS data'!$F$12:$F$26,0),MATCH(\"t[,\"&K$4 &\"]\",'WINBUGS data'!$F$12:$AI$12,0)),\"\")","v":""},{"$f":"IFERROR(INDEX('WINBUGS data'!$F$12:$AI$26,MATCH($C32,'WINBUGS data'!$F$12:$F$26,0),MATCH(\"t[,\"&L$4 &\"]\",'WINBUGS data'!$F$12:$AI$12,0)),\"\")","v":""},{"$f":"IFERROR(INDEX('WINBUGS data'!$F$12:$AI$26,MATCH($C32,'WINBUGS data'!$F$12:$F$26,0),MATCH(\"t[,\"&M$4 &\"]\",'WINBUGS data'!$F$12:$AI$12,0)),\"\")","v":""},{"$f":"IFERROR(INDEX('WINBUGS data'!$F$12:$AI$26,MATCH($C32,'WINBUGS data'!$F$12:$F$26,0),MATCH(\"t[,\"&N$4 &\"]\",'WINBUGS data'!$F$12:$AI$12,0)),\"\")","v":""},{"$f":"IFERROR(INDEX('WINBUGS data'!$F$12:$AI$26,MATCH($C32,'WINBUGS data'!$F$12:$F$26,0),MATCH(\"t[,\"&O$4 &\"]\",'WINBUGS data'!$F$12:$AI$12,0)),\"\")","v":""},{"$f":"IFERROR(INDEX('WINBUGS data'!$F$12:$AI$26,MATCH($C32,'WINBUGS data'!$F$12:$F$26,0),MATCH(\"t[,\"&P$4 &\"]\",'WINBUGS data'!$F$12:$AI$12,0)),\"\")","v":""},{"$f":"IFERROR(INDEX('WINBUGS data'!$F$12:$AI$26,MATCH($C32,'WINBUGS data'!$F$12:$F$26,0),MATCH(\"t[,\"&Q$4 &\"]\",'WINBUGS data'!$F$12:$AI$12,0)),\"\")","v":""},{"$f":"IFERROR(INDEX('WINBUGS data'!$F$12:$AI$26,MATCH($C32,'WINBUGS data'!$F$12:$F$26,0),MATCH(\"t[,\"&R$4 &\"]\",'WINBUGS data'!$F$12:$AI$12,0)),\"\")","v":""},{"$f":"IFERROR(INDEX('WINBUGS data'!$F$12:$AI$26,MATCH($C32,'WINBUGS data'!$F$12:$F$26,0),MATCH(\"t[,\"&S$4 &\"]\",'WINBUGS data'!$F$12:$AI$12,0)),\"\")","v":""},{"$f":"IFERROR(INDEX('WINBUGS data'!$F$12:$AI$26,MATCH($C32,'WINBUGS data'!$F$12:$F$26,0),MATCH(\"t[,\"&T$4 &\"]\",'WINBUGS data'!$F$12:$AI$12,0)),\"\")","v":""}]
[null,{"$f":"IFERROR(INDEX(list,MATCH(0,COUNTIF($E$5:E33,list),0)),\"\")","v":""},{"$f":"IF('WINBUGS data'!F41<>\"\",'WINBUGS data'!F41,\"\")","v":""},{"$f":"IFERROR(INDEX('WINBUGS data'!$F$12:$AI$26,MATCH(C33,'WINBUGS data'!$F$12:$F$26,0),MATCH(\"na[]\",'WINBUGS data'!$F$12:$AI$12,0)),\"\")","v":""},"",{"$f":"IFERROR(INDEX('WINBUGS data'!$F$12:$AI$26,MATCH($C33,'WINBUGS data'!$F$12:$F$26,0),MATCH(\"t[,\"&F$4 &\"]\",'WINBUGS data'!$F$12:$AI$12,0)),\"\")","v":""},{"$f":"IFERROR(INDEX('WINBUGS data'!$F$12:$AI$26,MATCH($C33,'WINBUGS data'!$F$12:$F$26,0),MATCH(\"t[,\"&G$4 &\"]\",'WINBUGS data'!$F$12:$AI$12,0)),\"\")","v":""},{"$f":"IFERROR(INDEX('WINBUGS data'!$F$12:$AI$26,MATCH($C33,'WINBUGS data'!$F$12:$F$26,0),MATCH(\"t[,\"&H$4 &\"]\",'WINBUGS data'!$F$12:$AI$12,0)),\"\")","v":""},{"$f":"IFERROR(INDEX('WINBUGS data'!$F$12:$AI$26,MATCH($C33,'WINBUGS data'!$F$12:$F$26,0),MATCH(\"t[,\"&I$4 &\"]\",'WINBUGS data'!$F$12:$AI$12,0)),\"\")","v":""},{"$f":"IFERROR(INDEX('WINBUGS data'!$F$12:$AI$26,MATCH($C33,'WINBUGS data'!$F$12:$F$26,0),MATCH(\"t[,\"&J$4 &\"]\",'WINBUGS data'!$F$12:$AI$12,0)),\"\")","v":""},{"$f":"IFERROR(INDEX('WINBUGS data'!$F$12:$AI$26,MATCH($C33,'WINBUGS data'!$F$12:$F$26,0),MATCH(\"t[,\"&K$4 &\"]\",'WINBUGS data'!$F$12:$AI$12,0)),\"\")","v":""},{"$f":"IFERROR(INDEX('WINBUGS data'!$F$12:$AI$26,MATCH($C33,'WINBUGS data'!$F$12:$F$26,0),MATCH(\"t[,\"&L$4 &\"]\",'WINBUGS data'!$F$12:$AI$12,0)),\"\")","v":""},{"$f":"IFERROR(INDEX('WINBUGS data'!$F$12:$AI$26,MATCH($C33,'WINBUGS data'!$F$12:$F$26,0),MATCH(\"t[,\"&M$4 &\"]\",'WINBUGS data'!$F$12:$AI$12,0)),\"\")","v":""},{"$f":"IFERROR(INDEX('WINBUGS data'!$F$12:$AI$26,MATCH($C33,'WINBUGS data'!$F$12:$F$26,0),MATCH(\"t[,\"&N$4 &\"]\",'WINBUGS data'!$F$12:$AI$12,0)),\"\")","v":""},{"$f":"IFERROR(INDEX('WINBUGS data'!$F$12:$AI$26,MATCH($C33,'WINBUGS data'!$F$12:$F$26,0),MATCH(\"t[,\"&O$4 &\"]\",'WINBUGS data'!$F$12:$AI$12,0)),\"\")","v":""},{"$f":"IFERROR(INDEX('WINBUGS data'!$F$12:$AI$26,MATCH($C33,'WINBUGS data'!$F$12:$F$26,0),MATCH(\"t[,\"&P$4 &\"]\",'WINBUGS data'!$F$12:$AI$12,0)),\"\")","v":""},{"$f":"IFERROR(INDEX('WINBUGS data'!$F$12:$AI$26,MATCH($C33,'WINBUGS data'!$F$12:$F$26,0),MATCH(\"t[,\"&Q$4 &\"]\",'WINBUGS data'!$F$12:$AI$12,0)),\"\")","v":""},{"$f":"IFERROR(INDEX('WINBUGS data'!$F$12:$AI$26,MATCH($C33,'WINBUGS data'!$F$12:$F$26,0),MATCH(\"t[,\"&R$4 &\"]\",'WINBUGS data'!$F$12:$AI$12,0)),\"\")","v":""},{"$f":"IFERROR(INDEX('WINBUGS data'!$F$12:$AI$26,MATCH($C33,'WINBUGS data'!$F$12:$F$26,0),MATCH(\"t[,\"&S$4 &\"]\",'WINBUGS data'!$F$12:$AI$12,0)),\"\")","v":""},{"$f":"IFERROR(INDEX('WINBUGS data'!$F$12:$AI$26,MATCH($C33,'WINBUGS data'!$F$12:$F$26,0),MATCH(\"t[,\"&T$4 &\"]\",'WINBUGS data'!$F$12:$AI$12,0)),\"\")","v":""}]
[null,{"$f":"IFERROR(INDEX(list,MATCH(0,COUNTIF($E$5:E34,list),0)),\"\")","v":""},{"$f":"IF('WINBUGS data'!F42<>\"\",'WINBUGS data'!F42,\"\")","v":""},{"$f":"IFERROR(INDEX('WINBUGS data'!$F$12:$AI$26,MATCH(C34,'WINBUGS data'!$F$12:$F$26,0),MATCH(\"na[]\",'WINBUGS data'!$F$12:$AI$12,0)),\"\")","v":""},"",{"$f":"IFERROR(INDEX('WINBUGS data'!$F$12:$AI$26,MATCH($C34,'WINBUGS data'!$F$12:$F$26,0),MATCH(\"t[,\"&F$4 &\"]\",'WINBUGS data'!$F$12:$AI$12,0)),\"\")","v":""},{"$f":"IFERROR(INDEX('WINBUGS data'!$F$12:$AI$26,MATCH($C34,'WINBUGS data'!$F$12:$F$26,0),MATCH(\"t[,\"&G$4 &\"]\",'WINBUGS data'!$F$12:$AI$12,0)),\"\")","v":""},{"$f":"IFERROR(INDEX('WINBUGS data'!$F$12:$AI$26,MATCH($C34,'WINBUGS data'!$F$12:$F$26,0),MATCH(\"t[,\"&H$4 &\"]\",'WINBUGS data'!$F$12:$AI$12,0)),\"\")","v":""},{"$f":"IFERROR(INDEX('WINBUGS data'!$F$12:$AI$26,MATCH($C34,'WINBUGS data'!$F$12:$F$26,0),MATCH(\"t[,\"&I$4 &\"]\",'WINBUGS data'!$F$12:$AI$12,0)),\"\")","v":""},{"$f":"IFERROR(INDEX('WINBUGS data'!$F$12:$AI$26,MATCH($C34,'WINBUGS data'!$F$12:$F$26,0),MATCH(\"t[,\"&J$4 &\"]\",'WINBUGS data'!$F$12:$AI$12,0)),\"\")","v":""},{"$f":"IFERROR(INDEX('WINBUGS data'!$F$12:$AI$26,MATCH($C34,'WINBUGS data'!$F$12:$F$26,0),MATCH(\"t[,\"&K$4 &\"]\",'WINBUGS data'!$F$12:$AI$12,0)),\"\")","v":""},{"$f":"IFERROR(INDEX('WINBUGS data'!$F$12:$AI$26,MATCH($C34,'WINBUGS data'!$F$12:$F$26,0),MATCH(\"t[,\"&L$4 &\"]\",'WINBUGS data'!$F$12:$AI$12,0)),\"\")","v":""},{"$f":"IFERROR(INDEX('WINBUGS data'!$F$12:$AI$26,MATCH($C34,'WINBUGS data'!$F$12:$F$26,0),MATCH(\"t[,\"&M$4 &\"]\",'WINBUGS data'!$F$12:$AI$12,0)),\"\")","v":""},{"$f":"IFERROR(INDEX('WINBUGS data'!$F$12:$AI$26,MATCH($C34,'WINBUGS data'!$F$12:$F$26,0),MATCH(\"t[,\"&N$4 &\"]\",'WINBUGS data'!$F$12:$AI$12,0)),\"\")","v":""},{"$f":"IFERROR(INDEX('WINBUGS data'!$F$12:$AI$26,MATCH($C34,'WINBUGS data'!$F$12:$F$26,0),MATCH(\"t[,\"&O$4 &\"]\",'WINBUGS data'!$F$12:$AI$12,0)),\"\")","v":""},{"$f":"IFERROR(INDEX('WINBUGS data'!$F$12:$AI$26,MATCH($C34,'WINBUGS data'!$F$12:$F$26,0),MATCH(\"t[,\"&P$4 &\"]\",'WINBUGS data'!$F$12:$AI$12,0)),\"\")","v":""},{"$f":"IFERROR(INDEX('WINBUGS data'!$F$12:$AI$26,MATCH($C34,'WINBUGS data'!$F$12:$F$26,0),MATCH(\"t[,\"&Q$4 &\"]\",'WINBUGS data'!$F$12:$AI$12,0)),\"\")","v":""},{"$f":"IFERROR(INDEX('WINBUGS data'!$F$12:$AI$26,MATCH($C34,'WINBUGS data'!$F$12:$F$26,0),MATCH(\"t[,\"&R$4 &\"]\",'WINBUGS data'!$F$12:$AI$12,0)),\"\")","v":""},{"$f":"IFERROR(INDEX('WINBUGS data'!$F$12:$AI$26,MATCH($C34,'WINBUGS data'!$F$12:$F$26,0),MATCH(\"t[,\"&S$4 &\"]\",'WINBUGS data'!$F$12:$AI$12,0)),\"\")","v":""},{"$f":"IFERROR(INDEX('WINBUGS data'!$F$12:$AI$26,MATCH($C34,'WINBUGS data'!$F$12:$F$26,0),MATCH(\"t[,\"&T$4 &\"]\",'WINBUGS data'!$F$12:$AI$12,0)),\"\")","v":""}]
[null,{"$f":"IFERROR(INDEX(list,MATCH(0,COUNTIF($E$5:E35,list),0)),\"\")","v":""},{"$f":"IF('WINBUGS data'!F43<>\"\",'WINBUGS data'!F43,\"\")","v":""},{"$f":"IFERROR(INDEX('WINBUGS data'!$F$12:$AI$26,MATCH(C35,'WINBUGS data'!$F$12:$F$26,0),MATCH(\"na[]\",'WINBUGS data'!$F$12:$AI$12,0)),\"\")","v":""},"",{"$f":"IFERROR(INDEX('WINBUGS data'!$F$12:$AI$26,MATCH($C35,'WINBUGS data'!$F$12:$F$26,0),MATCH(\"t[,\"&F$4 &\"]\",'WINBUGS data'!$F$12:$AI$12,0)),\"\")","v":""},{"$f":"IFERROR(INDEX('WINBUGS data'!$F$12:$AI$26,MATCH($C35,'WINBUGS data'!$F$12:$F$26,0),MATCH(\"t[,\"&G$4 &\"]\",'WINBUGS data'!$F$12:$AI$12,0)),\"\")","v":""},{"$f":"IFERROR(INDEX('WINBUGS data'!$F$12:$AI$26,MATCH($C35,'WINBUGS data'!$F$12:$F$26,0),MATCH(\"t[,\"&H$4 &\"]\",'WINBUGS data'!$F$12:$AI$12,0)),\"\")","v":""},{"$f":"IFERROR(INDEX('WINBUGS data'!$F$12:$AI$26,MATCH($C35,'WINBUGS data'!$F$12:$F$26,0),MATCH(\"t[,\"&I$4 &\"]\",'WINBUGS data'!$F$12:$AI$12,0)),\"\")","v":""},{"$f":"IFERROR(INDEX('WINBUGS data'!$F$12:$AI$26,MATCH($C35,'WINBUGS data'!$F$12:$F$26,0),MATCH(\"t[,\"&J$4 &\"]\",'WINBUGS data'!$F$12:$AI$12,0)),\"\")","v":""},{"$f":"IFERROR(INDEX('WINBUGS data'!$F$12:$AI$26,MATCH($C35,'WINBUGS data'!$F$12:$F$26,0),MATCH(\"t[,\"&K$4 &\"]\",'WINBUGS data'!$F$12:$AI$12,0)),\"\")","v":""},{"$f":"IFERROR(INDEX('WINBUGS data'!$F$12:$AI$26,MATCH($C35,'WINBUGS data'!$F$12:$F$26,0),MATCH(\"t[,\"&L$4 &\"]\",'WINBUGS data'!$F$12:$AI$12,0)),\"\")","v":""},{"$f":"IFERROR(INDEX('WINBUGS data'!$F$12:$AI$26,MATCH($C35,'WINBUGS data'!$F$12:$F$26,0),MATCH(\"t[,\"&M$4 &\"]\",'WINBUGS data'!$F$12:$AI$12,0)),\"\")","v":""},{"$f":"IFERROR(INDEX('WINBUGS data'!$F$12:$AI$26,MATCH($C35,'WINBUGS data'!$F$12:$F$26,0),MATCH(\"t[,\"&N$4 &\"]\",'WINBUGS data'!$F$12:$AI$12,0)),\"\")","v":""},{"$f":"IFERROR(INDEX('WINBUGS data'!$F$12:$AI$26,MATCH($C35,'WINBUGS data'!$F$12:$F$26,0),MATCH(\"t[,\"&O$4 &\"]\",'WINBUGS data'!$F$12:$AI$12,0)),\"\")","v":""},{"$f":"IFERROR(INDEX('WINBUGS data'!$F$12:$AI$26,MATCH($C35,'WINBUGS data'!$F$12:$F$26,0),MATCH(\"t[,\"&P$4 &\"]\",'WINBUGS data'!$F$12:$AI$12,0)),\"\")","v":""},{"$f":"IFERROR(INDEX('WINBUGS data'!$F$12:$AI$26,MATCH($C35,'WINBUGS data'!$F$12:$F$26,0),MATCH(\"t[,\"&Q$4 &\"]\",'WINBUGS data'!$F$12:$AI$12,0)),\"\")","v":""},{"$f":"IFERROR(INDEX('WINBUGS data'!$F$12:$AI$26,MATCH($C35,'WINBUGS data'!$F$12:$F$26,0),MATCH(\"t[,\"&R$4 &\"]\",'WINBUGS data'!$F$12:$AI$12,0)),\"\")","v":""},{"$f":"IFERROR(INDEX('WINBUGS data'!$F$12:$AI$26,MATCH($C35,'WINBUGS data'!$F$12:$F$26,0),MATCH(\"t[,\"&S$4 &\"]\",'WINBUGS data'!$F$12:$AI$12,0)),\"\")","v":""},{"$f":"IFERROR(INDEX('WINBUGS data'!$F$12:$AI$26,MATCH($C35,'WINBUGS data'!$F$12:$F$26,0),MATCH(\"t[,\"&T$4 &\"]\",'WINBUGS data'!$F$12:$AI$12,0)),\"\")","v":""}]
[null,{"$f":"IFERROR(INDEX(list,MATCH(0,COUNTIF($E$5:E36,list),0)),\"\")","v":""},{"$f":"IF('WINBUGS data'!F44<>\"\",'WINBUGS data'!F44,\"\")","v":""},{"$f":"IFERROR(INDEX('WINBUGS data'!$F$12:$AI$26,MATCH(C36,'WINBUGS data'!$F$12:$F$26,0),MATCH(\"na[]\",'WINBUGS data'!$F$12:$AI$12,0)),\"\")","v":""},"",{"$f":"IFERROR(INDEX('WINBUGS data'!$F$12:$AI$26,MATCH($C36,'WINBUGS data'!$F$12:$F$26,0),MATCH(\"t[,\"&F$4 &\"]\",'WINBUGS data'!$F$12:$AI$12,0)),\"\")","v":""},{"$f":"IFERROR(INDEX('WINBUGS data'!$F$12:$AI$26,MATCH($C36,'WINBUGS data'!$F$12:$F$26,0),MATCH(\"t[,\"&G$4 &\"]\",'WINBUGS data'!$F$12:$AI$12,0)),\"\")","v":""},{"$f":"IFERROR(INDEX('WINBUGS data'!$F$12:$AI$26,MATCH($C36,'WINBUGS data'!$F$12:$F$26,0),MATCH(\"t[,\"&H$4 &\"]\",'WINBUGS data'!$F$12:$AI$12,0)),\"\")","v":""},{"$f":"IFERROR(INDEX('WINBUGS data'!$F$12:$AI$26,MATCH($C36,'WINBUGS data'!$F$12:$F$26,0),MATCH(\"t[,\"&I$4 &\"]\",'WINBUGS data'!$F$12:$AI$12,0)),\"\")","v":""},{"$f":"IFERROR(INDEX('WINBUGS data'!$F$12:$AI$26,MATCH($C36,'WINBUGS data'!$F$12:$F$26,0),MATCH(\"t[,\"&J$4 &\"]\",'WINBUGS data'!$F$12:$AI$12,0)),\"\")","v":""},{"$f":"IFERROR(INDEX('WINBUGS data'!$F$12:$AI$26,MATCH($C36,'WINBUGS data'!$F$12:$F$26,0),MATCH(\"t[,\"&K$4 &\"]\",'WINBUGS data'!$F$12:$AI$12,0)),\"\")","v":""},{"$f":"IFERROR(INDEX('WINBUGS data'!$F$12:$AI$26,MATCH($C36,'WINBUGS data'!$F$12:$F$26,0),MATCH(\"t[,\"&L$4 &\"]\",'WINBUGS data'!$F$12:$AI$12,0)),\"\")","v":""},{"$f":"IFERROR(INDEX('WINBUGS data'!$F$12:$AI$26,MATCH($C36,'WINBUGS data'!$F$12:$F$26,0),MATCH(\"t[,\"&M$4 &\"]\",'WINBUGS data'!$F$12:$AI$12,0)),\"\")","v":""},{"$f":"IFERROR(INDEX('WINBUGS data'!$F$12:$AI$26,MATCH($C36,'WINBUGS data'!$F$12:$F$26,0),MATCH(\"t[,\"&N$4 &\"]\",'WINBUGS data'!$F$12:$AI$12,0)),\"\")","v":""},{"$f":"IFERROR(INDEX('WINBUGS data'!$F$12:$AI$26,MATCH($C36,'WINBUGS data'!$F$12:$F$26,0),MATCH(\"t[,\"&O$4 &\"]\",'WINBUGS data'!$F$12:$AI$12,0)),\"\")","v":""},{"$f":"IFERROR(INDEX('WINBUGS data'!$F$12:$AI$26,MATCH($C36,'WINBUGS data'!$F$12:$F$26,0),MATCH(\"t[,\"&P$4 &\"]\",'WINBUGS data'!$F$12:$AI$12,0)),\"\")","v":""},{"$f":"IFERROR(INDEX('WINBUGS data'!$F$12:$AI$26,MATCH($C36,'WINBUGS data'!$F$12:$F$26,0),MATCH(\"t[,\"&Q$4 &\"]\",'WINBUGS data'!$F$12:$AI$12,0)),\"\")","v":""},{"$f":"IFERROR(INDEX('WINBUGS data'!$F$12:$AI$26,MATCH($C36,'WINBUGS data'!$F$12:$F$26,0),MATCH(\"t[,\"&R$4 &\"]\",'WINBUGS data'!$F$12:$AI$12,0)),\"\")","v":""},{"$f":"IFERROR(INDEX('WINBUGS data'!$F$12:$AI$26,MATCH($C36,'WINBUGS data'!$F$12:$F$26,0),MATCH(\"t[,\"&S$4 &\"]\",'WINBUGS data'!$F$12:$AI$12,0)),\"\")","v":""},{"$f":"IFERROR(INDEX('WINBUGS data'!$F$12:$AI$26,MATCH($C36,'WINBUGS data'!$F$12:$F$26,0),MATCH(\"t[,\"&T$4 &\"]\",'WINBUGS data'!$F$12:$AI$12,0)),\"\")","v":""}]
[null,{"$f":"IFERROR(INDEX(list,MATCH(0,COUNTIF($E$5:E37,list),0)),\"\")","v":""},{"$f":"IF('WINBUGS data'!F45<>\"\",'WINBUGS data'!F45,\"\")","v":""},{"$f":"IFERROR(INDEX('WINBUGS data'!$F$12:$AI$26,MATCH(C37,'WINBUGS data'!$F$12:$F$26,0),MATCH(\"na[]\",'WINBUGS data'!$F$12:$AI$12,0)),\"\")","v":""},"",{"$f":"IFERROR(INDEX('WINBUGS data'!$F$12:$AI$26,MATCH($C37,'WINBUGS data'!$F$12:$F$26,0),MATCH(\"t[,\"&F$4 &\"]\",'WINBUGS data'!$F$12:$AI$12,0)),\"\")","v":""},{"$f":"IFERROR(INDEX('WINBUGS data'!$F$12:$AI$26,MATCH($C37,'WINBUGS data'!$F$12:$F$26,0),MATCH(\"t[,\"&G$4 &\"]\",'WINBUGS data'!$F$12:$AI$12,0)),\"\")","v":""},{"$f":"IFERROR(INDEX('WINBUGS data'!$F$12:$AI$26,MATCH($C37,'WINBUGS data'!$F$12:$F$26,0),MATCH(\"t[,\"&H$4 &\"]\",'WINBUGS data'!$F$12:$AI$12,0)),\"\")","v":""},{"$f":"IFERROR(INDEX('WINBUGS data'!$F$12:$AI$26,MATCH($C37,'WINBUGS data'!$F$12:$F$26,0),MATCH(\"t[,\"&I$4 &\"]\",'WINBUGS data'!$F$12:$AI$12,0)),\"\")","v":""},{"$f":"IFERROR(INDEX('WINBUGS data'!$F$12:$AI$26,MATCH($C37,'WINBUGS data'!$F$12:$F$26,0),MATCH(\"t[,\"&J$4 &\"]\",'WINBUGS data'!$F$12:$AI$12,0)),\"\")","v":""},{"$f":"IFERROR(INDEX('WINBUGS data'!$F$12:$AI$26,MATCH($C37,'WINBUGS data'!$F$12:$F$26,0),MATCH(\"t[,\"&K$4 &\"]\",'WINBUGS data'!$F$12:$AI$12,0)),\"\")","v":""},{"$f":"IFERROR(INDEX('WINBUGS data'!$F$12:$AI$26,MATCH($C37,'WINBUGS data'!$F$12:$F$26,0),MATCH(\"t[,\"&L$4 &\"]\",'WINBUGS data'!$F$12:$AI$12,0)),\"\")","v":""},{"$f":"IFERROR(INDEX('WINBUGS data'!$F$12:$AI$26,MATCH($C37,'WINBUGS data'!$F$12:$F$26,0),MATCH(\"t[,\"&M$4 &\"]\",'WINBUGS data'!$F$12:$AI$12,0)),\"\")","v":""},{"$f":"IFERROR(INDEX('WINBUGS data'!$F$12:$AI$26,MATCH($C37,'WINBUGS data'!$F$12:$F$26,0),MATCH(\"t[,\"&N$4 &\"]\",'WINBUGS data'!$F$12:$AI$12,0)),\"\")","v":""},{"$f":"IFERROR(INDEX('WINBUGS data'!$F$12:$AI$26,MATCH($C37,'WINBUGS data'!$F$12:$F$26,0),MATCH(\"t[,\"&O$4 &\"]\",'WINBUGS data'!$F$12:$AI$12,0)),\"\")","v":""},{"$f":"IFERROR(INDEX('WINBUGS data'!$F$12:$AI$26,MATCH($C37,'WINBUGS data'!$F$12:$F$26,0),MATCH(\"t[,\"&P$4 &\"]\",'WINBUGS data'!$F$12:$AI$12,0)),\"\")","v":""},{"$f":"IFERROR(INDEX('WINBUGS data'!$F$12:$AI$26,MATCH($C37,'WINBUGS data'!$F$12:$F$26,0),MATCH(\"t[,\"&Q$4 &\"]\",'WINBUGS data'!$F$12:$AI$12,0)),\"\")","v":""},{"$f":"IFERROR(INDEX('WINBUGS data'!$F$12:$AI$26,MATCH($C37,'WINBUGS data'!$F$12:$F$26,0),MATCH(\"t[,\"&R$4 &\"]\",'WINBUGS data'!$F$12:$AI$12,0)),\"\")","v":""},{"$f":"IFERROR(INDEX('WINBUGS data'!$F$12:$AI$26,MATCH($C37,'WINBUGS data'!$F$12:$F$26,0),MATCH(\"t[,\"&S$4 &\"]\",'WINBUGS data'!$F$12:$AI$12,0)),\"\")","v":""},{"$f":"IFERROR(INDEX('WINBUGS data'!$F$12:$AI$26,MATCH($C37,'WINBUGS data'!$F$12:$F$26,0),MATCH(\"t[,\"&T$4 &\"]\",'WINBUGS data'!$F$12:$AI$12,0)),\"\")","v":""}]
[null,{"$f":"IFERROR(INDEX(list,MATCH(0,COUNTIF($E$5:E38,list),0)),\"\")","v":""},{"$f":"IF('WINBUGS data'!F46<>\"\",'WINBUGS data'!F46,\"\")","v":""},{"$f":"IFERROR(INDEX('WINBUGS data'!$F$12:$AI$26,MATCH(C38,'WINBUGS data'!$F$12:$F$26,0),MATCH(\"na[]\",'WINBUGS data'!$F$12:$AI$12,0)),\"\")","v":""},"",{"$f":"IFERROR(INDEX('WINBUGS data'!$F$12:$AI$26,MATCH($C38,'WINBUGS data'!$F$12:$F$26,0),MATCH(\"t[,\"&F$4 &\"]\",'WINBUGS data'!$F$12:$AI$12,0)),\"\")","v":""},{"$f":"IFERROR(INDEX('WINBUGS data'!$F$12:$AI$26,MATCH($C38,'WINBUGS data'!$F$12:$F$26,0),MATCH(\"t[,\"&G$4 &\"]\",'WINBUGS data'!$F$12:$AI$12,0)),\"\")","v":""},{"$f":"IFERROR(INDEX('WINBUGS data'!$F$12:$AI$26,MATCH($C38,'WINBUGS data'!$F$12:$F$26,0),MATCH(\"t[,\"&H$4 &\"]\",'WINBUGS data'!$F$12:$AI$12,0)),\"\")","v":""},{"$f":"IFERROR(INDEX('WINBUGS data'!$F$12:$AI$26,MATCH($C38,'WINBUGS data'!$F$12:$F$26,0),MATCH(\"t[,\"&I$4 &\"]\",'WINBUGS data'!$F$12:$AI$12,0)),\"\")","v":""},{"$f":"IFERROR(INDEX('WINBUGS data'!$F$12:$AI$26,MATCH($C38,'WINBUGS data'!$F$12:$F$26,0),MATCH(\"t[,\"&J$4 &\"]\",'WINBUGS data'!$F$12:$AI$12,0)),\"\")","v":""},{"$f":"IFERROR(INDEX('WINBUGS data'!$F$12:$AI$26,MATCH($C38,'WINBUGS data'!$F$12:$F$26,0),MATCH(\"t[,\"&K$4 &\"]\",'WINBUGS data'!$F$12:$AI$12,0)),\"\")","v":""},{"$f":"IFERROR(INDEX('WINBUGS data'!$F$12:$AI$26,MATCH($C38,'WINBUGS data'!$F$12:$F$26,0),MATCH(\"t[,\"&L$4 &\"]\",'WINBUGS data'!$F$12:$AI$12,0)),\"\")","v":""},{"$f":"IFERROR(INDEX('WINBUGS data'!$F$12:$AI$26,MATCH($C38,'WINBUGS data'!$F$12:$F$26,0),MATCH(\"t[,\"&M$4 &\"]\",'WINBUGS data'!$F$12:$AI$12,0)),\"\")","v":""},{"$f":"IFERROR(INDEX('WINBUGS data'!$F$12:$AI$26,MATCH($C38,'WINBUGS data'!$F$12:$F$26,0),MATCH(\"t[,\"&N$4 &\"]\",'WINBUGS data'!$F$12:$AI$12,0)),\"\")","v":""},{"$f":"IFERROR(INDEX('WINBUGS data'!$F$12:$AI$26,MATCH($C38,'WINBUGS data'!$F$12:$F$26,0),MATCH(\"t[,\"&O$4 &\"]\",'WINBUGS data'!$F$12:$AI$12,0)),\"\")","v":""},{"$f":"IFERROR(INDEX('WINBUGS data'!$F$12:$AI$26,MATCH($C38,'WINBUGS data'!$F$12:$F$26,0),MATCH(\"t[,\"&P$4 &\"]\",'WINBUGS data'!$F$12:$AI$12,0)),\"\")","v":""},{"$f":"IFERROR(INDEX('WINBUGS data'!$F$12:$AI$26,MATCH($C38,'WINBUGS data'!$F$12:$F$26,0),MATCH(\"t[,\"&Q$4 &\"]\",'WINBUGS data'!$F$12:$AI$12,0)),\"\")","v":""},{"$f":"IFERROR(INDEX('WINBUGS data'!$F$12:$AI$26,MATCH($C38,'WINBUGS data'!$F$12:$F$26,0),MATCH(\"t[,\"&R$4 &\"]\",'WINBUGS data'!$F$12:$AI$12,0)),\"\")","v":""},{"$f":"IFERROR(INDEX('WINBUGS data'!$F$12:$AI$26,MATCH($C38,'WINBUGS data'!$F$12:$F$26,0),MATCH(\"t[,\"&S$4 &\"]\",'WINBUGS data'!$F$12:$AI$12,0)),\"\")","v":""},{"$f":"IFERROR(INDEX('WINBUGS data'!$F$12:$AI$26,MATCH($C38,'WINBUGS data'!$F$12:$F$26,0),MATCH(\"t[,\"&T$4 &\"]\",'WINBUGS data'!$F$12:$AI$12,0)),\"\")","v":""}]
[null,{"$f":"IFERROR(INDEX(list,MATCH(0,COUNTIF($E$5:E39,list),0)),\"\")","v":""},{"$f":"IF('WINBUGS data'!F47<>\"\",'WINBUGS data'!F47,\"\")","v":""},{"$f":"IFERROR(INDEX('WINBUGS data'!$F$12:$AI$26,MATCH(C39,'WINBUGS data'!$F$12:$F$26,0),MATCH(\"na[]\",'WINBUGS data'!$F$12:$AI$12,0)),\"\")","v":""},"",{"$f":"IFERROR(INDEX('WINBUGS data'!$F$12:$AI$26,MATCH($C39,'WINBUGS data'!$F$12:$F$26,0),MATCH(\"t[,\"&F$4 &\"]\",'WINBUGS data'!$F$12:$AI$12,0)),\"\")","v":""},{"$f":"IFERROR(INDEX('WINBUGS data'!$F$12:$AI$26,MATCH($C39,'WINBUGS data'!$F$12:$F$26,0),MATCH(\"t[,\"&G$4 &\"]\",'WINBUGS data'!$F$12:$AI$12,0)),\"\")","v":""},{"$f":"IFERROR(INDEX('WINBUGS data'!$F$12:$AI$26,MATCH($C39,'WINBUGS data'!$F$12:$F$26,0),MATCH(\"t[,\"&H$4 &\"]\",'WINBUGS data'!$F$12:$AI$12,0)),\"\")","v":""},{"$f":"IFERROR(INDEX('WINBUGS data'!$F$12:$AI$26,MATCH($C39,'WINBUGS data'!$F$12:$F$26,0),MATCH(\"t[,\"&I$4 &\"]\",'WINBUGS data'!$F$12:$AI$12,0)),\"\")","v":""},{"$f":"IFERROR(INDEX('WINBUGS data'!$F$12:$AI$26,MATCH($C39,'WINBUGS data'!$F$12:$F$26,0),MATCH(\"t[,\"&J$4 &\"]\",'WINBUGS data'!$F$12:$AI$12,0)),\"\")","v":""},{"$f":"IFERROR(INDEX('WINBUGS data'!$F$12:$AI$26,MATCH($C39,'WINBUGS data'!$F$12:$F$26,0),MATCH(\"t[,\"&K$4 &\"]\",'WINBUGS data'!$F$12:$AI$12,0)),\"\")","v":""},{"$f":"IFERROR(INDEX('WINBUGS data'!$F$12:$AI$26,MATCH($C39,'WINBUGS data'!$F$12:$F$26,0),MATCH(\"t[,\"&L$4 &\"]\",'WINBUGS data'!$F$12:$AI$12,0)),\"\")","v":""},{"$f":"IFERROR(INDEX('WINBUGS data'!$F$12:$AI$26,MATCH($C39,'WINBUGS data'!$F$12:$F$26,0),MATCH(\"t[,\"&M$4 &\"]\",'WINBUGS data'!$F$12:$AI$12,0)),\"\")","v":""},{"$f":"IFERROR(INDEX('WINBUGS data'!$F$12:$AI$26,MATCH($C39,'WINBUGS data'!$F$12:$F$26,0),MATCH(\"t[,\"&N$4 &\"]\",'WINBUGS data'!$F$12:$AI$12,0)),\"\")","v":""},{"$f":"IFERROR(INDEX('WINBUGS data'!$F$12:$AI$26,MATCH($C39,'WINBUGS data'!$F$12:$F$26,0),MATCH(\"t[,\"&O$4 &\"]\",'WINBUGS data'!$F$12:$AI$12,0)),\"\")","v":""},{"$f":"IFERROR(INDEX('WINBUGS data'!$F$12:$AI$26,MATCH($C39,'WINBUGS data'!$F$12:$F$26,0),MATCH(\"t[,\"&P$4 &\"]\",'WINBUGS data'!$F$12:$AI$12,0)),\"\")","v":""},{"$f":"IFERROR(INDEX('WINBUGS data'!$F$12:$AI$26,MATCH($C39,'WINBUGS data'!$F$12:$F$26,0),MATCH(\"t[,\"&Q$4 &\"]\",'WINBUGS data'!$F$12:$AI$12,0)),\"\")","v":""},{"$f":"IFERROR(INDEX('WINBUGS data'!$F$12:$AI$26,MATCH($C39,'WINBUGS data'!$F$12:$F$26,0),MATCH(\"t[,\"&R$4 &\"]\",'WINBUGS data'!$F$12:$AI$12,0)),\"\")","v":""},{"$f":"IFERROR(INDEX('WINBUGS data'!$F$12:$AI$26,MATCH($C39,'WINBUGS data'!$F$12:$F$26,0),MATCH(\"t[,\"&S$4 &\"]\",'WINBUGS data'!$F$12:$AI$12,0)),\"\")","v":""},{"$f":"IFERROR(INDEX('WINBUGS data'!$F$12:$AI$26,MATCH($C39,'WINBUGS data'!$F$12:$F$26,0),MATCH(\"t[,\"&T$4 &\"]\",'WINBUGS data'!$F$12:$AI$12,0)),\"\")","v":""}]
[null,{"$f":"IFERROR(INDEX(list,MATCH(0,COUNTIF($E$5:E40,list),0)),\"\")","v":""},{"$f":"IF('WINBUGS data'!F48<>\"\",'WINBUGS data'!F48,\"\")","v":""},{"$f":"IFERROR(INDEX('WINBUGS data'!$F$12:$AI$26,MATCH(C40,'WINBUGS data'!$F$12:$F$26,0),MATCH(\"na[]\",'WINBUGS data'!$F$12:$AI$12,0)),\"\")","v":""},"",{"$f":"IFERROR(INDEX('WINBUGS data'!$F$12:$AI$26,MATCH($C40,'WINBUGS data'!$F$12:$F$26,0),MATCH(\"t[,\"&F$4 &\"]\",'WINBUGS data'!$F$12:$AI$12,0)),\"\")","v":""},{"$f":"IFERROR(INDEX('WINBUGS data'!$F$12:$AI$26,MATCH($C40,'WINBUGS data'!$F$12:$F$26,0),MATCH(\"t[,\"&G$4 &\"]\",'WINBUGS data'!$F$12:$AI$12,0)),\"\")","v":""},{"$f":"IFERROR(INDEX('WINBUGS data'!$F$12:$AI$26,MATCH($C40,'WINBUGS data'!$F$12:$F$26,0),MATCH(\"t[,\"&H$4 &\"]\",'WINBUGS data'!$F$12:$AI$12,0)),\"\")","v":""},{"$f":"IFERROR(INDEX('WINBUGS data'!$F$12:$AI$26,MATCH($C40,'WINBUGS data'!$F$12:$F$26,0),MATCH(\"t[,\"&I$4 &\"]\",'WINBUGS data'!$F$12:$AI$12,0)),\"\")","v":""},{"$f":"IFERROR(INDEX('WINBUGS data'!$F$12:$AI$26,MATCH($C40,'WINBUGS data'!$F$12:$F$26,0),MATCH(\"t[,\"&J$4 &\"]\",'WINBUGS data'!$F$12:$AI$12,0)),\"\")","v":""},{"$f":"IFERROR(INDEX('WINBUGS data'!$F$12:$AI$26,MATCH($C40,'WINBUGS data'!$F$12:$F$26,0),MATCH(\"t[,\"&K$4 &\"]\",'WINBUGS data'!$F$12:$AI$12,0)),\"\")","v":""},{"$f":"IFERROR(INDEX('WINBUGS data'!$F$12:$AI$26,MATCH($C40,'WINBUGS data'!$F$12:$F$26,0),MATCH(\"t[,\"&L$4 &\"]\",'WINBUGS data'!$F$12:$AI$12,0)),\"\")","v":""},{"$f":"IFERROR(INDEX('WINBUGS data'!$F$12:$AI$26,MATCH($C40,'WINBUGS data'!$F$12:$F$26,0),MATCH(\"t[,\"&M$4 &\"]\",'WINBUGS data'!$F$12:$AI$12,0)),\"\")","v":""},{"$f":"IFERROR(INDEX('WINBUGS data'!$F$12:$AI$26,MATCH($C40,'WINBUGS data'!$F$12:$F$26,0),MATCH(\"t[,\"&N$4 &\"]\",'WINBUGS data'!$F$12:$AI$12,0)),\"\")","v":""},{"$f":"IFERROR(INDEX('WINBUGS data'!$F$12:$AI$26,MATCH($C40,'WINBUGS data'!$F$12:$F$26,0),MATCH(\"t[,\"&O$4 &\"]\",'WINBUGS data'!$F$12:$AI$12,0)),\"\")","v":""},{"$f":"IFERROR(INDEX('WINBUGS data'!$F$12:$AI$26,MATCH($C40,'WINBUGS data'!$F$12:$F$26,0),MATCH(\"t[,\"&P$4 &\"]\",'WINBUGS data'!$F$12:$AI$12,0)),\"\")","v":""},{"$f":"IFERROR(INDEX('WINBUGS data'!$F$12:$AI$26,MATCH($C40,'WINBUGS data'!$F$12:$F$26,0),MATCH(\"t[,\"&Q$4 &\"]\",'WINBUGS data'!$F$12:$AI$12,0)),\"\")","v":""},{"$f":"IFERROR(INDEX('WINBUGS data'!$F$12:$AI$26,MATCH($C40,'WINBUGS data'!$F$12:$F$26,0),MATCH(\"t[,\"&R$4 &\"]\",'WINBUGS data'!$F$12:$AI$12,0)),\"\")","v":""},{"$f":"IFERROR(INDEX('WINBUGS data'!$F$12:$AI$26,MATCH($C40,'WINBUGS data'!$F$12:$F$26,0),MATCH(\"t[,\"&S$4 &\"]\",'WINBUGS data'!$F$12:$AI$12,0)),\"\")","v":""},{"$f":"IFERROR(INDEX('WINBUGS data'!$F$12:$AI$26,MATCH($C40,'WINBUGS data'!$F$12:$F$26,0),MATCH(\"t[,\"&T$4 &\"]\",'WINBUGS data'!$F$12:$AI$12,0)),\"\")","v":""}]
[null,{"$f":"IFERROR(INDEX(list,MATCH(0,COUNTIF($E$5:E41,list),0)),\"\")","v":""},{"$f":"IF('WINBUGS data'!F49<>\"\",'WINBUGS data'!F49,\"\")","v":""},{"$f":"IFERROR(INDEX('WINBUGS data'!$F$12:$AI$26,MATCH(C41,'WINBUGS data'!$F$12:$F$26,0),MATCH(\"na[]\",'WINBUGS data'!$F$12:$AI$12,0)),\"\")","v":""},"",{"$f":"IFERROR(INDEX('WINBUGS data'!$F$12:$AI$26,MATCH($C41,'WINBUGS data'!$F$12:$F$26,0),MATCH(\"t[,\"&F$4 &\"]\",'WINBUGS data'!$F$12:$AI$12,0)),\"\")","v":""},{"$f":"IFERROR(INDEX('WINBUGS data'!$F$12:$AI$26,MATCH($C41,'WINBUGS data'!$F$12:$F$26,0),MATCH(\"t[,\"&G$4 &\"]\",'WINBUGS data'!$F$12:$AI$12,0)),\"\")","v":""},{"$f":"IFERROR(INDEX('WINBUGS data'!$F$12:$AI$26,MATCH($C41,'WINBUGS data'!$F$12:$F$26,0),MATCH(\"t[,\"&H$4 &\"]\",'WINBUGS data'!$F$12:$AI$12,0)),\"\")","v":""},{"$f":"IFERROR(INDEX('WINBUGS data'!$F$12:$AI$26,MATCH($C41,'WINBUGS data'!$F$12:$F$26,0),MATCH(\"t[,\"&I$4 &\"]\",'WINBUGS data'!$F$12:$AI$12,0)),\"\")","v":""},{"$f":"IFERROR(INDEX('WINBUGS data'!$F$12:$AI$26,MATCH($C41,'WINBUGS data'!$F$12:$F$26,0),MATCH(\"t[,\"&J$4 &\"]\",'WINBUGS data'!$F$12:$AI$12,0)),\"\")","v":""},{"$f":"IFERROR(INDEX('WINBUGS data'!$F$12:$AI$26,MATCH($C41,'WINBUGS data'!$F$12:$F$26,0),MATCH(\"t[,\"&K$4 &\"]\",'WINBUGS data'!$F$12:$AI$12,0)),\"\")","v":""},{"$f":"IFERROR(INDEX('WINBUGS data'!$F$12:$AI$26,MATCH($C41,'WINBUGS data'!$F$12:$F$26,0),MATCH(\"t[,\"&L$4 &\"]\",'WINBUGS data'!$F$12:$AI$12,0)),\"\")","v":""},{"$f":"IFERROR(INDEX('WINBUGS data'!$F$12:$AI$26,MATCH($C41,'WINBUGS data'!$F$12:$F$26,0),MATCH(\"t[,\"&M$4 &\"]\",'WINBUGS data'!$F$12:$AI$12,0)),\"\")","v":""},{"$f":"IFERROR(INDEX('WINBUGS data'!$F$12:$AI$26,MATCH($C41,'WINBUGS data'!$F$12:$F$26,0),MATCH(\"t[,\"&N$4 &\"]\",'WINBUGS data'!$F$12:$AI$12,0)),\"\")","v":""},{"$f":"IFERROR(INDEX('WINBUGS data'!$F$12:$AI$26,MATCH($C41,'WINBUGS data'!$F$12:$F$26,0),MATCH(\"t[,\"&O$4 &\"]\",'WINBUGS data'!$F$12:$AI$12,0)),\"\")","v":""},{"$f":"IFERROR(INDEX('WINBUGS data'!$F$12:$AI$26,MATCH($C41,'WINBUGS data'!$F$12:$F$26,0),MATCH(\"t[,\"&P$4 &\"]\",'WINBUGS data'!$F$12:$AI$12,0)),\"\")","v":""},{"$f":"IFERROR(INDEX('WINBUGS data'!$F$12:$AI$26,MATCH($C41,'WINBUGS data'!$F$12:$F$26,0),MATCH(\"t[,\"&Q$4 &\"]\",'WINBUGS data'!$F$12:$AI$12,0)),\"\")","v":""},{"$f":"IFERROR(INDEX('WINBUGS data'!$F$12:$AI$26,MATCH($C41,'WINBUGS data'!$F$12:$F$26,0),MATCH(\"t[,\"&R$4 &\"]\",'WINBUGS data'!$F$12:$AI$12,0)),\"\")","v":""},{"$f":"IFERROR(INDEX('WINBUGS data'!$F$12:$AI$26,MATCH($C41,'WINBUGS data'!$F$12:$F$26,0),MATCH(\"t[,\"&S$4 &\"]\",'WINBUGS data'!$F$12:$AI$12,0)),\"\")","v":""},{"$f":"IFERROR(INDEX('WINBUGS data'!$F$12:$AI$26,MATCH($C41,'WINBUGS data'!$F$12:$F$26,0),MATCH(\"t[,\"&T$4 &\"]\",'WINBUGS data'!$F$12:$AI$12,0)),\"\")","v":""}]
[null,{"$f":"IFERROR(INDEX(list,MATCH(0,COUNTIF($E$5:E42,list),0)),\"\")","v":""},{"$f":"IF('WINBUGS data'!F50<>\"\",'WINBUGS data'!F50,\"\")","v":""},{"$f":"IFERROR(INDEX('WINBUGS data'!$F$12:$AI$26,MATCH(C42,'WINBUGS data'!$F$12:$F$26,0),MATCH(\"na[]\",'WINBUGS data'!$F$12:$AI$12,0)),\"\")","v":""},"",{"$f":"IFERROR(INDEX('WINBUGS data'!$F$12:$AI$26,MATCH($C42,'WINBUGS data'!$F$12:$F$26,0),MATCH(\"t[,\"&F$4 &\"]\",'WINBUGS data'!$F$12:$AI$12,0)),\"\")","v":""},{"$f":"IFERROR(INDEX('WINBUGS data'!$F$12:$AI$26,MATCH($C42,'WINBUGS data'!$F$12:$F$26,0),MATCH(\"t[,\"&G$4 &\"]\",'WINBUGS data'!$F$12:$AI$12,0)),\"\")","v":""},{"$f":"IFERROR(INDEX('WINBUGS data'!$F$12:$AI$26,MATCH($C42,'WINBUGS data'!$F$12:$F$26,0),MATCH(\"t[,\"&H$4 &\"]\",'WINBUGS data'!$F$12:$AI$12,0)),\"\")","v":""},{"$f":"IFERROR(INDEX('WINBUGS data'!$F$12:$AI$26,MATCH($C42,'WINBUGS data'!$F$12:$F$26,0),MATCH(\"t[,\"&I$4 &\"]\",'WINBUGS data'!$F$12:$AI$12,0)),\"\")","v":""},{"$f":"IFERROR(INDEX('WINBUGS data'!$F$12:$AI$26,MATCH($C42,'WINBUGS data'!$F$12:$F$26,0),MATCH(\"t[,\"&J$4 &\"]\",'WINBUGS data'!$F$12:$AI$12,0)),\"\")","v":""},{"$f":"IFERROR(INDEX('WINBUGS data'!$F$12:$AI$26,MATCH($C42,'WINBUGS data'!$F$12:$F$26,0),MATCH(\"t[,\"&K$4 &\"]\",'WINBUGS data'!$F$12:$AI$12,0)),\"\")","v":""},{"$f":"IFERROR(INDEX('WINBUGS data'!$F$12:$AI$26,MATCH($C42,'WINBUGS data'!$F$12:$F$26,0),MATCH(\"t[,\"&L$4 &\"]\",'WINBUGS data'!$F$12:$AI$12,0)),\"\")","v":""},{"$f":"IFERROR(INDEX('WINBUGS data'!$F$12:$AI$26,MATCH($C42,'WINBUGS data'!$F$12:$F$26,0),MATCH(\"t[,\"&M$4 &\"]\",'WINBUGS data'!$F$12:$AI$12,0)),\"\")","v":""},{"$f":"IFERROR(INDEX('WINBUGS data'!$F$12:$AI$26,MATCH($C42,'WINBUGS data'!$F$12:$F$26,0),MATCH(\"t[,\"&N$4 &\"]\",'WINBUGS data'!$F$12:$AI$12,0)),\"\")","v":""},{"$f":"IFERROR(INDEX('WINBUGS data'!$F$12:$AI$26,MATCH($C42,'WINBUGS data'!$F$12:$F$26,0),MATCH(\"t[,\"&O$4 &\"]\",'WINBUGS data'!$F$12:$AI$12,0)),\"\")","v":""},{"$f":"IFERROR(INDEX('WINBUGS data'!$F$12:$AI$26,MATCH($C42,'WINBUGS data'!$F$12:$F$26,0),MATCH(\"t[,\"&P$4 &\"]\",'WINBUGS data'!$F$12:$AI$12,0)),\"\")","v":""},{"$f":"IFERROR(INDEX('WINBUGS data'!$F$12:$AI$26,MATCH($C42,'WINBUGS data'!$F$12:$F$26,0),MATCH(\"t[,\"&Q$4 &\"]\",'WINBUGS data'!$F$12:$AI$12,0)),\"\")","v":""},{"$f":"IFERROR(INDEX('WINBUGS data'!$F$12:$AI$26,MATCH($C42,'WINBUGS data'!$F$12:$F$26,0),MATCH(\"t[,\"&R$4 &\"]\",'WINBUGS data'!$F$12:$AI$12,0)),\"\")","v":""},{"$f":"IFERROR(INDEX('WINBUGS data'!$F$12:$AI$26,MATCH($C42,'WINBUGS data'!$F$12:$F$26,0),MATCH(\"t[,\"&S$4 &\"]\",'WINBUGS data'!$F$12:$AI$12,0)),\"\")","v":""},{"$f":"IFERROR(INDEX('WINBUGS data'!$F$12:$AI$26,MATCH($C42,'WINBUGS data'!$F$12:$F$26,0),MATCH(\"t[,\"&T$4 &\"]\",'WINBUGS data'!$F$12:$AI$12,0)),\"\")","v":""}]
[null,{"$f":"IFERROR(INDEX(list,MATCH(0,COUNTIF($E$5:E43,list),0)),\"\")","v":""},{"$f":"IF('WINBUGS data'!F51<>\"\",'WINBUGS data'!F51,\"\")","v":""},{"$f":"IFERROR(INDEX('WINBUGS data'!$F$12:$AI$26,MATCH(C43,'WINBUGS data'!$F$12:$F$26,0),MATCH(\"na[]\",'WINBUGS data'!$F$12:$AI$12,0)),\"\")","v":""},"",{"$f":"IFERROR(INDEX('WINBUGS data'!$F$12:$AI$26,MATCH($C43,'WINBUGS data'!$F$12:$F$26,0),MATCH(\"t[,\"&F$4 &\"]\",'WINBUGS data'!$F$12:$AI$12,0)),\"\")","v":""},{"$f":"IFERROR(INDEX('WINBUGS data'!$F$12:$AI$26,MATCH($C43,'WINBUGS data'!$F$12:$F$26,0),MATCH(\"t[,\"&G$4 &\"]\",'WINBUGS data'!$F$12:$AI$12,0)),\"\")","v":""},{"$f":"IFERROR(INDEX('WINBUGS data'!$F$12:$AI$26,MATCH($C43,'WINBUGS data'!$F$12:$F$26,0),MATCH(\"t[,\"&H$4 &\"]\",'WINBUGS data'!$F$12:$AI$12,0)),\"\")","v":""},{"$f":"IFERROR(INDEX('WINBUGS data'!$F$12:$AI$26,MATCH($C43,'WINBUGS data'!$F$12:$F$26,0),MATCH(\"t[,\"&I$4 &\"]\",'WINBUGS data'!$F$12:$AI$12,0)),\"\")","v":""},{"$f":"IFERROR(INDEX('WINBUGS data'!$F$12:$AI$26,MATCH($C43,'WINBUGS data'!$F$12:$F$26,0),MATCH(\"t[,\"&J$4 &\"]\",'WINBUGS data'!$F$12:$AI$12,0)),\"\")","v":""},{"$f":"IFERROR(INDEX('WINBUGS data'!$F$12:$AI$26,MATCH($C43,'WINBUGS data'!$F$12:$F$26,0),MATCH(\"t[,\"&K$4 &\"]\",'WINBUGS data'!$F$12:$AI$12,0)),\"\")","v":""},{"$f":"IFERROR(INDEX('WINBUGS data'!$F$12:$AI$26,MATCH($C43,'WINBUGS data'!$F$12:$F$26,0),MATCH(\"t[,\"&L$4 &\"]\",'WINBUGS data'!$F$12:$AI$12,0)),\"\")","v":""},{"$f":"IFERROR(INDEX('WINBUGS data'!$F$12:$AI$26,MATCH($C43,'WINBUGS data'!$F$12:$F$26,0),MATCH(\"t[,\"&M$4 &\"]\",'WINBUGS data'!$F$12:$AI$12,0)),\"\")","v":""},{"$f":"IFERROR(INDEX('WINBUGS data'!$F$12:$AI$26,MATCH($C43,'WINBUGS data'!$F$12:$F$26,0),MATCH(\"t[,\"&N$4 &\"]\",'WINBUGS data'!$F$12:$AI$12,0)),\"\")","v":""},{"$f":"IFERROR(INDEX('WINBUGS data'!$F$12:$AI$26,MATCH($C43,'WINBUGS data'!$F$12:$F$26,0),MATCH(\"t[,\"&O$4 &\"]\",'WINBUGS data'!$F$12:$AI$12,0)),\"\")","v":""},{"$f":"IFERROR(INDEX('WINBUGS data'!$F$12:$AI$26,MATCH($C43,'WINBUGS data'!$F$12:$F$26,0),MATCH(\"t[,\"&P$4 &\"]\",'WINBUGS data'!$F$12:$AI$12,0)),\"\")","v":""},{"$f":"IFERROR(INDEX('WINBUGS data'!$F$12:$AI$26,MATCH($C43,'WINBUGS data'!$F$12:$F$26,0),MATCH(\"t[,\"&Q$4 &\"]\",'WINBUGS data'!$F$12:$AI$12,0)),\"\")","v":""},{"$f":"IFERROR(INDEX('WINBUGS data'!$F$12:$AI$26,MATCH($C43,'WINBUGS data'!$F$12:$F$26,0),MATCH(\"t[,\"&R$4 &\"]\",'WINBUGS data'!$F$12:$AI$12,0)),\"\")","v":""},{"$f":"IFERROR(INDEX('WINBUGS data'!$F$12:$AI$26,MATCH($C43,'WINBUGS data'!$F$12:$F$26,0),MATCH(\"t[,\"&S$4 &\"]\",'WINBUGS data'!$F$12:$AI$12,0)),\"\")","v":""},{"$f":"IFERROR(INDEX('WINBUGS data'!$F$12:$AI$26,MATCH($C43,'WINBUGS data'!$F$12:$F$26,0),MATCH(\"t[,\"&T$4 &\"]\",'WINBUGS data'!$F$12:$AI$12,0)),\"\")","v":""}]
[null,{"$f":"IFERROR(INDEX(list,MATCH(0,COUNTIF($E$5:E44,list),0)),\"\")","v":""},{"$f":"IF('WINBUGS data'!F52<>\"\",'WINBUGS data'!F52,\"\")","v":""},{"$f":"IFERROR(INDEX('WINBUGS data'!$F$12:$AI$26,MATCH(C44,'WINBUGS data'!$F$12:$F$26,0),MATCH(\"na[]\",'WINBUGS data'!$F$12:$AI$12,0)),\"\")","v":""},"",{"$f":"IFERROR(INDEX('WINBUGS data'!$F$12:$AI$26,MATCH($C44,'WINBUGS data'!$F$12:$F$26,0),MATCH(\"t[,\"&F$4 &\"]\",'WINBUGS data'!$F$12:$AI$12,0)),\"\")","v":""},{"$f":"IFERROR(INDEX('WINBUGS data'!$F$12:$AI$26,MATCH($C44,'WINBUGS data'!$F$12:$F$26,0),MATCH(\"t[,\"&G$4 &\"]\",'WINBUGS data'!$F$12:$AI$12,0)),\"\")","v":""},{"$f":"IFERROR(INDEX('WINBUGS data'!$F$12:$AI$26,MATCH($C44,'WINBUGS data'!$F$12:$F$26,0),MATCH(\"t[,\"&H$4 &\"]\",'WINBUGS data'!$F$12:$AI$12,0)),\"\")","v":""},{"$f":"IFERROR(INDEX('WINBUGS data'!$F$12:$AI$26,MATCH($C44,'WINBUGS data'!$F$12:$F$26,0),MATCH(\"t[,\"&I$4 &\"]\",'WINBUGS data'!$F$12:$AI$12,0)),\"\")","v":""},{"$f":"IFERROR(INDEX('WINBUGS data'!$F$12:$AI$26,MATCH($C44,'WINBUGS data'!$F$12:$F$26,0),MATCH(\"t[,\"&J$4 &\"]\",'WINBUGS data'!$F$12:$AI$12,0)),\"\")","v":""},{"$f":"IFERROR(INDEX('WINBUGS data'!$F$12:$AI$26,MATCH($C44,'WINBUGS data'!$F$12:$F$26,0),MATCH(\"t[,\"&K$4 &\"]\",'WINBUGS data'!$F$12:$AI$12,0)),\"\")","v":""},{"$f":"IFERROR(INDEX('WINBUGS data'!$F$12:$AI$26,MATCH($C44,'WINBUGS data'!$F$12:$F$26,0),MATCH(\"t[,\"&L$4 &\"]\",'WINBUGS data'!$F$12:$AI$12,0)),\"\")","v":""},{"$f":"IFERROR(INDEX('WINBUGS data'!$F$12:$AI$26,MATCH($C44,'WINBUGS data'!$F$12:$F$26,0),MATCH(\"t[,\"&M$4 &\"]\",'WINBUGS data'!$F$12:$AI$12,0)),\"\")","v":""},{"$f":"IFERROR(INDEX('WINBUGS data'!$F$12:$AI$26,MATCH($C44,'WINBUGS data'!$F$12:$F$26,0),MATCH(\"t[,\"&N$4 &\"]\",'WINBUGS data'!$F$12:$AI$12,0)),\"\")","v":""},{"$f":"IFERROR(INDEX('WINBUGS data'!$F$12:$AI$26,MATCH($C44,'WINBUGS data'!$F$12:$F$26,0),MATCH(\"t[,\"&O$4 &\"]\",'WINBUGS data'!$F$12:$AI$12,0)),\"\")","v":""},{"$f":"IFERROR(INDEX('WINBUGS data'!$F$12:$AI$26,MATCH($C44,'WINBUGS data'!$F$12:$F$26,0),MATCH(\"t[,\"&P$4 &\"]\",'WINBUGS data'!$F$12:$AI$12,0)),\"\")","v":""},{"$f":"IFERROR(INDEX('WINBUGS data'!$F$12:$AI$26,MATCH($C44,'WINBUGS data'!$F$12:$F$26,0),MATCH(\"t[,\"&Q$4 &\"]\",'WINBUGS data'!$F$12:$AI$12,0)),\"\")","v":""},{"$f":"IFERROR(INDEX('WINBUGS data'!$F$12:$AI$26,MATCH($C44,'WINBUGS data'!$F$12:$F$26,0),MATCH(\"t[,\"&R$4 &\"]\",'WINBUGS data'!$F$12:$AI$12,0)),\"\")","v":""},{"$f":"IFERROR(INDEX('WINBUGS data'!$F$12:$AI$26,MATCH($C44,'WINBUGS data'!$F$12:$F$26,0),MATCH(\"t[,\"&S$4 &\"]\",'WINBUGS data'!$F$12:$AI$12,0)),\"\")","v":""},{"$f":"IFERROR(INDEX('WINBUGS data'!$F$12:$AI$26,MATCH($C44,'WINBUGS data'!$F$12:$F$26,0),MATCH(\"t[,\"&T$4 &\"]\",'WINBUGS data'!$F$12:$AI$12,0)),\"\")","v":""}]
[null,{"$f":"IFERROR(INDEX(list,MATCH(0,COUNTIF($E$5:E45,list),0)),\"\")","v":""},{"$f":"IF('WINBUGS data'!F53<>\"\",'WINBUGS data'!F53,\"\")","v":""},{"$f":"IFERROR(INDEX('WINBUGS data'!$F$12:$AI$26,MATCH(C45,'WINBUGS data'!$F$12:$F$26,0),MATCH(\"na[]\",'WINBUGS data'!$F$12:$AI$12,0)),\"\")","v":""},"",{"$f":"IFERROR(INDEX('WINBUGS data'!$F$12:$AI$26,MATCH($C45,'WINBUGS data'!$F$12:$F$26,0),MATCH(\"t[,\"&F$4 &\"]\",'WINBUGS data'!$F$12:$AI$12,0)),\"\")","v":""},{"$f":"IFERROR(INDEX('WINBUGS data'!$F$12:$AI$26,MATCH($C45,'WINBUGS data'!$F$12:$F$26,0),MATCH(\"t[,\"&G$4 &\"]\",'WINBUGS data'!$F$12:$AI$12,0)),\"\")","v":""},{"$f":"IFERROR(INDEX('WINBUGS data'!$F$12:$AI$26,MATCH($C45,'WINBUGS data'!$F$12:$F$26,0),MATCH(\"t[,\"&H$4 &\"]\",'WINBUGS data'!$F$12:$AI$12,0)),\"\")","v":""},{"$f":"IFERROR(INDEX('WINBUGS data'!$F$12:$AI$26,MATCH($C45,'WINBUGS data'!$F$12:$F$26,0),MATCH(\"t[,\"&I$4 &\"]\",'WINBUGS data'!$F$12:$AI$12,0)),\"\")","v":""},{"$f":"IFERROR(INDEX('WINBUGS data'!$F$12:$AI$26,MATCH($C45,'WINBUGS data'!$F$12:$F$26,0),MATCH(\"t[,\"&J$4 &\"]\",'WINBUGS data'!$F$12:$AI$12,0)),\"\")","v":""},{"$f":"IFERROR(INDEX('WINBUGS data'!$F$12:$AI$26,MATCH($C45,'WINBUGS data'!$F$12:$F$26,0),MATCH(\"t[,\"&K$4 &\"]\",'WINBUGS data'!$F$12:$AI$12,0)),\"\")","v":""},{"$f":"IFERROR(INDEX('WINBUGS data'!$F$12:$AI$26,MATCH($C45,'WINBUGS data'!$F$12:$F$26,0),MATCH(\"t[,\"&L$4 &\"]\",'WINBUGS data'!$F$12:$AI$12,0)),\"\")","v":""},{"$f":"IFERROR(INDEX('WINBUGS data'!$F$12:$AI$26,MATCH($C45,'WINBUGS data'!$F$12:$F$26,0),MATCH(\"t[,\"&M$4 &\"]\",'WINBUGS data'!$F$12:$AI$12,0)),\"\")","v":""},{"$f":"IFERROR(INDEX('WINBUGS data'!$F$12:$AI$26,MATCH($C45,'WINBUGS data'!$F$12:$F$26,0),MATCH(\"t[,\"&N$4 &\"]\",'WINBUGS data'!$F$12:$AI$12,0)),\"\")","v":""},{"$f":"IFERROR(INDEX('WINBUGS data'!$F$12:$AI$26,MATCH($C45,'WINBUGS data'!$F$12:$F$26,0),MATCH(\"t[,\"&O$4 &\"]\",'WINBUGS data'!$F$12:$AI$12,0)),\"\")","v":""},{"$f":"IFERROR(INDEX('WINBUGS data'!$F$12:$AI$26,MATCH($C45,'WINBUGS data'!$F$12:$F$26,0),MATCH(\"t[,\"&P$4 &\"]\",'WINBUGS data'!$F$12:$AI$12,0)),\"\")","v":""},{"$f":"IFERROR(INDEX('WINBUGS data'!$F$12:$AI$26,MATCH($C45,'WINBUGS data'!$F$12:$F$26,0),MATCH(\"t[,\"&Q$4 &\"]\",'WINBUGS data'!$F$12:$AI$12,0)),\"\")","v":""},{"$f":"IFERROR(INDEX('WINBUGS data'!$F$12:$AI$26,MATCH($C45,'WINBUGS data'!$F$12:$F$26,0),MATCH(\"t[,\"&R$4 &\"]\",'WINBUGS data'!$F$12:$AI$12,0)),\"\")","v":""},{"$f":"IFERROR(INDEX('WINBUGS data'!$F$12:$AI$26,MATCH($C45,'WINBUGS data'!$F$12:$F$26,0),MATCH(\"t[,\"&S$4 &\"]\",'WINBUGS data'!$F$12:$AI$12,0)),\"\")","v":""},{"$f":"IFERROR(INDEX('WINBUGS data'!$F$12:$AI$26,MATCH($C45,'WINBUGS data'!$F$12:$F$26,0),MATCH(\"t[,\"&T$4 &\"]\",'WINBUGS data'!$F$12:$AI$12,0)),\"\")","v":""}]
[null,{"$f":"IFERROR(INDEX(list,MATCH(0,COUNTIF($E$5:E46,list),0)),\"\")","v":""},{"$f":"IF('WINBUGS data'!F54<>\"\",'WINBUGS data'!F54,\"\")","v":""},{"$f":"IFERROR(INDEX('WINBUGS data'!$F$12:$AI$26,MATCH(C46,'WINBUGS data'!$F$12:$F$26,0),MATCH(\"na[]\",'WINBUGS data'!$F$12:$AI$12,0)),\"\")","v":""},"",{"$f":"IFERROR(INDEX('WINBUGS data'!$F$12:$AI$26,MATCH($C46,'WINBUGS data'!$F$12:$F$26,0),MATCH(\"t[,\"&F$4 &\"]\",'WINBUGS data'!$F$12:$AI$12,0)),\"\")","v":""},{"$f":"IFERROR(INDEX('WINBUGS data'!$F$12:$AI$26,MATCH($C46,'WINBUGS data'!$F$12:$F$26,0),MATCH(\"t[,\"&G$4 &\"]\",'WINBUGS data'!$F$12:$AI$12,0)),\"\")","v":""},{"$f":"IFERROR(INDEX('WINBUGS data'!$F$12:$AI$26,MATCH($C46,'WINBUGS data'!$F$12:$F$26,0),MATCH(\"t[,\"&H$4 &\"]\",'WINBUGS data'!$F$12:$AI$12,0)),\"\")","v":""},{"$f":"IFERROR(INDEX('WINBUGS data'!$F$12:$AI$26,MATCH($C46,'WINBUGS data'!$F$12:$F$26,0),MATCH(\"t[,\"&I$4 &\"]\",'WINBUGS data'!$F$12:$AI$12,0)),\"\")","v":""},{"$f":"IFERROR(INDEX('WINBUGS data'!$F$12:$AI$26,MATCH($C46,'WINBUGS data'!$F$12:$F$26,0),MATCH(\"t[,\"&J$4 &\"]\",'WINBUGS data'!$F$12:$AI$12,0)),\"\")","v":""},{"$f":"IFERROR(INDEX('WINBUGS data'!$F$12:$AI$26,MATCH($C46,'WINBUGS data'!$F$12:$F$26,0),MATCH(\"t[,\"&K$4 &\"]\",'WINBUGS data'!$F$12:$AI$12,0)),\"\")","v":""},{"$f":"IFERROR(INDEX('WINBUGS data'!$F$12:$AI$26,MATCH($C46,'WINBUGS data'!$F$12:$F$26,0),MATCH(\"t[,\"&L$4 &\"]\",'WINBUGS data'!$F$12:$AI$12,0)),\"\")","v":""},{"$f":"IFERROR(INDEX('WINBUGS data'!$F$12:$AI$26,MATCH($C46,'WINBUGS data'!$F$12:$F$26,0),MATCH(\"t[,\"&M$4 &\"]\",'WINBUGS data'!$F$12:$AI$12,0)),\"\")","v":""},{"$f":"IFERROR(INDEX('WINBUGS data'!$F$12:$AI$26,MATCH($C46,'WINBUGS data'!$F$12:$F$26,0),MATCH(\"t[,\"&N$4 &\"]\",'WINBUGS data'!$F$12:$AI$12,0)),\"\")","v":""},{"$f":"IFERROR(INDEX('WINBUGS data'!$F$12:$AI$26,MATCH($C46,'WINBUGS data'!$F$12:$F$26,0),MATCH(\"t[,\"&O$4 &\"]\",'WINBUGS data'!$F$12:$AI$12,0)),\"\")","v":""},{"$f":"IFERROR(INDEX('WINBUGS data'!$F$12:$AI$26,MATCH($C46,'WINBUGS data'!$F$12:$F$26,0),MATCH(\"t[,\"&P$4 &\"]\",'WINBUGS data'!$F$12:$AI$12,0)),\"\")","v":""},{"$f":"IFERROR(INDEX('WINBUGS data'!$F$12:$AI$26,MATCH($C46,'WINBUGS data'!$F$12:$F$26,0),MATCH(\"t[,\"&Q$4 &\"]\",'WINBUGS data'!$F$12:$AI$12,0)),\"\")","v":""},{"$f":"IFERROR(INDEX('WINBUGS data'!$F$12:$AI$26,MATCH($C46,'WINBUGS data'!$F$12:$F$26,0),MATCH(\"t[,\"&R$4 &\"]\",'WINBUGS data'!$F$12:$AI$12,0)),\"\")","v":""},{"$f":"IFERROR(INDEX('WINBUGS data'!$F$12:$AI$26,MATCH($C46,'WINBUGS data'!$F$12:$F$26,0),MATCH(\"t[,\"&S$4 &\"]\",'WINBUGS data'!$F$12:$AI$12,0)),\"\")","v":""},{"$f":"IFERROR(INDEX('WINBUGS data'!$F$12:$AI$26,MATCH($C46,'WINBUGS data'!$F$12:$F$26,0),MATCH(\"t[,\"&T$4 &\"]\",'WINBUGS data'!$F$12:$AI$12,0)),\"\")","v":""}]
[null,{"$f":"IFERROR(INDEX(list,MATCH(0,COUNTIF($E$5:E47,list),0)),\"\")","v":""},{"$f":"IF('WINBUGS data'!F55<>\"\",'WINBUGS data'!F55,\"\")","v":""},{"$f":"IFERROR(INDEX('WINBUGS data'!$F$12:$AI$26,MATCH(C47,'WINBUGS data'!$F$12:$F$26,0),MATCH(\"na[]\",'WINBUGS data'!$F$12:$AI$12,0)),\"\")","v":""},"",{"$f":"IFERROR(INDEX('WINBUGS data'!$F$12:$AI$26,MATCH($C47,'WINBUGS data'!$F$12:$F$26,0),MATCH(\"t[,\"&F$4 &\"]\",'WINBUGS data'!$F$12:$AI$12,0)),\"\")","v":""},{"$f":"IFERROR(INDEX('WINBUGS data'!$F$12:$AI$26,MATCH($C47,'WINBUGS data'!$F$12:$F$26,0),MATCH(\"t[,\"&G$4 &\"]\",'WINBUGS data'!$F$12:$AI$12,0)),\"\")","v":""},{"$f":"IFERROR(INDEX('WINBUGS data'!$F$12:$AI$26,MATCH($C47,'WINBUGS data'!$F$12:$F$26,0),MATCH(\"t[,\"&H$4 &\"]\",'WINBUGS data'!$F$12:$AI$12,0)),\"\")","v":""},{"$f":"IFERROR(INDEX('WINBUGS data'!$F$12:$AI$26,MATCH($C47,'WINBUGS data'!$F$12:$F$26,0),MATCH(\"t[,\"&I$4 &\"]\",'WINBUGS data'!$F$12:$AI$12,0)),\"\")","v":""},{"$f":"IFERROR(INDEX('WINBUGS data'!$F$12:$AI$26,MATCH($C47,'WINBUGS data'!$F$12:$F$26,0),MATCH(\"t[,\"&J$4 &\"]\",'WINBUGS data'!$F$12:$AI$12,0)),\"\")","v":""},{"$f":"IFERROR(INDEX('WINBUGS data'!$F$12:$AI$26,MATCH($C47,'WINBUGS data'!$F$12:$F$26,0),MATCH(\"t[,\"&K$4 &\"]\",'WINBUGS data'!$F$12:$AI$12,0)),\"\")","v":""},{"$f":"IFERROR(INDEX('WINBUGS data'!$F$12:$AI$26,MATCH($C47,'WINBUGS data'!$F$12:$F$26,0),MATCH(\"t[,\"&L$4 &\"]\",'WINBUGS data'!$F$12:$AI$12,0)),\"\")","v":""},{"$f":"IFERROR(INDEX('WINBUGS data'!$F$12:$AI$26,MATCH($C47,'WINBUGS data'!$F$12:$F$26,0),MATCH(\"t[,\"&M$4 &\"]\",'WINBUGS data'!$F$12:$AI$12,0)),\"\")","v":""},{"$f":"IFERROR(INDEX('WINBUGS data'!$F$12:$AI$26,MATCH($C47,'WINBUGS data'!$F$12:$F$26,0),MATCH(\"t[,\"&N$4 &\"]\",'WINBUGS data'!$F$12:$AI$12,0)),\"\")","v":""},{"$f":"IFERROR(INDEX('WINBUGS data'!$F$12:$AI$26,MATCH($C47,'WINBUGS data'!$F$12:$F$26,0),MATCH(\"t[,\"&O$4 &\"]\",'WINBUGS data'!$F$12:$AI$12,0)),\"\")","v":""},{"$f":"IFERROR(INDEX('WINBUGS data'!$F$12:$AI$26,MATCH($C47,'WINBUGS data'!$F$12:$F$26,0),MATCH(\"t[,\"&P$4 &\"]\",'WINBUGS data'!$F$12:$AI$12,0)),\"\")","v":""},{"$f":"IFERROR(INDEX('WINBUGS data'!$F$12:$AI$26,MATCH($C47,'WINBUGS data'!$F$12:$F$26,0),MATCH(\"t[,\"&Q$4 &\"]\",'WINBUGS data'!$F$12:$AI$12,0)),\"\")","v":""},{"$f":"IFERROR(INDEX('WINBUGS data'!$F$12:$AI$26,MATCH($C47,'WINBUGS data'!$F$12:$F$26,0),MATCH(\"t[,\"&R$4 &\"]\",'WINBUGS data'!$F$12:$AI$12,0)),\"\")","v":""},{"$f":"IFERROR(INDEX('WINBUGS data'!$F$12:$AI$26,MATCH($C47,'WINBUGS data'!$F$12:$F$26,0),MATCH(\"t[,\"&S$4 &\"]\",'WINBUGS data'!$F$12:$AI$12,0)),\"\")","v":""},{"$f":"IFERROR(INDEX('WINBUGS data'!$F$12:$AI$26,MATCH($C47,'WINBUGS data'!$F$12:$F$26,0),MATCH(\"t[,\"&T$4 &\"]\",'WINBUGS data'!$F$12:$AI$12,0)),\"\")","v":""}]
[null,{"$f":"IFERROR(INDEX(list,MATCH(0,COUNTIF($E$5:E48,list),0)),\"\")","v":""},{"$f":"IF('WINBUGS data'!F56<>\"\",'WINBUGS data'!F56,\"\")","v":""},{"$f":"IFERROR(INDEX('WINBUGS data'!$F$12:$AI$26,MATCH(C48,'WINBUGS data'!$F$12:$F$26,0),MATCH(\"na[]\",'WINBUGS data'!$F$12:$AI$12,0)),\"\")","v":""},"",{"$f":"IFERROR(INDEX('WINBUGS data'!$F$12:$AI$26,MATCH($C48,'WINBUGS data'!$F$12:$F$26,0),MATCH(\"t[,\"&F$4 &\"]\",'WINBUGS data'!$F$12:$AI$12,0)),\"\")","v":""},{"$f":"IFERROR(INDEX('WINBUGS data'!$F$12:$AI$26,MATCH($C48,'WINBUGS data'!$F$12:$F$26,0),MATCH(\"t[,\"&G$4 &\"]\",'WINBUGS data'!$F$12:$AI$12,0)),\"\")","v":""},{"$f":"IFERROR(INDEX('WINBUGS data'!$F$12:$AI$26,MATCH($C48,'WINBUGS data'!$F$12:$F$26,0),MATCH(\"t[,\"&H$4 &\"]\",'WINBUGS data'!$F$12:$AI$12,0)),\"\")","v":""},{"$f":"IFERROR(INDEX('WINBUGS data'!$F$12:$AI$26,MATCH($C48,'WINBUGS data'!$F$12:$F$26,0),MATCH(\"t[,\"&I$4 &\"]\",'WINBUGS data'!$F$12:$AI$12,0)),\"\")","v":""},{"$f":"IFERROR(INDEX('WINBUGS data'!$F$12:$AI$26,MATCH($C48,'WINBUGS data'!$F$12:$F$26,0),MATCH(\"t[,\"&J$4 &\"]\",'WINBUGS data'!$F$12:$AI$12,0)),\"\")","v":""},{"$f":"IFERROR(INDEX('WINBUGS data'!$F$12:$AI$26,MATCH($C48,'WINBUGS data'!$F$12:$F$26,0),MATCH(\"t[,\"&K$4 &\"]\",'WINBUGS data'!$F$12:$AI$12,0)),\"\")","v":""},{"$f":"IFERROR(INDEX('WINBUGS data'!$F$12:$AI$26,MATCH($C48,'WINBUGS data'!$F$12:$F$26,0),MATCH(\"t[,\"&L$4 &\"]\",'WINBUGS data'!$F$12:$AI$12,0)),\"\")","v":""},{"$f":"IFERROR(INDEX('WINBUGS data'!$F$12:$AI$26,MATCH($C48,'WINBUGS data'!$F$12:$F$26,0),MATCH(\"t[,\"&M$4 &\"]\",'WINBUGS data'!$F$12:$AI$12,0)),\"\")","v":""},{"$f":"IFERROR(INDEX('WINBUGS data'!$F$12:$AI$26,MATCH($C48,'WINBUGS data'!$F$12:$F$26,0),MATCH(\"t[,\"&N$4 &\"]\",'WINBUGS data'!$F$12:$AI$12,0)),\"\")","v":""},{"$f":"IFERROR(INDEX('WINBUGS data'!$F$12:$AI$26,MATCH($C48,'WINBUGS data'!$F$12:$F$26,0),MATCH(\"t[,\"&O$4 &\"]\",'WINBUGS data'!$F$12:$AI$12,0)),\"\")","v":""},{"$f":"IFERROR(INDEX('WINBUGS data'!$F$12:$AI$26,MATCH($C48,'WINBUGS data'!$F$12:$F$26,0),MATCH(\"t[,\"&P$4 &\"]\",'WINBUGS data'!$F$12:$AI$12,0)),\"\")","v":""},{"$f":"IFERROR(INDEX('WINBUGS data'!$F$12:$AI$26,MATCH($C48,'WINBUGS data'!$F$12:$F$26,0),MATCH(\"t[,\"&Q$4 &\"]\",'WINBUGS data'!$F$12:$AI$12,0)),\"\")","v":""},{"$f":"IFERROR(INDEX('WINBUGS data'!$F$12:$AI$26,MATCH($C48,'WINBUGS data'!$F$12:$F$26,0),MATCH(\"t[,\"&R$4 &\"]\",'WINBUGS data'!$F$12:$AI$12,0)),\"\")","v":""},{"$f":"IFERROR(INDEX('WINBUGS data'!$F$12:$AI$26,MATCH($C48,'WINBUGS data'!$F$12:$F$26,0),MATCH(\"t[,\"&S$4 &\"]\",'WINBUGS data'!$F$12:$AI$12,0)),\"\")","v":""},{"$f":"IFERROR(INDEX('WINBUGS data'!$F$12:$AI$26,MATCH($C48,'WINBUGS data'!$F$12:$F$26,0),MATCH(\"t[,\"&T$4 &\"]\",'WINBUGS data'!$F$12:$AI$12,0)),\"\")","v":""}]
[null,{"$f":"IFERROR(INDEX(list,MATCH(0,COUNTIF($E$5:E49,list),0)),\"\")","v":""},{"$f":"IF('WINBUGS data'!F57<>\"\",'WINBUGS data'!F57,\"\")","v":""},{"$f":"IFERROR(INDEX('WINBUGS data'!$F$12:$AI$26,MATCH(C49,'WINBUGS data'!$F$12:$F$26,0),MATCH(\"na[]\",'WINBUGS data'!$F$12:$AI$12,0)),\"\")","v":""},"",{"$f":"IFERROR(INDEX('WINBUGS data'!$F$12:$AI$26,MATCH($C49,'WINBUGS data'!$F$12:$F$26,0),MATCH(\"t[,\"&F$4 &\"]\",'WINBUGS data'!$F$12:$AI$12,0)),\"\")","v":""},{"$f":"IFERROR(INDEX('WINBUGS data'!$F$12:$AI$26,MATCH($C49,'WINBUGS data'!$F$12:$F$26,0),MATCH(\"t[,\"&G$4 &\"]\",'WINBUGS data'!$F$12:$AI$12,0)),\"\")","v":""},{"$f":"IFERROR(INDEX('WINBUGS data'!$F$12:$AI$26,MATCH($C49,'WINBUGS data'!$F$12:$F$26,0),MATCH(\"t[,\"&H$4 &\"]\",'WINBUGS data'!$F$12:$AI$12,0)),\"\")","v":""},{"$f":"IFERROR(INDEX('WINBUGS data'!$F$12:$AI$26,MATCH($C49,'WINBUGS data'!$F$12:$F$26,0),MATCH(\"t[,\"&I$4 &\"]\",'WINBUGS data'!$F$12:$AI$12,0)),\"\")","v":""},{"$f":"IFERROR(INDEX('WINBUGS data'!$F$12:$AI$26,MATCH($C49,'WINBUGS data'!$F$12:$F$26,0),MATCH(\"t[,\"&J$4 &\"]\",'WINBUGS data'!$F$12:$AI$12,0)),\"\")","v":""},{"$f":"IFERROR(INDEX('WINBUGS data'!$F$12:$AI$26,MATCH($C49,'WINBUGS data'!$F$12:$F$26,0),MATCH(\"t[,\"&K$4 &\"]\",'WINBUGS data'!$F$12:$AI$12,0)),\"\")","v":""},{"$f":"IFERROR(INDEX('WINBUGS data'!$F$12:$AI$26,MATCH($C49,'WINBUGS data'!$F$12:$F$26,0),MATCH(\"t[,\"&L$4 &\"]\",'WINBUGS data'!$F$12:$AI$12,0)),\"\")","v":""},{"$f":"IFERROR(INDEX('WINBUGS data'!$F$12:$AI$26,MATCH($C49,'WINBUGS data'!$F$12:$F$26,0),MATCH(\"t[,\"&M$4 &\"]\",'WINBUGS data'!$F$12:$AI$12,0)),\"\")","v":""},{"$f":"IFERROR(INDEX('WINBUGS data'!$F$12:$AI$26,MATCH($C49,'WINBUGS data'!$F$12:$F$26,0),MATCH(\"t[,\"&N$4 &\"]\",'WINBUGS data'!$F$12:$AI$12,0)),\"\")","v":""},{"$f":"IFERROR(INDEX('WINBUGS data'!$F$12:$AI$26,MATCH($C49,'WINBUGS data'!$F$12:$F$26,0),MATCH(\"t[,\"&O$4 &\"]\",'WINBUGS data'!$F$12:$AI$12,0)),\"\")","v":""},{"$f":"IFERROR(INDEX('WINBUGS data'!$F$12:$AI$26,MATCH($C49,'WINBUGS data'!$F$12:$F$26,0),MATCH(\"t[,\"&P$4 &\"]\",'WINBUGS data'!$F$12:$AI$12,0)),\"\")","v":""},{"$f":"IFERROR(INDEX('WINBUGS data'!$F$12:$AI$26,MATCH($C49,'WINBUGS data'!$F$12:$F$26,0),MATCH(\"t[,\"&Q$4 &\"]\",'WINBUGS data'!$F$12:$AI$12,0)),\"\")","v":""},{"$f":"IFERROR(INDEX('WINBUGS data'!$F$12:$AI$26,MATCH($C49,'WINBUGS data'!$F$12:$F$26,0),MATCH(\"t[,\"&R$4 &\"]\",'WINBUGS data'!$F$12:$AI$12,0)),\"\")","v":""},{"$f":"IFERROR(INDEX('WINBUGS data'!$F$12:$AI$26,MATCH($C49,'WINBUGS data'!$F$12:$F$26,0),MATCH(\"t[,\"&S$4 &\"]\",'WINBUGS data'!$F$12:$AI$12,0)),\"\")","v":""},{"$f":"IFERROR(INDEX('WINBUGS data'!$F$12:$AI$26,MATCH($C49,'WINBUGS data'!$F$12:$F$26,0),MATCH(\"t[,\"&T$4 &\"]\",'WINBUGS data'!$F$12:$AI$12,0)),\"\")","v":""}]
[null,{"$f":"IFERROR(INDEX(list,MATCH(0,COUNTIF($E$5:E50,list),0)),\"\")","v":""},{"$f":"IF('WINBUGS data'!F58<>\"\",'WINBUGS data'!F58,\"\")","v":""},{"$f":"IFERROR(INDEX('WINBUGS data'!$F$12:$AI$26,MATCH(C50,'WINBUGS data'!$F$12:$F$26,0),MATCH(\"na[]\",'WINBUGS data'!$F$12:$AI$12,0)),\"\")","v":""},"",{"$f":"IFERROR(INDEX('WINBUGS data'!$F$12:$AI$26,MATCH($C50,'WINBUGS data'!$F$12:$F$26,0),MATCH(\"t[,\"&F$4 &\"]\",'WINBUGS data'!$F$12:$AI$12,0)),\"\")","v":""},{"$f":"IFERROR(INDEX('WINBUGS data'!$F$12:$AI$26,MATCH($C50,'WINBUGS data'!$F$12:$F$26,0),MATCH(\"t[,\"&G$4 &\"]\",'WINBUGS data'!$F$12:$AI$12,0)),\"\")","v":""},{"$f":"IFERROR(INDEX('WINBUGS data'!$F$12:$AI$26,MATCH($C50,'WINBUGS data'!$F$12:$F$26,0),MATCH(\"t[,\"&H$4 &\"]\",'WINBUGS data'!$F$12:$AI$12,0)),\"\")","v":""},{"$f":"IFERROR(INDEX('WINBUGS data'!$F$12:$AI$26,MATCH($C50,'WINBUGS data'!$F$12:$F$26,0),MATCH(\"t[,\"&I$4 &\"]\",'WINBUGS data'!$F$12:$AI$12,0)),\"\")","v":""},{"$f":"IFERROR(INDEX('WINBUGS data'!$F$12:$AI$26,MATCH($C50,'WINBUGS data'!$F$12:$F$26,0),MATCH(\"t[,\"&J$4 &\"]\",'WINBUGS data'!$F$12:$AI$12,0)),\"\")","v":""},{"$f":"IFERROR(INDEX('WINBUGS data'!$F$12:$AI$26,MATCH($C50,'WINBUGS data'!$F$12:$F$26,0),MATCH(\"t[,\"&K$4 &\"]\",'WINBUGS data'!$F$12:$AI$12,0)),\"\")","v":""},{"$f":"IFERROR(INDEX('WINBUGS data'!$F$12:$AI$26,MATCH($C50,'WINBUGS data'!$F$12:$F$26,0),MATCH(\"t[,\"&L$4 &\"]\",'WINBUGS data'!$F$12:$AI$12,0)),\"\")","v":""},{"$f":"IFERROR(INDEX('WINBUGS data'!$F$12:$AI$26,MATCH($C50,'WINBUGS data'!$F$12:$F$26,0),MATCH(\"t[,\"&M$4 &\"]\",'WINBUGS data'!$F$12:$AI$12,0)),\"\")","v":""},{"$f":"IFERROR(INDEX('WINBUGS data'!$F$12:$AI$26,MATCH($C50,'WINBUGS data'!$F$12:$F$26,0),MATCH(\"t[,\"&N$4 &\"]\",'WINBUGS data'!$F$12:$AI$12,0)),\"\")","v":""},{"$f":"IFERROR(INDEX('WINBUGS data'!$F$12:$AI$26,MATCH($C50,'WINBUGS data'!$F$12:$F$26,0),MATCH(\"t[,\"&O$4 &\"]\",'WINBUGS data'!$F$12:$AI$12,0)),\"\")","v":""},{"$f":"IFERROR(INDEX('WINBUGS data'!$F$12:$AI$26,MATCH($C50,'WINBUGS data'!$F$12:$F$26,0),MATCH(\"t[,\"&P$4 &\"]\",'WINBUGS data'!$F$12:$AI$12,0)),\"\")","v":""},{"$f":"IFERROR(INDEX('WINBUGS data'!$F$12:$AI$26,MATCH($C50,'WINBUGS data'!$F$12:$F$26,0),MATCH(\"t[,\"&Q$4 &\"]\",'WINBUGS data'!$F$12:$AI$12,0)),\"\")","v":""},{"$f":"IFERROR(INDEX('WINBUGS data'!$F$12:$AI$26,MATCH($C50,'WINBUGS data'!$F$12:$F$26,0),MATCH(\"t[,\"&R$4 &\"]\",'WINBUGS data'!$F$12:$AI$12,0)),\"\")","v":""},{"$f":"IFERROR(INDEX('WINBUGS data'!$F$12:$AI$26,MATCH($C50,'WINBUGS data'!$F$12:$F$26,0),MATCH(\"t[,\"&S$4 &\"]\",'WINBUGS data'!$F$12:$AI$12,0)),\"\")","v":""},{"$f":"IFERROR(INDEX('WINBUGS data'!$F$12:$AI$26,MATCH($C50,'WINBUGS data'!$F$12:$F$26,0),MATCH(\"t[,\"&T$4 &\"]\",'WINBUGS data'!$F$12:$AI$12,0)),\"\")","v":""}]
[null,{"$f":"IFERROR(INDEX(list,MATCH(0,COUNTIF($E$5:E51,list),0)),\"\")","v":""},{"$f":"IF('WINBUGS data'!F59<>\"\",'WINBUGS data'!F59,\"\")","v":""},{"$f":"IFERROR(INDEX('WINBUGS data'!$F$12:$AI$26,MATCH(C51,'WINBUGS data'!$F$12:$F$26,0),MATCH(\"na[]\",'WINBUGS data'!$F$12:$AI$12,0)),\"\")","v":""},"",{"$f":"IFERROR(INDEX('WINBUGS data'!$F$12:$AI$26,MATCH($C51,'WINBUGS data'!$F$12:$F$26,0),MATCH(\"t[,\"&F$4 &\"]\",'WINBUGS data'!$F$12:$AI$12,0)),\"\")","v":""},{"$f":"IFERROR(INDEX('WINBUGS data'!$F$12:$AI$26,MATCH($C51,'WINBUGS data'!$F$12:$F$26,0),MATCH(\"t[,\"&G$4 &\"]\",'WINBUGS data'!$F$12:$AI$12,0)),\"\")","v":""},{"$f":"IFERROR(INDEX('WINBUGS data'!$F$12:$AI$26,MATCH($C51,'WINBUGS data'!$F$12:$F$26,0),MATCH(\"t[,\"&H$4 &\"]\",'WINBUGS data'!$F$12:$AI$12,0)),\"\")","v":""},{"$f":"IFERROR(INDEX('WINBUGS data'!$F$12:$AI$26,MATCH($C51,'WINBUGS data'!$F$12:$F$26,0),MATCH(\"t[,\"&I$4 &\"]\",'WINBUGS data'!$F$12:$AI$12,0)),\"\")","v":""},{"$f":"IFERROR(INDEX('WINBUGS data'!$F$12:$AI$26,MATCH($C51,'WINBUGS data'!$F$12:$F$26,0),MATCH(\"t[,\"&J$4 &\"]\",'WINBUGS data'!$F$12:$AI$12,0)),\"\")","v":""},{"$f":"IFERROR(INDEX('WINBUGS data'!$F$12:$AI$26,MATCH($C51,'WINBUGS data'!$F$12:$F$26,0),MATCH(\"t[,\"&K$4 &\"]\",'WINBUGS data'!$F$12:$AI$12,0)),\"\")","v":""},{"$f":"IFERROR(INDEX('WINBUGS data'!$F$12:$AI$26,MATCH($C51,'WINBUGS data'!$F$12:$F$26,0),MATCH(\"t[,\"&L$4 &\"]\",'WINBUGS data'!$F$12:$AI$12,0)),\"\")","v":""},{"$f":"IFERROR(INDEX('WINBUGS data'!$F$12:$AI$26,MATCH($C51,'WINBUGS data'!$F$12:$F$26,0),MATCH(\"t[,\"&M$4 &\"]\",'WINBUGS data'!$F$12:$AI$12,0)),\"\")","v":""},{"$f":"IFERROR(INDEX('WINBUGS data'!$F$12:$AI$26,MATCH($C51,'WINBUGS data'!$F$12:$F$26,0),MATCH(\"t[,\"&N$4 &\"]\",'WINBUGS data'!$F$12:$AI$12,0)),\"\")","v":""},{"$f":"IFERROR(INDEX('WINBUGS data'!$F$12:$AI$26,MATCH($C51,'WINBUGS data'!$F$12:$F$26,0),MATCH(\"t[,\"&O$4 &\"]\",'WINBUGS data'!$F$12:$AI$12,0)),\"\")","v":""},{"$f":"IFERROR(INDEX('WINBUGS data'!$F$12:$AI$26,MATCH($C51,'WINBUGS data'!$F$12:$F$26,0),MATCH(\"t[,\"&P$4 &\"]\",'WINBUGS data'!$F$12:$AI$12,0)),\"\")","v":""},{"$f":"IFERROR(INDEX('WINBUGS data'!$F$12:$AI$26,MATCH($C51,'WINBUGS data'!$F$12:$F$26,0),MATCH(\"t[,\"&Q$4 &\"]\",'WINBUGS data'!$F$12:$AI$12,0)),\"\")","v":""},{"$f":"IFERROR(INDEX('WINBUGS data'!$F$12:$AI$26,MATCH($C51,'WINBUGS data'!$F$12:$F$26,0),MATCH(\"t[,\"&R$4 &\"]\",'WINBUGS data'!$F$12:$AI$12,0)),\"\")","v":""},{"$f":"IFERROR(INDEX('WINBUGS data'!$F$12:$AI$26,MATCH($C51,'WINBUGS data'!$F$12:$F$26,0),MATCH(\"t[,\"&S$4 &\"]\",'WINBUGS data'!$F$12:$AI$12,0)),\"\")","v":""},{"$f":"IFERROR(INDEX('WINBUGS data'!$F$12:$AI$26,MATCH($C51,'WINBUGS data'!$F$12:$F$26,0),MATCH(\"t[,\"&T$4 &\"]\",'WINBUGS data'!$F$12:$AI$12,0)),\"\")","v":""}]
[null,{"$f":"IFERROR(INDEX(list,MATCH(0,COUNTIF($E$5:E52,list),0)),\"\")","v":""},{"$f":"IF('WINBUGS data'!F60<>\"\",'WINBUGS data'!F60,\"\")","v":""},{"$f":"IFERROR(INDEX('WINBUGS data'!$F$12:$AI$26,MATCH(C52,'WINBUGS data'!$F$12:$F$26,0),MATCH(\"na[]\",'WINBUGS data'!$F$12:$AI$12,0)),\"\")","v":""},"",{"$f":"IFERROR(INDEX('WINBUGS data'!$F$12:$AI$26,MATCH($C52,'WINBUGS data'!$F$12:$F$26,0),MATCH(\"t[,\"&F$4 &\"]\",'WINBUGS data'!$F$12:$AI$12,0)),\"\")","v":""},{"$f":"IFERROR(INDEX('WINBUGS data'!$F$12:$AI$26,MATCH($C52,'WINBUGS data'!$F$12:$F$26,0),MATCH(\"t[,\"&G$4 &\"]\",'WINBUGS data'!$F$12:$AI$12,0)),\"\")","v":""},{"$f":"IFERROR(INDEX('WINBUGS data'!$F$12:$AI$26,MATCH($C52,'WINBUGS data'!$F$12:$F$26,0),MATCH(\"t[,\"&H$4 &\"]\",'WINBUGS data'!$F$12:$AI$12,0)),\"\")","v":""},{"$f":"IFERROR(INDEX('WINBUGS data'!$F$12:$AI$26,MATCH($C52,'WINBUGS data'!$F$12:$F$26,0),MATCH(\"t[,\"&I$4 &\"]\",'WINBUGS data'!$F$12:$AI$12,0)),\"\")","v":""},{"$f":"IFERROR(INDEX('WINBUGS data'!$F$12:$AI$26,MATCH($C52,'WINBUGS data'!$F$12:$F$26,0),MATCH(\"t[,\"&J$4 &\"]\",'WINBUGS data'!$F$12:$AI$12,0)),\"\")","v":""},{"$f":"IFERROR(INDEX('WINBUGS data'!$F$12:$AI$26,MATCH($C52,'WINBUGS data'!$F$12:$F$26,0),MATCH(\"t[,\"&K$4 &\"]\",'WINBUGS data'!$F$12:$AI$12,0)),\"\")","v":""},{"$f":"IFERROR(INDEX('WINBUGS data'!$F$12:$AI$26,MATCH($C52,'WINBUGS data'!$F$12:$F$26,0),MATCH(\"t[,\"&L$4 &\"]\",'WINBUGS data'!$F$12:$AI$12,0)),\"\")","v":""},{"$f":"IFERROR(INDEX('WINBUGS data'!$F$12:$AI$26,MATCH($C52,'WINBUGS data'!$F$12:$F$26,0),MATCH(\"t[,\"&M$4 &\"]\",'WINBUGS data'!$F$12:$AI$12,0)),\"\")","v":""},{"$f":"IFERROR(INDEX('WINBUGS data'!$F$12:$AI$26,MATCH($C52,'WINBUGS data'!$F$12:$F$26,0),MATCH(\"t[,\"&N$4 &\"]\",'WINBUGS data'!$F$12:$AI$12,0)),\"\")","v":""},{"$f":"IFERROR(INDEX('WINBUGS data'!$F$12:$AI$26,MATCH($C52,'WINBUGS data'!$F$12:$F$26,0),MATCH(\"t[,\"&O$4 &\"]\",'WINBUGS data'!$F$12:$AI$12,0)),\"\")","v":""},{"$f":"IFERROR(INDEX('WINBUGS data'!$F$12:$AI$26,MATCH($C52,'WINBUGS data'!$F$12:$F$26,0),MATCH(\"t[,\"&P$4 &\"]\",'WINBUGS data'!$F$12:$AI$12,0)),\"\")","v":""},{"$f":"IFERROR(INDEX('WINBUGS data'!$F$12:$AI$26,MATCH($C52,'WINBUGS data'!$F$12:$F$26,0),MATCH(\"t[,\"&Q$4 &\"]\",'WINBUGS data'!$F$12:$AI$12,0)),\"\")","v":""},{"$f":"IFERROR(INDEX('WINBUGS data'!$F$12:$AI$26,MATCH($C52,'WINBUGS data'!$F$12:$F$26,0),MATCH(\"t[,\"&R$4 &\"]\",'WINBUGS data'!$F$12:$AI$12,0)),\"\")","v":""},{"$f":"IFERROR(INDEX('WINBUGS data'!$F$12:$AI$26,MATCH($C52,'WINBUGS data'!$F$12:$F$26,0),MATCH(\"t[,\"&S$4 &\"]\",'WINBUGS data'!$F$12:$AI$12,0)),\"\")","v":""},{"$f":"IFERROR(INDEX('WINBUGS data'!$F$12:$AI$26,MATCH($C52,'WINBUGS data'!$F$12:$F$26,0),MATCH(\"t[,\"&T$4 &\"]\",'WINBUGS data'!$F$12:$AI$12,0)),\"\")","v":""}]
[null,{"$f":"IFERROR(INDEX(list,MATCH(0,COUNTIF($E$5:E53,list),0)),\"\")","v":""},{"$f":"IF('WINBUGS data'!F61<>\"\",'WINBUGS data'!F61,\"\")","v":""},{"$f":"IFERROR(INDEX('WINBUGS data'!$F$12:$AI$26,MATCH(C53,'WINBUGS data'!$F$12:$F$26,0),MATCH(\"na[]\",'WINBUGS data'!$F$12:$AI$12,0)),\"\")","v":""},"",{"$f":"IFERROR(INDEX('WINBUGS data'!$F$12:$AI$26,MATCH($C53,'WINBUGS data'!$F$12:$F$26,0),MATCH(\"t[,\"&F$4 &\"]\",'WINBUGS data'!$F$12:$AI$12,0)),\"\")","v":""},{"$f":"IFERROR(INDEX('WINBUGS data'!$F$12:$AI$26,MATCH($C53,'WINBUGS data'!$F$12:$F$26,0),MATCH(\"t[,\"&G$4 &\"]\",'WINBUGS data'!$F$12:$AI$12,0)),\"\")","v":""},{"$f":"IFERROR(INDEX('WINBUGS data'!$F$12:$AI$26,MATCH($C53,'WINBUGS data'!$F$12:$F$26,0),MATCH(\"t[,\"&H$4 &\"]\",'WINBUGS data'!$F$12:$AI$12,0)),\"\")","v":""},{"$f":"IFERROR(INDEX('WINBUGS data'!$F$12:$AI$26,MATCH($C53,'WINBUGS data'!$F$12:$F$26,0),MATCH(\"t[,\"&I$4 &\"]\",'WINBUGS data'!$F$12:$AI$12,0)),\"\")","v":""},{"$f":"IFERROR(INDEX('WINBUGS data'!$F$12:$AI$26,MATCH($C53,'WINBUGS data'!$F$12:$F$26,0),MATCH(\"t[,\"&J$4 &\"]\",'WINBUGS data'!$F$12:$AI$12,0)),\"\")","v":""},{"$f":"IFERROR(INDEX('WINBUGS data'!$F$12:$AI$26,MATCH($C53,'WINBUGS data'!$F$12:$F$26,0),MATCH(\"t[,\"&K$4 &\"]\",'WINBUGS data'!$F$12:$AI$12,0)),\"\")","v":""},{"$f":"IFERROR(INDEX('WINBUGS data'!$F$12:$AI$26,MATCH($C53,'WINBUGS data'!$F$12:$F$26,0),MATCH(\"t[,\"&L$4 &\"]\",'WINBUGS data'!$F$12:$AI$12,0)),\"\")","v":""},{"$f":"IFERROR(INDEX('WINBUGS data'!$F$12:$AI$26,MATCH($C53,'WINBUGS data'!$F$12:$F$26,0),MATCH(\"t[,\"&M$4 &\"]\",'WINBUGS data'!$F$12:$AI$12,0)),\"\")","v":""},{"$f":"IFERROR(INDEX('WINBUGS data'!$F$12:$AI$26,MATCH($C53,'WINBUGS data'!$F$12:$F$26,0),MATCH(\"t[,\"&N$4 &\"]\",'WINBUGS data'!$F$12:$AI$12,0)),\"\")","v":""},{"$f":"IFERROR(INDEX('WINBUGS data'!$F$12:$AI$26,MATCH($C53,'WINBUGS data'!$F$12:$F$26,0),MATCH(\"t[,\"&O$4 &\"]\",'WINBUGS data'!$F$12:$AI$12,0)),\"\")","v":""},{"$f":"IFERROR(INDEX('WINBUGS data'!$F$12:$AI$26,MATCH($C53,'WINBUGS data'!$F$12:$F$26,0),MATCH(\"t[,\"&P$4 &\"]\",'WINBUGS data'!$F$12:$AI$12,0)),\"\")","v":""},{"$f":"IFERROR(INDEX('WINBUGS data'!$F$12:$AI$26,MATCH($C53,'WINBUGS data'!$F$12:$F$26,0),MATCH(\"t[,\"&Q$4 &\"]\",'WINBUGS data'!$F$12:$AI$12,0)),\"\")","v":""},{"$f":"IFERROR(INDEX('WINBUGS data'!$F$12:$AI$26,MATCH($C53,'WINBUGS data'!$F$12:$F$26,0),MATCH(\"t[,\"&R$4 &\"]\",'WINBUGS data'!$F$12:$AI$12,0)),\"\")","v":""},{"$f":"IFERROR(INDEX('WINBUGS data'!$F$12:$AI$26,MATCH($C53,'WINBUGS data'!$F$12:$F$26,0),MATCH(\"t[,\"&S$4 &\"]\",'WINBUGS data'!$F$12:$AI$12,0)),\"\")","v":""},{"$f":"IFERROR(INDEX('WINBUGS data'!$F$12:$AI$26,MATCH($C53,'WINBUGS data'!$F$12:$F$26,0),MATCH(\"t[,\"&T$4 &\"]\",'WINBUGS data'!$F$12:$AI$12,0)),\"\")","v":""}]
[null,null,{"$f":"IF('WINBUGS data'!F62<>\"\",'WINBUGS data'!F62,\"\")","v":""},{"$f":"IFERROR(INDEX('WINBUGS data'!$F$12:$AI$26,MATCH(C54,'WINBUGS data'!$F$12:$F$26,0),MATCH(\"na[]\",'WINBUGS data'!$F$12:$AI$12,0)),\"\")","v":""},"",{"$f":"IFERROR(INDEX('WINBUGS data'!$F$12:$AI$26,MATCH($C54,'WINBUGS data'!$F$12:$F$26,0),MATCH(\"t[,\"&F$4 &\"]\",'WINBUGS data'!$F$12:$AI$12,0)),\"\")","v":""},{"$f":"IFERROR(INDEX('WINBUGS data'!$F$12:$AI$26,MATCH($C54,'WINBUGS data'!$F$12:$F$26,0),MATCH(\"t[,\"&G$4 &\"]\",'WINBUGS data'!$F$12:$AI$12,0)),\"\")","v":""},{"$f":"IFERROR(INDEX('WINBUGS data'!$F$12:$AI$26,MATCH($C54,'WINBUGS data'!$F$12:$F$26,0),MATCH(\"t[,\"&H$4 &\"]\",'WINBUGS data'!$F$12:$AI$12,0)),\"\")","v":""},{"$f":"IFERROR(INDEX('WINBUGS data'!$F$12:$AI$26,MATCH($C54,'WINBUGS data'!$F$12:$F$26,0),MATCH(\"t[,\"&I$4 &\"]\",'WINBUGS data'!$F$12:$AI$12,0)),\"\")","v":""},{"$f":"IFERROR(INDEX('WINBUGS data'!$F$12:$AI$26,MATCH($C54,'WINBUGS data'!$F$12:$F$26,0),MATCH(\"t[,\"&J$4 &\"]\",'WINBUGS data'!$F$12:$AI$12,0)),\"\")","v":""},{"$f":"IFERROR(INDEX('WINBUGS data'!$F$12:$AI$26,MATCH($C54,'WINBUGS data'!$F$12:$F$26,0),MATCH(\"t[,\"&K$4 &\"]\",'WINBUGS data'!$F$12:$AI$12,0)),\"\")","v":""},{"$f":"IFERROR(INDEX('WINBUGS data'!$F$12:$AI$26,MATCH($C54,'WINBUGS data'!$F$12:$F$26,0),MATCH(\"t[,\"&L$4 &\"]\",'WINBUGS data'!$F$12:$AI$12,0)),\"\")","v":""},{"$f":"IFERROR(INDEX('WINBUGS data'!$F$12:$AI$26,MATCH($C54,'WINBUGS data'!$F$12:$F$26,0),MATCH(\"t[,\"&M$4 &\"]\",'WINBUGS data'!$F$12:$AI$12,0)),\"\")","v":""},{"$f":"IFERROR(INDEX('WINBUGS data'!$F$12:$AI$26,MATCH($C54,'WINBUGS data'!$F$12:$F$26,0),MATCH(\"t[,\"&N$4 &\"]\",'WINBUGS data'!$F$12:$AI$12,0)),\"\")","v":""},{"$f":"IFERROR(INDEX('WINBUGS data'!$F$12:$AI$26,MATCH($C54,'WINBUGS data'!$F$12:$F$26,0),MATCH(\"t[,\"&O$4 &\"]\",'WINBUGS data'!$F$12:$AI$12,0)),\"\")","v":""},{"$f":"IFERROR(INDEX('WINBUGS data'!$F$12:$AI$26,MATCH($C54,'WINBUGS data'!$F$12:$F$26,0),MATCH(\"t[,\"&P$4 &\"]\",'WINBUGS data'!$F$12:$AI$12,0)),\"\")","v":""},{"$f":"IFERROR(INDEX('WINBUGS data'!$F$12:$AI$26,MATCH($C54,'WINBUGS data'!$F$12:$F$26,0),MATCH(\"t[,\"&Q$4 &\"]\",'WINBUGS data'!$F$12:$AI$12,0)),\"\")","v":""},{"$f":"IFERROR(INDEX('WINBUGS data'!$F$12:$AI$26,MATCH($C54,'WINBUGS data'!$F$12:$F$26,0),MATCH(\"t[,\"&R$4 &\"]\",'WINBUGS data'!$F$12:$AI$12,0)),\"\")","v":""},{"$f":"IFERROR(INDEX('WINBUGS data'!$F$12:$AI$26,MATCH($C54,'WINBUGS data'!$F$12:$F$26,0),MATCH(\"t[,\"&S$4 &\"]\",'WINBUGS data'!$F$12:$AI$12,0)),\"\")","v":""},{"$f":"IFERROR(INDEX('WINBUGS data'!$F$12:$AI$26,MATCH($C54,'WINBUGS data'!$F$12:$F$26,0),MATCH(\"t[,\"&T$4 &\"]\",'WINBUGS data'!$F$12:$AI$12,0)),\"\")","v":""}]
[null,null,{"$f":"IF('WINBUGS data'!F63<>\"\",'WINBUGS data'!F63,\"\")","v":""},{"$f":"IFERROR(INDEX('WINBUGS data'!$F$12:$AI$26,MATCH(C55,'WINBUGS data'!$F$12:$F$26,0),MATCH(\"na[]\",'WINBUGS data'!$F$12:$AI$12,0)),\"\")","v":""},"",{"$f":"IFERROR(INDEX('WINBUGS data'!$F$12:$AI$26,MATCH($C55,'WINBUGS data'!$F$12:$F$26,0),MATCH(\"t[,\"&F$4 &\"]\",'WINBUGS data'!$F$12:$AI$12,0)),\"\")","v":""},{"$f":"IFERROR(INDEX('WINBUGS data'!$F$12:$AI$26,MATCH($C55,'WINBUGS data'!$F$12:$F$26,0),MATCH(\"t[,\"&G$4 &\"]\",'WINBUGS data'!$F$12:$AI$12,0)),\"\")","v":""},{"$f":"IFERROR(INDEX('WINBUGS data'!$F$12:$AI$26,MATCH($C55,'WINBUGS data'!$F$12:$F$26,0),MATCH(\"t[,\"&H$4 &\"]\",'WINBUGS data'!$F$12:$AI$12,0)),\"\")","v":""},{"$f":"IFERROR(INDEX('WINBUGS data'!$F$12:$AI$26,MATCH($C55,'WINBUGS data'!$F$12:$F$26,0),MATCH(\"t[,\"&I$4 &\"]\",'WINBUGS data'!$F$12:$AI$12,0)),\"\")","v":""},{"$f":"IFERROR(INDEX('WINBUGS data'!$F$12:$AI$26,MATCH($C55,'WINBUGS data'!$F$12:$F$26,0),MATCH(\"t[,\"&J$4 &\"]\",'WINBUGS data'!$F$12:$AI$12,0)),\"\")","v":""},{"$f":"IFERROR(INDEX('WINBUGS data'!$F$12:$AI$26,MATCH($C55,'WINBUGS data'!$F$12:$F$26,0),MATCH(\"t[,\"&K$4 &\"]\",'WINBUGS data'!$F$12:$AI$12,0)),\"\")","v":""},{"$f":"IFERROR(INDEX('WINBUGS data'!$F$12:$AI$26,MATCH($C55,'WINBUGS data'!$F$12:$F$26,0),MATCH(\"t[,\"&L$4 &\"]\",'WINBUGS data'!$F$12:$AI$12,0)),\"\")","v":""},{"$f":"IFERROR(INDEX('WINBUGS data'!$F$12:$AI$26,MATCH($C55,'WINBUGS data'!$F$12:$F$26,0),MATCH(\"t[,\"&M$4 &\"]\",'WINBUGS data'!$F$12:$AI$12,0)),\"\")","v":""},{"$f":"IFERROR(INDEX('WINBUGS data'!$F$12:$AI$26,MATCH($C55,'WINBUGS data'!$F$12:$F$26,0),MATCH(\"t[,\"&N$4 &\"]\",'WINBUGS data'!$F$12:$AI$12,0)),\"\")","v":""},{"$f":"IFERROR(INDEX('WINBUGS data'!$F$12:$AI$26,MATCH($C55,'WINBUGS data'!$F$12:$F$26,0),MATCH(\"t[,\"&O$4 &\"]\",'WINBUGS data'!$F$12:$AI$12,0)),\"\")","v":""},{"$f":"IFERROR(INDEX('WINBUGS data'!$F$12:$AI$26,MATCH($C55,'WINBUGS data'!$F$12:$F$26,0),MATCH(\"t[,\"&P$4 &\"]\",'WINBUGS data'!$F$12:$AI$12,0)),\"\")","v":""},{"$f":"IFERROR(INDEX('WINBUGS data'!$F$12:$AI$26,MATCH($C55,'WINBUGS data'!$F$12:$F$26,0),MATCH(\"t[,\"&Q$4 &\"]\",'WINBUGS data'!$F$12:$AI$12,0)),\"\")","v":""},{"$f":"IFERROR(INDEX('WINBUGS data'!$F$12:$AI$26,MATCH($C55,'WINBUGS data'!$F$12:$F$26,0),MATCH(\"t[,\"&R$4 &\"]\",'WINBUGS data'!$F$12:$AI$12,0)),\"\")","v":""},{"$f":"IFERROR(INDEX('WINBUGS data'!$F$12:$AI$26,MATCH($C55,'WINBUGS data'!$F$12:$F$26,0),MATCH(\"t[,\"&S$4 &\"]\",'WINBUGS data'!$F$12:$AI$12,0)),\"\")","v":""},{"$f":"IFERROR(INDEX('WINBUGS data'!$F$12:$AI$26,MATCH($C55,'WINBUGS data'!$F$12:$F$26,0),MATCH(\"t[,\"&T$4 &\"]\",'WINBUGS data'!$F$12:$AI$12,0)),\"\")","v":""}]
[null,null,{"$f":"IF('WINBUGS data'!F64<>\"\",'WINBUGS data'!F64,\"\")","v":""},{"$f":"IFERROR(INDEX('WINBUGS data'!$F$12:$AI$26,MATCH(C56,'WINBUGS data'!$F$12:$F$26,0),MATCH(\"na[]\",'WINBUGS data'!$F$12:$AI$12,0)),\"\")","v":""},"",{"$f":"IFERROR(INDEX('WINBUGS data'!$F$12:$AI$26,MATCH($C56,'WINBUGS data'!$F$12:$F$26,0),MATCH(\"t[,\"&F$4 &\"]\",'WINBUGS data'!$F$12:$AI$12,0)),\"\")","v":""},{"$f":"IFERROR(INDEX('WINBUGS data'!$F$12:$AI$26,MATCH($C56,'WINBUGS data'!$F$12:$F$26,0),MATCH(\"t[,\"&G$4 &\"]\",'WINBUGS data'!$F$12:$AI$12,0)),\"\")","v":""},{"$f":"IFERROR(INDEX('WINBUGS data'!$F$12:$AI$26,MATCH($C56,'WINBUGS data'!$F$12:$F$26,0),MATCH(\"t[,\"&H$4 &\"]\",'WINBUGS data'!$F$12:$AI$12,0)),\"\")","v":""},{"$f":"IFERROR(INDEX('WINBUGS data'!$F$12:$AI$26,MATCH($C56,'WINBUGS data'!$F$12:$F$26,0),MATCH(\"t[,\"&I$4 &\"]\",'WINBUGS data'!$F$12:$AI$12,0)),\"\")","v":""},{"$f":"IFERROR(INDEX('WINBUGS data'!$F$12:$AI$26,MATCH($C56,'WINBUGS data'!$F$12:$F$26,0),MATCH(\"t[,\"&J$4 &\"]\",'WINBUGS data'!$F$12:$AI$12,0)),\"\")","v":""},{"$f":"IFERROR(INDEX('WINBUGS data'!$F$12:$AI$26,MATCH($C56,'WINBUGS data'!$F$12:$F$26,0),MATCH(\"t[,\"&K$4 &\"]\",'WINBUGS data'!$F$12:$AI$12,0)),\"\")","v":""},{"$f":"IFERROR(INDEX('WINBUGS data'!$F$12:$AI$26,MATCH($C56,'WINBUGS data'!$F$12:$F$26,0),MATCH(\"t[,\"&L$4 &\"]\",'WINBUGS data'!$F$12:$AI$12,0)),\"\")","v":""},{"$f":"IFERROR(INDEX('WINBUGS data'!$F$12:$AI$26,MATCH($C56,'WINBUGS data'!$F$12:$F$26,0),MATCH(\"t[,\"&M$4 &\"]\",'WINBUGS data'!$F$12:$AI$12,0)),\"\")","v":""},{"$f":"IFERROR(INDEX('WINBUGS data'!$F$12:$AI$26,MATCH($C56,'WINBUGS data'!$F$12:$F$26,0),MATCH(\"t[,\"&N$4 &\"]\",'WINBUGS data'!$F$12:$AI$12,0)),\"\")","v":""},{"$f":"IFERROR(INDEX('WINBUGS data'!$F$12:$AI$26,MATCH($C56,'WINBUGS data'!$F$12:$F$26,0),MATCH(\"t[,\"&O$4 &\"]\",'WINBUGS data'!$F$12:$AI$12,0)),\"\")","v":""},{"$f":"IFERROR(INDEX('WINBUGS data'!$F$12:$AI$26,MATCH($C56,'WINBUGS data'!$F$12:$F$26,0),MATCH(\"t[,\"&P$4 &\"]\",'WINBUGS data'!$F$12:$AI$12,0)),\"\")","v":""},{"$f":"IFERROR(INDEX('WINBUGS data'!$F$12:$AI$26,MATCH($C56,'WINBUGS data'!$F$12:$F$26,0),MATCH(\"t[,\"&Q$4 &\"]\",'WINBUGS data'!$F$12:$AI$12,0)),\"\")","v":""},{"$f":"IFERROR(INDEX('WINBUGS data'!$F$12:$AI$26,MATCH($C56,'WINBUGS data'!$F$12:$F$26,0),MATCH(\"t[,\"&R$4 &\"]\",'WINBUGS data'!$F$12:$AI$12,0)),\"\")","v":""},{"$f":"IFERROR(INDEX('WINBUGS data'!$F$12:$AI$26,MATCH($C56,'WINBUGS data'!$F$12:$F$26,0),MATCH(\"t[,\"&S$4 &\"]\",'WINBUGS data'!$F$12:$AI$12,0)),\"\")","v":""},{"$f":"IFERROR(INDEX('WINBUGS data'!$F$12:$AI$26,MATCH($C56,'WINBUGS data'!$F$12:$F$26,0),MATCH(\"t[,\"&T$4 &\"]\",'WINBUGS data'!$F$12:$AI$12,0)),\"\")","v":""}]
[null,null,{"$f":"IF('WINBUGS data'!F65<>\"\",'WINBUGS data'!F65,\"\")","v":""},{"$f":"IFERROR(INDEX('WINBUGS data'!$F$12:$AI$26,MATCH(C57,'WINBUGS data'!$F$12:$F$26,0),MATCH(\"na[]\",'WINBUGS data'!$F$12:$AI$12,0)),\"\")","v":""},"",{"$f":"IFERROR(INDEX('WINBUGS data'!$F$12:$AI$26,MATCH($C57,'WINBUGS data'!$F$12:$F$26,0),MATCH(\"t[,\"&F$4 &\"]\",'WINBUGS data'!$F$12:$AI$12,0)),\"\")","v":""},{"$f":"IFERROR(INDEX('WINBUGS data'!$F$12:$AI$26,MATCH($C57,'WINBUGS data'!$F$12:$F$26,0),MATCH(\"t[,\"&G$4 &\"]\",'WINBUGS data'!$F$12:$AI$12,0)),\"\")","v":""},{"$f":"IFERROR(INDEX('WINBUGS data'!$F$12:$AI$26,MATCH($C57,'WINBUGS data'!$F$12:$F$26,0),MATCH(\"t[,\"&H$4 &\"]\",'WINBUGS data'!$F$12:$AI$12,0)),\"\")","v":""},{"$f":"IFERROR(INDEX('WINBUGS data'!$F$12:$AI$26,MATCH($C57,'WINBUGS data'!$F$12:$F$26,0),MATCH(\"t[,\"&I$4 &\"]\",'WINBUGS data'!$F$12:$AI$12,0)),\"\")","v":""},{"$f":"IFERROR(INDEX('WINBUGS data'!$F$12:$AI$26,MATCH($C57,'WINBUGS data'!$F$12:$F$26,0),MATCH(\"t[,\"&J$4 &\"]\",'WINBUGS data'!$F$12:$AI$12,0)),\"\")","v":""},{"$f":"IFERROR(INDEX('WINBUGS data'!$F$12:$AI$26,MATCH($C57,'WINBUGS data'!$F$12:$F$26,0),MATCH(\"t[,\"&K$4 &\"]\",'WINBUGS data'!$F$12:$AI$12,0)),\"\")","v":""},{"$f":"IFERROR(INDEX('WINBUGS data'!$F$12:$AI$26,MATCH($C57,'WINBUGS data'!$F$12:$F$26,0),MATCH(\"t[,\"&L$4 &\"]\",'WINBUGS data'!$F$12:$AI$12,0)),\"\")","v":""},{"$f":"IFERROR(INDEX('WINBUGS data'!$F$12:$AI$26,MATCH($C57,'WINBUGS data'!$F$12:$F$26,0),MATCH(\"t[,\"&M$4 &\"]\",'WINBUGS data'!$F$12:$AI$12,0)),\"\")","v":""},{"$f":"IFERROR(INDEX('WINBUGS data'!$F$12:$AI$26,MATCH($C57,'WINBUGS data'!$F$12:$F$26,0),MATCH(\"t[,\"&N$4 &\"]\",'WINBUGS data'!$F$12:$AI$12,0)),\"\")","v":""},{"$f":"IFERROR(INDEX('WINBUGS data'!$F$12:$AI$26,MATCH($C57,'WINBUGS data'!$F$12:$F$26,0),MATCH(\"t[,\"&O$4 &\"]\",'WINBUGS data'!$F$12:$AI$12,0)),\"\")","v":""},{"$f":"IFERROR(INDEX('WINBUGS data'!$F$12:$AI$26,MATCH($C57,'WINBUGS data'!$F$12:$F$26,0),MATCH(\"t[,\"&P$4 &\"]\",'WINBUGS data'!$F$12:$AI$12,0)),\"\")","v":""},{"$f":"IFERROR(INDEX('WINBUGS data'!$F$12:$AI$26,MATCH($C57,'WINBUGS data'!$F$12:$F$26,0),MATCH(\"t[,\"&Q$4 &\"]\",'WINBUGS data'!$F$12:$AI$12,0)),\"\")","v":""},{"$f":"IFERROR(INDEX('WINBUGS data'!$F$12:$AI$26,MATCH($C57,'WINBUGS data'!$F$12:$F$26,0),MATCH(\"t[,\"&R$4 &\"]\",'WINBUGS data'!$F$12:$AI$12,0)),\"\")","v":""},{"$f":"IFERROR(INDEX('WINBUGS data'!$F$12:$AI$26,MATCH($C57,'WINBUGS data'!$F$12:$F$26,0),MATCH(\"t[,\"&S$4 &\"]\",'WINBUGS data'!$F$12:$AI$12,0)),\"\")","v":""},{"$f":"IFERROR(INDEX('WINBUGS data'!$F$12:$AI$26,MATCH($C57,'WINBUGS data'!$F$12:$F$26,0),MATCH(\"t[,\"&T$4 &\"]\",'WINBUGS data'!$F$12:$AI$12,0)),\"\")","v":""}]
[null,null,{"$f":"IF('WINBUGS data'!F66<>\"\",'WINBUGS data'!F66,\"\")","v":""},{"$f":"IFERROR(INDEX('WINBUGS data'!$F$12:$AI$26,MATCH(C58,'WINBUGS data'!$F$12:$F$26,0),MATCH(\"na[]\",'WINBUGS data'!$F$12:$AI$12,0)),\"\")","v":""},"",{"$f":"IFERROR(INDEX('WINBUGS data'!$F$12:$AI$26,MATCH($C58,'WINBUGS data'!$F$12:$F$26,0),MATCH(\"t[,\"&F$4 &\"]\",'WINBUGS data'!$F$12:$AI$12,0)),\"\")","v":""},{"$f":"IFERROR(INDEX('WINBUGS data'!$F$12:$AI$26,MATCH($C58,'WINBUGS data'!$F$12:$F$26,0),MATCH(\"t[,\"&G$4 &\"]\",'WINBUGS data'!$F$12:$AI$12,0)),\"\")","v":""},{"$f":"IFERROR(INDEX('WINBUGS data'!$F$12:$AI$26,MATCH($C58,'WINBUGS data'!$F$12:$F$26,0),MATCH(\"t[,\"&H$4 &\"]\",'WINBUGS data'!$F$12:$AI$12,0)),\"\")","v":""},{"$f":"IFERROR(INDEX('WINBUGS data'!$F$12:$AI$26,MATCH($C58,'WINBUGS data'!$F$12:$F$26,0),MATCH(\"t[,\"&I$4 &\"]\",'WINBUGS data'!$F$12:$AI$12,0)),\"\")","v":""},{"$f":"IFERROR(INDEX('WINBUGS data'!$F$12:$AI$26,MATCH($C58,'WINBUGS data'!$F$12:$F$26,0),MATCH(\"t[,\"&J$4 &\"]\",'WINBUGS data'!$F$12:$AI$12,0)),\"\")","v":""},{"$f":"IFERROR(INDEX('WINBUGS data'!$F$12:$AI$26,MATCH($C58,'WINBUGS data'!$F$12:$F$26,0),MATCH(\"t[,\"&K$4 &\"]\",'WINBUGS data'!$F$12:$AI$12,0)),\"\")","v":""},{"$f":"IFERROR(INDEX('WINBUGS data'!$F$12:$AI$26,MATCH($C58,'WINBUGS data'!$F$12:$F$26,0),MATCH(\"t[,\"&L$4 &\"]\",'WINBUGS data'!$F$12:$AI$12,0)),\"\")","v":""},{"$f":"IFERROR(INDEX('WINBUGS data'!$F$12:$AI$26,MATCH($C58,'WINBUGS data'!$F$12:$F$26,0),MATCH(\"t[,\"&M$4 &\"]\",'WINBUGS data'!$F$12:$AI$12,0)),\"\")","v":""},{"$f":"IFERROR(INDEX('WINBUGS data'!$F$12:$AI$26,MATCH($C58,'WINBUGS data'!$F$12:$F$26,0),MATCH(\"t[,\"&N$4 &\"]\",'WINBUGS data'!$F$12:$AI$12,0)),\"\")","v":""},{"$f":"IFERROR(INDEX('WINBUGS data'!$F$12:$AI$26,MATCH($C58,'WINBUGS data'!$F$12:$F$26,0),MATCH(\"t[,\"&O$4 &\"]\",'WINBUGS data'!$F$12:$AI$12,0)),\"\")","v":""},{"$f":"IFERROR(INDEX('WINBUGS data'!$F$12:$AI$26,MATCH($C58,'WINBUGS data'!$F$12:$F$26,0),MATCH(\"t[,\"&P$4 &\"]\",'WINBUGS data'!$F$12:$AI$12,0)),\"\")","v":""},{"$f":"IFERROR(INDEX('WINBUGS data'!$F$12:$AI$26,MATCH($C58,'WINBUGS data'!$F$12:$F$26,0),MATCH(\"t[,\"&Q$4 &\"]\",'WINBUGS data'!$F$12:$AI$12,0)),\"\")","v":""},{"$f":"IFERROR(INDEX('WINBUGS data'!$F$12:$AI$26,MATCH($C58,'WINBUGS data'!$F$12:$F$26,0),MATCH(\"t[,\"&R$4 &\"]\",'WINBUGS data'!$F$12:$AI$12,0)),\"\")","v":""},{"$f":"IFERROR(INDEX('WINBUGS data'!$F$12:$AI$26,MATCH($C58,'WINBUGS data'!$F$12:$F$26,0),MATCH(\"t[,\"&S$4 &\"]\",'WINBUGS data'!$F$12:$AI$12,0)),\"\")","v":""},{"$f":"IFERROR(INDEX('WINBUGS data'!$F$12:$AI$26,MATCH($C58,'WINBUGS data'!$F$12:$F$26,0),MATCH(\"t[,\"&T$4 &\"]\",'WINBUGS data'!$F$12:$AI$12,0)),\"\")","v":""}]
[null,null,{"$f":"IF('WINBUGS data'!F67<>\"\",'WINBUGS data'!F67,\"\")","v":""},{"$f":"IFERROR(INDEX('WINBUGS data'!$F$12:$AI$26,MATCH(C59,'WINBUGS data'!$F$12:$F$26,0),MATCH(\"na[]\",'WINBUGS data'!$F$12:$AI$12,0)),\"\")","v":""},"",{"$f":"IFERROR(INDEX('WINBUGS data'!$F$12:$AI$26,MATCH($C59,'WINBUGS data'!$F$12:$F$26,0),MATCH(\"t[,\"&F$4 &\"]\",'WINBUGS data'!$F$12:$AI$12,0)),\"\")","v":""},{"$f":"IFERROR(INDEX('WINBUGS data'!$F$12:$AI$26,MATCH($C59,'WINBUGS data'!$F$12:$F$26,0),MATCH(\"t[,\"&G$4 &\"]\",'WINBUGS data'!$F$12:$AI$12,0)),\"\")","v":""},{"$f":"IFERROR(INDEX('WINBUGS data'!$F$12:$AI$26,MATCH($C59,'WINBUGS data'!$F$12:$F$26,0),MATCH(\"t[,\"&H$4 &\"]\",'WINBUGS data'!$F$12:$AI$12,0)),\"\")","v":""},{"$f":"IFERROR(INDEX('WINBUGS data'!$F$12:$AI$26,MATCH($C59,'WINBUGS data'!$F$12:$F$26,0),MATCH(\"t[,\"&I$4 &\"]\",'WINBUGS data'!$F$12:$AI$12,0)),\"\")","v":""},{"$f":"IFERROR(INDEX('WINBUGS data'!$F$12:$AI$26,MATCH($C59,'WINBUGS data'!$F$12:$F$26,0),MATCH(\"t[,\"&J$4 &\"]\",'WINBUGS data'!$F$12:$AI$12,0)),\"\")","v":""},{"$f":"IFERROR(INDEX('WINBUGS data'!$F$12:$AI$26,MATCH($C59,'WINBUGS data'!$F$12:$F$26,0),MATCH(\"t[,\"&K$4 &\"]\",'WINBUGS data'!$F$12:$AI$12,0)),\"\")","v":""},{"$f":"IFERROR(INDEX('WINBUGS data'!$F$12:$AI$26,MATCH($C59,'WINBUGS data'!$F$12:$F$26,0),MATCH(\"t[,\"&L$4 &\"]\",'WINBUGS data'!$F$12:$AI$12,0)),\"\")","v":""},{"$f":"IFERROR(INDEX('WINBUGS data'!$F$12:$AI$26,MATCH($C59,'WINBUGS data'!$F$12:$F$26,0),MATCH(\"t[,\"&M$4 &\"]\",'WINBUGS data'!$F$12:$AI$12,0)),\"\")","v":""},{"$f":"IFERROR(INDEX('WINBUGS data'!$F$12:$AI$26,MATCH($C59,'WINBUGS data'!$F$12:$F$26,0),MATCH(\"t[,\"&N$4 &\"]\",'WINBUGS data'!$F$12:$AI$12,0)),\"\")","v":""},{"$f":"IFERROR(INDEX('WINBUGS data'!$F$12:$AI$26,MATCH($C59,'WINBUGS data'!$F$12:$F$26,0),MATCH(\"t[,\"&O$4 &\"]\",'WINBUGS data'!$F$12:$AI$12,0)),\"\")","v":""},{"$f":"IFERROR(INDEX('WINBUGS data'!$F$12:$AI$26,MATCH($C59,'WINBUGS data'!$F$12:$F$26,0),MATCH(\"t[,\"&P$4 &\"]\",'WINBUGS data'!$F$12:$AI$12,0)),\"\")","v":""},{"$f":"IFERROR(INDEX('WINBUGS data'!$F$12:$AI$26,MATCH($C59,'WINBUGS data'!$F$12:$F$26,0),MATCH(\"t[,\"&Q$4 &\"]\",'WINBUGS data'!$F$12:$AI$12,0)),\"\")","v":""},{"$f":"IFERROR(INDEX('WINBUGS data'!$F$12:$AI$26,MATCH($C59,'WINBUGS data'!$F$12:$F$26,0),MATCH(\"t[,\"&R$4 &\"]\",'WINBUGS data'!$F$12:$AI$12,0)),\"\")","v":""},{"$f":"IFERROR(INDEX('WINBUGS data'!$F$12:$AI$26,MATCH($C59,'WINBUGS data'!$F$12:$F$26,0),MATCH(\"t[,\"&S$4 &\"]\",'WINBUGS data'!$F$12:$AI$12,0)),\"\")","v":""},{"$f":"IFERROR(INDEX('WINBUGS data'!$F$12:$AI$26,MATCH($C59,'WINBUGS data'!$F$12:$F$26,0),MATCH(\"t[,\"&T$4 &\"]\",'WINBUGS data'!$F$12:$AI$12,0)),\"\")","v":""}]

{"sheet":"Network Diagram","index":4,"n_rows":39,"n_cols":3,"rows_kept":39,"cut":false,"hidden":false,"merged":[[22,1,22,2]]}
[]
[]
[]
[]
[]
[]
[]
[]
[]
[]
[]
[]
[]
[]
[]
[]
[]
[]
[]
[null,"Base Node Size",40]
[]
[]
[null,"Legend"]
[null,"Drug","Abbreviation"]
[null,{"$f":"'WINBUGS data'!B4","v":"Medical"},"A"]
[null,{"$f":"'WINBUGS data'!B5","v":"Cardiac Resynchronisation"},"B"]
[null,{"$f":"'WINBUGS data'!B6","v":"Implantable Defibrilator"},"C"]
[null,{"$f":"'WINBUGS data'!B7","v":"Combined Resyn and Def."},"D"]
[null,{"$f":"'WINBUGS data'!B8","v":"Amiodarone"},"E"]
[null,{"$f":"'WINBUGS data'!B9","v":""},{"$f":"IF(B30=\"\",\"\",C29+1)","v":""}]
[null,{"$f":"'WINBUGS data'!B10","v":""},""]
[null,{"$f":"'WINBUGS data'!B11","v":""},""]
[null,{"$f":"'WINBUGS data'!B12","v":""},""]
[null,{"$f":"'WINBUGS data'!B13","v":""},""]
[null,{"$f":"'WINBUGS data'!B14","v":""},""]
[null,{"$f":"'WINBUGS data'!B15","v":""},""]
[null,{"$f":"'WINBUGS data'!B16","v":""},""]
[null,{"$f":"'WINBUGS data'!B17","v":""},""]
[null,{"$f":"'WINBUGS data'!B18","v":""},""]

{"sheet":"Forest Plot","index":5,"n_rows":9,"n_cols":26,"rows_kept":9,"cut":false,"hidden":false,"merged":[[4,1,5,1]]}
[]
[]
[null,null,null,null,null,null,null,null,null,null,null,null,null,null,null,null,null,null,null,null,null,null,null,null,"sheet11",{"$f":"'Fixed Effects'!A1","v":"Fixed Effects"}]
[null,null,"Outcome","OR",null,null,null,null,null,null,null,null,null,null,null,null,null,null,null,null,null,null,null,null,"sheet20",{"$f":"'Random Effects (Vague)'!A1","v":"Random Effects (Vague)"}]
[null,"Analyses","Top","Fixed Effects",null,null,null,null,null,null,null,null,null,null,null,null,null,null,null,null,null,null,null,null,"sheet15",{"$f":"'Random Effects  (Informative)'!A1","v":"Random Effects  (Informative)"}]
[null,null,"Bottom","None",null,null,null,null,null,null,null,null,null,null,null,null,null,null,null,null,null,null,null,null,null,"None"]
[null,null,"Comparison Spacing",2]
[null,null,"Marker Size",5]
[null,null,"Plot Size",375]

{"sheet":"League Table","index":6,"n_rows":9,"n_cols":26,"rows_kept":9,"cut":false,"hidden":false,"merged":[]}
[]
[null,"Outcome","OR",null,null,null,null,null,null,null,null,null,null,null,null,null,null,null,null,null,null,null,null,null,{"$f":"IF(events_bad,CONCATENATE(step,\" <1 Means the Treatment in Top Left is Better\"),CONCATENATE(step,\" >1 Means the Treatment in Top Left is Better\"))","v":"OR <1 Means the Treatment in Top Left is Better"}]
[null,"Analysis","Fixed Effects",null,null,null,null,null,null,null,null,null,null,null,null,null,null,null,null,null,null,null,null,null,"sheet11",{"$f":"'Fixed Effects'!A1","v":"Fixed Effects"}]
[null,null,null,null,null,null,null,null,null,null,null,null,null,null,null,null,null,null,null,null,null,null,null,null,"sheet20",{"$f":"'Random Effects (Vague)'!A1","v":"Random Effects (Vague)"}]
[null,null,null,null,null,"Combined Resyn and Def.",null,null,null,null,null,null,null,null,null,null,null,null,null,null,null,null,null,null,"sheet15",{"$f":"'Random Effects  (Informative)'!A1","v":"Random Effects  (Informative)"}]
[null,null,null,null,null,"0.85\n(0.65 – 1.10)","Cardiac Resynchronisation",null,null,null,null,null,null,null,null,null,null,null,null,null,null,null,null,null,"OR <1 Means the Treatment in Top Left is Better"]
[null,null,null,null,null,"0.80\n(0.59 – 1.08)","0.95\n(0.73 – 1.22)","Implantable Defibrilator"]
[null,null,null,null,null,"0.57\n(0.41 – 0.79)","0.67\n(0.51 – 0.89)","0.71\n(0.58 – 0.87)","Amiodarone"]
[null,null,null,null,null,"0.55\n(0.42 – 0.72)","0.65\n(0.53 – 0.80)","0.69\n(0.59 – 0.81)","0.97\n(0.80 – 1.19)","Medical"]

{"sheet":"Rankogram","index":7,"n_rows":19,"n_cols":4,"rows_kept":19,"cut":false,"hidden":false,"merged":[]}
[]
[null,"Random Effects (Vague) Rankogram"]
[null,"Fixed Effects"]
[null,"Random Effects (Vague)"]
[null,"Random Effects  (Informative)"]
[]
[null,"Analysis","Random Effects (Vague)"]
[]
[]
[]
[]
[]
[]
[null,null,"Treatment","SUCRA"]
[null,null,"Combined Resyn and Def.",0.9254]
[null,null,"Cardiac Resynchronisation",0.68220000000000003]
[null,null,"Implantable Defibrilator",0.61560000000000004]
[null,null,"Amiodarone",0.16919999999999999]
[null,null,"Medical",0.1077]

{"sheet":"Inconsistency Data","index":8,"n_rows":105,"n_cols":26,"rows_kept":105,"cut":false,"hidden":true,"merged":[[4,27,4,28],[4,29,4,30],[3,3,3,7],[3,8,3,12],[3,14,3,21],[4,3,4,4],[4,5,4,6],[4,8,4,9],[4,10,4,11]]}
[]
[]
[]
[null,null,null,"Fixed Effects",null,null,null,null,"Random Effects (Vague)",null,null,null,null,null,"Data Labels"]
[null,null,null,"Inconsistency Model",null,"Consistency Model",null,"Difference","Inconsistency Model",null,"Consistency Model",null,"Difference",null,"Study","Treatment",null,"Study Name",null,"Treament Name","Study Name, Treatment Name",1,null,null,null,{"$f":"R5","v":"Study Name"}]
[0,0,null,null,null,null,null,{"$f":"IF(D6=\"\",\"\",G6-E6)","v":""},null,null,null,null,{"$f":"IF(I6=\"\",\"\",L6-J6)","v":""},null,{"$f":"IF(D6=\"\",\"\",MID(D6,FIND(\"[\",D6)+1,FIND(\",\",D6)-FIND(\"[\",D6)-1))","v":""},{"$f":"MID(D6,FIND(\",\",D6)+1,FIND(\"]\",D6)-FIND(\",\",D6)-1)","v":{"$error":"#VALUE!"}},{"$f":"CONCATENATE(\"t[,\",P6,\"]\")","v":{"$error":"#VALUE!"}},{"$f":"IF(D6=\"\",\"\",INDEX('WINBUGS data'!$F$13:$T$26,'Inconsistency Data'!O6,2))","v":""},{"$f":"INDEX('WINBUGS data'!$F$13:$FS$61,(O6*1),MATCH(Q6,'WINBUGS data'!$F$12:$AM$12,0))","v":{"$error":"#VALUE!"}},{"$f":"IF(D6=\"\",\"\",INDEX('WINBUGS data'!$B$4:$C$18,'Inconsistency Data'!S6,1))","v":""},{"$f":"IF(D6=\"\",\"\",R6& \", \"&T6)","v":""},{"$f":"CHOOSE($V$5,R6,T6,U6)","v":""},null,null,null,{"$f":"T5","v":"Treament Name"}]
[2,2,null,null,null,null,null,{"$f":"IF(D7=\"\",\"\",G7-E7)","v":""},null,null,null,null,{"$f":"IF(I7=\"\",\"\",L7-J7)","v":""},null,"",{"$error":"#VALUE!"},{"$error":"#VALUE!"},{"$f":"IF(D7=\"\",\"\",INDEX('WINBUGS data'!$F$13:$T$26,'Inconsistency Data'!O7,2))","v":""},{"$f":"INDEX('WINBUGS data'!$F$13:$FS$61,(O7*1),MATCH(Q7,'WINBUGS data'!$F$12:$AM$12,0))","v":{"$error":"#VALUE!"}},{"$f":"IF(D7=\"\",\"\",INDEX('WINBUGS Data Inconsistency'!$B$4:$C$18,'Inconsistency Data'!S7,1))","v":""},"",{"$f":"CHOOSE($V$5,R7,T7,U7)","v":""},null,null,null,{"$f":"U5","v":"Study Name, Treatment Name"}]
[null,null,null,null,null,null,null,"",null,null,null,null,"",null,"",{"$error":"#VALUE!"},{"$error":"#VALUE!"},{"$f":"IF(D8=\"\",\"\",INDEX('WINBUGS data'!$F$13:$T$26,'Inconsistency Data'!O8,2))","v":""},{"$f":"INDEX('WINBUGS data'!$F$13:$FS$61,(O8*1),MATCH(Q8,'WINBUGS data'!$F$12:$AM$12,0))","v":{"$error":"#VALUE!"}},{"$f":"IF(D8=\"\",\"\",INDEX('WINBUGS Data Inconsistency'!$B$4:$C$18,'Inconsistency Data'!S8,1))","v":""},"",""]
[null,null,null,null,null,null,null,"",null,null,null,null,"",null,"",{"$error":"#VALUE!"},{"$error":"#VALUE!"},{"$f":"IF(D9=\"\",\"\",INDEX('WINBUGS data'!$F$13:$T$26,'Inconsistency Data'!O9,2))","v":""},{"$f":"INDEX('WINBUGS data'!$F$13:$FS$61,(O9*1),MATCH(Q9,'WINBUGS data'!$F$12:$AM$12,0))","v":{"$error":"#VALUE!"}},{"$f":"IF(D9=\"\",\"\",INDEX('WINBUGS Data Inconsistency'!$B$4:$C$18,'Inconsistency Data'!S9,1))","v":""},"",""]
[null,null,null,null,null,null,null,"",null,null,null,null,"",null,"",{"$error":"#VALUE!"},{"$error":"#VALUE!"},{"$f":"IF(D10=\"\",\"\",INDEX('WINBUGS data'!$F$13:$T$26,'Inconsistency Data'!O10,2))","v":""},{"$f":"INDEX('WINBUGS data'!$F$13:$FS$61,(O10*1),MATCH(Q10,'WINBUGS data'!$F$12:$AM$12,0))","v":{"$error":"#VALUE!"}},{"$f":"IF(D10=\"\",\"\",INDEX('WINBUGS Data Inconsistency'!$B$4:$C$18,'Inconsistency Data'!S10,1))","v":""},"",""]
[null,null,null,null,null,null,null,"",null,null,null,null,"",null,"",{"$error":"#VALUE!"},{"$error":"#VALUE!"},{"$f":"IF(D11=\"\",\"\",INDEX('WINBUGS data'!$F$13:$T$26,'Inconsistency Data'!O11,2))","v":""},{"$f":"INDEX('WINBUGS data'!$F$13:$FS$61,(O11*1),MATCH(Q11,'WINBUGS data'!$F$12:$AM$12,0))","v":{"$error":"#VALUE!"}},{"$f":"IF(D11=\"\",\"\",INDEX('WINBUGS Data Inconsistency'!$B$4:$C$18,'Inconsistency Data'!S11,1))","v":""},"",""]
[null,null,null,null,null,null,null,"",null,null,null,null,"",null,"",{"$error":"#VALUE!"},{"$error":"#VALUE!"},{"$f":"IF(D12=\"\",\"\",INDEX('WINBUGS data'!$F$13:$T$26,'Inconsistency Data'!O12,2))","v":""},{"$f":"INDEX('WINBUGS data'!$F$13:$FS$61,(O12*1),MATCH(Q12,'WINBUGS data'!$F$12:$AM$12,0))","v":{"$error":"#VALUE!"}},{"$f":"IF(D12=\"\",\"\",INDEX('WINBUGS Data Inconsistency'!$B$4:$C$18,'Inconsistency Data'!S12,1))","v":""},"",""]
[null,null,null,null,null,null,null,"",null,null,null,null,"",null,"",{"$error":"#VALUE!"},{"$error":"#VALUE!"},{"$f":"IF(D13=\"\",\"\",INDEX('WINBUGS data'!$F$13:$T$26,'Inconsistency Data'!O13,2))","v":""},{"$f":"INDEX('WINBUGS data'!$F$13:$FS$61,(O13*1),MATCH(Q13,'WINBUGS data'!$F$12:$AM$12,0))","v":{"$error":"#VALUE!"}},{"$f":"IF(D13=\"\",\"\",INDEX('WINBUGS Data Inconsistency'!$B$4:$C$18,'Inconsistency Data'!S13,1))","v":""},"",""]
[null,null,null,null,null,null,null,"",null,null,null,null,"",null,"",{"$error":"#VALUE!"},{"$error":"#VALUE!"},{"$f":"IF(D14=\"\",\"\",INDEX('WINBUGS data'!$F$13:$T$26,'Inconsistency Data'!O14,2))","v":""},{"$f":"INDEX('WINBUGS data'!$F$13:$FS$61,(O14*1),MATCH(Q14,'WINBUGS data'!$F$12:$AM$12,0))","v":{"$error":"#VALUE!"}},{"$f":"IF(D14=\"\",\"\",INDEX('WINBUGS Data Inconsistency'!$B$4:$C$18,'Inconsistency Data'!S14,1))","v":""},"",""]
[null,null,null,null,null,null,null,"",null,null,null,null,"",null,"",{"$error":"#VALUE!"},{"$error":"#VALUE!"},{"$f":"IF(D15=\"\",\"\",INDEX('WINBUGS data'!$F$13:$T$26,'Inconsistency Data'!O15,2))","v":""},{"$f":"INDEX('WINBUGS data'!$F$13:$FS$61,(O15*1),MATCH(Q15,'WINBUGS data'!$F$12:$AM$12,0))","v":{"$error":"#VALUE!"}},{"$f":"IF(D15=\"\",\"\",INDEX('WINBUGS Data Inconsistency'!$B$4:$C$18,'Inconsistency Data'!S15,1))","v":""},"",""]
[null,null,null,null,null,null,null,"",null,null,null,null,"",null,"",{"$error":"#VALUE!"},{"$error":"#VALUE!"},{"$f":"IF(D16=\"\",\"\",INDEX('WINBUGS data'!$F$13:$T$26,'Inconsistency Data'!O16,2))","v":""},{"$f":"INDEX('WINBUGS data'!$F$13:$FS$61,(O16*1),MATCH(Q16,'WINBUGS data'!$F$12:$AM$12,0))","v":{"$error":"#VALUE!"}},{"$f":"IF(D16=\"\",\"\",INDEX('WINBUGS Data Inconsistency'!$B$4:$C$18,'Inconsistency Data'!S16,1))","v":""},"",""]
[null,null,null,null,null,null,null,"",null,null,null,null,"",null,"",{"$error":"#VALUE!"},{"$error":"#VALUE!"},{"$f":"IF(D17=\"\",\"\",INDEX('WINBUGS data'!$F$13:$T$26,'Inconsistency Data'!O17,2))","v":""},{"$f":"INDEX('WINBUGS data'!$F$13:$FS$61,(O17*1),MATCH(Q17,'WINBUGS data'!$F$12:$AM$12,0))","v":{"$error":"#VALUE!"}},{"$f":"IF(D17=\"\",\"\",INDEX('WINBUGS Data Inconsistency'!$B$4:$C$18,'Inconsistency Data'!S17,1))","v":""},"",""]
[null,null,null,null,null,null,null,"",null,null,null,null,"",null,"",{"$error":"#VALUE!"},{"$error":"#VALUE!"},{"$f":"IF(D18=\"\",\"\",INDEX('WINBUGS data'!$F$13:$T$26,'Inconsistency Data'!O18,2))","v":""},{"$f":"INDEX('WINBUGS data'!$F$13:$FS$61,(O18*1),MATCH(Q18,'WINBUGS data'!$F$12:$AM$12,0))","v":{"$error":"#VALUE!"}},{"$f":"IF(D18=\"\",\"\",INDEX('WINBUGS Data Inconsistency'!$B$4:$C$18,'Inconsistency Data'!S18,1))","v":""},"",""]
[null,null,null,null,null,null,null,"",null,null,null,null,"",null,"",{"$error":"#VALUE!"},{"$error":"#VALUE!"},{"$f":"IF(D19=\"\",\"\",INDEX('WINBUGS data'!$F$13:$T$26,'Inconsistency Data'!O19,2))","v":""},{"$f":"INDEX('WINBUGS data'!$F$13:$FS$61,(O19*1),MATCH(Q19,'WINBUGS data'!$F$12:$AM$12,0))","v":{"$error":"#VALUE!"}},{"$f":"IF(D19=\"\",\"\",INDEX('WINBUGS Data Inconsistency'!$B$4:$C$18,'Inconsistency Data'!S19,1))","v":""},"",""]
[null,null,null,null,null,null,null,"",null,null,null,null,"",null,"",{"$error":"#VALUE!"},{"$error":"#VALUE!"},{"$f":"IF(D20=\"\",\"\",INDEX('WINBUGS data'!$F$13:$T$26,'Inconsistency Data'!O20,2))","v":""},{"$f":"INDEX('WINBUGS data'!$F$13:$FS$61,(O20*1),MATCH(Q20,'WINBUGS data'!$F$12:$AM$12,0))","v":{"$error":"#VALUE!"}},{"$f":"IF(D20=\"\",\"\",INDEX('WINBUGS Data Inconsistency'!$B$4:$C$18,'Inconsistency Data'!S20,1))","v":""},"",""]
[null,null,null,null,null,null,null,"",null,null,null,null,"",null,"",{"$error":"#VALUE!"},{"$error":"#VALUE!"},{"$f":"IF(D21=\"\",\"\",INDEX('WINBUGS data'!$F$13:$T$26,'Inconsistency Data'!O21,2))","v":""},{"$f":"INDEX('WINBUGS data'!$F$13:$FS$61,(O21*1),MATCH(Q21,'WINBUGS data'!$F$12:$AM$12,0))","v":{"$error":"#VALUE!"}},{"$f":"IF(D21=\"\",\"\",INDEX('WINBUGS Data Inconsistency'!$B$4:$C$18,'Inconsistency Data'!S21,1))","v":""},"",""]
[null,null,null,null,null,null,null,"",null,null,null,null,"",null,"",{"$error":"#VALUE!"},{"$error":"#VALUE!"},{"$f":"IF(D22=\"\",\"\",INDEX('WINBUGS data'!$F$13:$T$26,'Inconsistency Data'!O22,2))","v":""},{"$f":"INDEX('WINBUGS data'!$F$13:$FS$61,(O22*1),MATCH(Q22,'WINBUGS data'!$F$12:$AM$12,0))","v":{"$error":"#VALUE!"}},{"$f":"IF(D22=\"\",\"\",INDEX('WINBUGS Data Inconsistency'!$B$4:$C$18,'Inconsistency Data'!S22,1))","v":""},"",""]
[null,null,null,null,null,null,null,"",null,null,null,null,"",null,"",{"$error":"#VALUE!"},{"$error":"#VALUE!"},{"$f":"IF(D23=\"\",\"\",INDEX('WINBUGS data'!$F$13:$T$26,'Inconsistency Data'!O23,2))","v":""},{"$f":"INDEX('WINBUGS data'!$F$13:$FS$61,(O23*1),MATCH(Q23,'WINBUGS data'!$F$12:$AM$12,0))","v":{"$error":"#VALUE!"}},{"$f":"IF(D23=\"\",\"\",INDEX('WINBUGS Data Inconsistency'!$B$4:$C$18,'Inconsistency Data'!S23,1))","v":""},"",""]
[null,null,null,null,null,null,null,"",null,null,null,null,"",null,"",{"$error":"#VALUE!"},{"$error":"#VALUE!"},{"$f":"IF(D24=\"\",\"\",INDEX('WINBUGS data'!$F$13:$T$26,'Inconsistency Data'!O24,2))","v":""},{"$f":"INDEX('WINBUGS data'!$F$13:$FS$61,(O24*1),MATCH(Q24,'WINBUGS data'!$F$12:$AM$12,0))","v":{"$error":"#VALUE!"}},{"$f":"IF(D24=\"\",\"\",INDEX('WINBUGS Data Inconsistency'!$B$4:$C$18,'Inconsistency Data'!S24,1))","v":""},"",""]
[null,null,null,null,null,null,null,"",null,null,null,null,"",null,"",{"$error":"#VALUE!"},{"$error":"#VALUE!"},{"$f":"IF(D25=\"\",\"\",INDEX('WINBUGS data'!$F$13:$T$26,'Inconsistency Data'!O25,2))","v":""},{"$f":"INDEX('WINBUGS data'!$F$13:$FS$61,(O25*1),MATCH(Q25,'WINBUGS data'!$F$12:$AM$12,0))","v":{"$error":"#VALUE!"}},{"$f":"IF(D25=\"\",\"\",INDEX('WINBUGS Data Inconsistency'!$B$4:$C$18,'Inconsistency Data'!S25,1))","v":""},"",""]
[null,null,null,null,null,null,null,"",null,null,null,null,"",null,"",{"$error":"#VALUE!"},{"$error":"#VALUE!"},{"$f":"IF(D26=\"\",\"\",INDEX('WINBUGS data'!$F$13:$T$26,'Inconsistency Data'!O26,2))","v":""},{"$f":"INDEX('WINBUGS data'!$F$13:$FS$61,(O26*1),MATCH(Q26,'WINBUGS data'!$F$12:$AM$12,0))","v":{"$error":"#VALUE!"}},{"$f":"IF(D26=\"\",\"\",INDEX('WINBUGS Data Inconsistency'!$B$4:$C$18,'Inconsistency Data'!S26,1))","v":""},"",""]
[null,null,null,null,null,null,null,"",null,null,null,null,"",null,"",{"$error":"#VALUE!"},{"$error":"#VALUE!"},{"$f":"IF(D27=\"\",\"\",INDEX('WINBUGS data'!$F$13:$T$26,'Inconsistency Data'!O27,2))","v":""},{"$f":"INDEX('WINBUGS data'!$F$13:$FS$61,(O27*1),MATCH(Q27,'WINBUGS data'!$F$12:$AM$12,0))","v":{"$error":"#VALUE!"}},{"$f":"IF(D27=\"\",\"\",INDEX('WINBUGS Data Inconsistency'!$B$4:$C$18,'Inconsistency Data'!S27,1))","v":""},"",""]
[null,null,null,null,null,null,null,"",null,null,null,null,"",null,"",{"$error":"#VALUE!"},{"$error":"#VALUE!"},{"$f":"IF(D28=\"\",\"\",INDEX('WINBUGS data'!$F$13:$T$26,'Inconsistency Data'!O28,2))","v":""},{"$f":"INDEX('WINBUGS data'!$F$13:$FS$61,(O28*1),MATCH(Q28,'WINBUGS data'!$F$12:$AM$12,0))","v":{"$error":"#VALUE!"}},{"$f":"IF(D28=\"\",\"\",INDEX('WINBUGS Data Inconsistency'!$B$4:$C$18,'Inconsistency Data'!S28,1))","v":""},"",""]
[null,null,null,null,null,null,null,"",null,null,null,null,"",null,"",{"$error":"#VALUE!"},{"$error":"#VALUE!"},{"$f":"IF(D29=\"\",\"\",INDEX('WINBUGS data'!$F$13:$T$26,'Inconsistency Data'!O29,2))","v":""},{"$f":"INDEX('WINBUGS data'!$F$13:$FS$61,(O29*1),MATCH(Q29,'WINBUGS data'!$F$12:$AM$12,0))","v":{"$error":"#VALUE!"}},{"$f":"IF(D29=\"\",\"\",INDEX('WINBUGS Data Inconsistency'!$B$4:$C$18,'Inconsistency Data'!S29,1))","v":""},"",""]
[null,null,null,null,null,null,null,"",null,null,null,null,"",null,"",{"$error":"#VALUE!"},{"$error":"#VALUE!"},{"$f":"IF(D30=\"\",\"\",INDEX('WINBUGS data'!$F$13:$T$26,'Inconsistency Data'!O30,2))","v":""},{"$f":"INDEX('WINBUGS data'!$F$13:$FS$61,(O30*1),MATCH(Q30,'WINBUGS data'!$F$12:$AM$12,0))","v":{"$error":"#VALUE!"}},{"$f":"IF(D30=\"\",\"\",INDEX('WINBUGS Data Inconsistency'!$B$4:$C$18,'Inconsistency Data'!S30,1))","v":""},"",""]
[null,null,null,null,null,null,null,"",null,null,null,null,"",null,"",{"$error":"#VALUE!"},{"$error":"#VALUE!"},{"$f":"IF(D31=\"\",\"\",INDEX('WINBUGS data'!$F$13:$T$26,'Inconsistency Data'!O31,2))","v":""},{"$f":"INDEX('WINBUGS data'!$F$13:$FS$61,(O31*1),MATCH(Q31,'WINBUGS data'!$F$12:$AM$12,0))","v":{"$error":"#VALUE!"}},{"$f":"IF(D31=\"\",\"\",INDEX('WINBUGS Data Inconsistency'!$B$4:$C$18,'Inconsistency Data'!S31,1))","v":""},"",""]
[null,null,null,null,null,null,null,"",null,null,null,null,"",null,"",{"$error":"#VALUE!"},{"$error":"#VALUE!"},{"$f":"IF(D32=\"\",\"\",INDEX('WINBUGS data'!$F$13:$T$26,'Inconsistency Data'!O32,2))","v":""},{"$f":"INDEX('WINBUGS data'!$F$13:$FS$61,(O32*1),MATCH(Q32,'WINBUGS data'!$F$12:$AM$12,0))","v":{"$error":"#VALUE!"}},{"$f":"IF(D32=\"\",\"\",INDEX('WINBUGS Data Inconsistency'!$B$4:$C$18,'Inconsistency Data'!S32,1))","v":""},"",""]
[null,null,null,null,null,null,null,"",null,null,null,null,"",null,"",{"$error":"#VALUE!"},{"$error":"#VALUE!"},{"$f":"IF(D33=\"\",\"\",INDEX('WINBUGS data'!$F$13:$T$26,'Inconsistency Data'!O33,2))","v":""},{"$f":"INDEX('WINBUGS data'!$F$13:$FS$61,(O33*1),MATCH(Q33,'WINBUGS data'!$F$12:$AM$12,0))","v":{"$error":"#VALUE!"}},{"$f":"IF(D33=\"\",\"\",INDEX('WINBUGS Data Inconsistency'!$B$4:$C$18,'Inconsistency Data'!S33,1))","v":""},"",""]
[null,null,null,null,null,null,null,"",null,null,null,null,"",null,"",{"$error":"#VALUE!"},{"$error":"#VALUE!"},{"$f":"IF(D34=\"\",\"\",INDEX('WINBUGS data'!$F$13:$T$26,'Inconsistency Data'!O34,2))","v":""},{"$f":"INDEX('WINBUGS data'!$F$13:$FS$61,(O34*1),MATCH(Q34,'WINBUGS data'!$F$12:$AM$12,0))","v":{"$error":"#VALUE!"}},{"$f":"IF(D34=\"\",\"\",INDEX('WINBUGS Data Inconsistency'!$B$4:$C$18,'Inconsistency Data'!S34,1))","v":""},"",""]
[null,null,null,null,null,null,null,"",null,null,null,null,"",null,"",{"$error":"#VALUE!"},{"$error":"#VALUE!"},{"$f":"IF(D35=\"\",\"\",INDEX('WINBUGS data'!$F$13:$T$26,'Inconsistency Data'!O35,2))","v":""},{"$f":"INDEX('WINBUGS data'!$F$13:$FS$61,(O35*1),MATCH(Q35,'WINBUGS data'!$F$12:$AM$12,0))","v":{"$error":"#VALUE!"}},{"$f":"IF(D35=\"\",\"\",INDEX('WINBUGS Data Inconsistency'!$B$4:$C$18,'Inconsistency Data'!S35,1))","v":""},"",""]
[null,null,null,null,null,null,null,"",null,null,null,null,"",null,"",{"$error":"#VALUE!"},{"$error":"#VALUE!"},{"$f":"IF(D36=\"\",\"\",INDEX('WINBUGS data'!$F$13:$T$26,'Inconsistency Data'!O36,2))","v":""},{"$f":"INDEX('WINBUGS data'!$F$13:$FS$61,(O36*1),MATCH(Q36,'WINBUGS data'!$F$12:$AM$12,0))","v":{"$error":"#VALUE!"}},{"$f":"IF(D36=\"\",\"\",INDEX('WINBUGS Data Inconsistency'!$B$4:$C$18,'Inconsistency Data'!S36,1))","v":""},"",""]
[null,null,null,null,null,null,null,"",null,null,null,null,"",null,"",{"$error":"#VALUE!"},{"$error":"#VALUE!"},{"$f":"IF(D37=\"\",\"\",INDEX('WINBUGS data'!$F$13:$T$26,'Inconsistency Data'!O37,2))","v":""},{"$f":"INDEX('WINBUGS data'!$F$13:$FS$61,(O37*1),MATCH(Q37,'WINBUGS data'!$F$12:$AM$12,0))","v":{"$error":"#VALUE!"}},{"$f":"IF(D37=\"\",\"\",INDEX('WINBUGS Data Inconsistency'!$B$4:$C$18,'Inconsistency Data'!S37,1))","v":""},"",""]
[null,null,null,null,null,null,null,"",null,null,null,null,"",null,"",{"$error":"#VALUE!"},{"$error":"#VALUE!"},{"$f":"IF(D38=\"\",\"\",INDEX('WINBUGS data'!$F$13:$T$26,'Inconsistency Data'!O38,2))","v":""},{"$f":"INDEX('WINBUGS data'!$F$13:$FS$61,(O38*1),MATCH(Q38,'WINBUGS data'!$F$12:$AM$12,0))","v":{"$error":"#VALUE!"}},{"$f":"IF(D38=\"\",\"\",INDEX('WINBUGS Data Inconsistency'!$B$4:$C$18,'Inconsistency Data'!S38,1))","v":""},"",""]
[null,null,null,null,null,null,null,"",null,null,null,null,"",null,"",{"$error":"#VALUE!"},{"$error":"#VALUE!"},{"$f":"IF(D39=\"\",\"\",INDEX('WINBUGS data'!$F$13:$T$26,'Inconsistency Data'!O39,2))","v":""},{"$f":"INDEX('WINBUGS data'!$F$13:$FS$61,(O39*1),MATCH(Q39,'WINBUGS data'!$F$12:$AM$12,0))","v":{"$error":"#VALUE!"}},{"$f":"IF(D39=\"\",\"\",INDEX('WINBUGS Data Inconsistency'!$B$4:$C$18,'Inconsistency Data'!S39,1))","v":""},"",""]
[null,null,null,null,null,null,null,"",null,null,null,null,"",null,"",{"$error":"#VALUE!"},{"$error":"#VALUE!"},{"$f":"IF(D40=\"\",\"\",INDEX('WINBUGS data'!$F$13:$T$26,'Inconsistency Data'!O40,2))","v":""},{"$f":"INDEX('WINBUGS data'!$F$13:$FS$61,(O40*1),MATCH(Q40,'WINBUGS data'!$F$12:$AM$12,0))","v":{"$error":"#VALUE!"}},{"$f":"IF(D40=\"\",\"\",INDEX('WINBUGS Data Inconsistency'!$B$4:$C$18,'Inconsistency Data'!S40,1))","v":""},"",""]
[null,null,null,null,null,null,null,"",null,null,null,null,"",null,"",{"$error":"#VALUE!"},{"$error":"#VALUE!"},{"$f":"IF(D41=\"\",\"\",INDEX('WINBUGS data'!$F$13:$T$26,'Inconsistency Data'!O41,2))","v":""},{"$f":"INDEX('WINBUGS data'!$F$13:$FS$61,(O41*1),MATCH(Q41,'WINBUGS data'!$F$12:$AM$12,0))","v":{"$error":"#VALUE!"}},{"$f":"IF(D41=\"\",\"\",INDEX('WINBUGS Data Inconsistency'!$B$4:$C$18,'Inconsistency Data'!S41,1))","v":""},"",""]
[null,null,null,null,null,null,null,"",null,null,null,null,"",null,"",{"$error":"#VALUE!"},{"$error":"#VALUE!"},{"$f":"IF(D42=\"\",\"\",INDEX('WINBUGS data'!$F$13:$T$26,'Inconsistency Data'!O42,2))","v":""},{"$f":"INDEX('WINBUGS data'!$F$13:$FS$61,(O42*1),MATCH(Q42,'WINBUGS data'!$F$12:$AM$12,0))","v":{"$error":"#VALUE!"}},{"$f":"IF(D42=\"\",\"\",INDEX('WINBUGS Data Inconsistency'!$B$4:$C$18,'Inconsistency Data'!S42,1))","v":""},"",""]
[null,null,null,null,null,null,null,"",null,null,null,null,"",null,"",{"$error":"#VALUE!"},{"$error":"#VALUE!"},{"$f":"IF(D43=\"\",\"\",INDEX('WINBUGS data'!$F$13:$T$26,'Inconsistency Data'!O43,2))","v":""},{"$f":"INDEX('WINBUGS data'!$F$13:$FS$61,(O43*1),MATCH(Q43,'WINBUGS data'!$F$12:$AM$12,0))","v":{"$error":"#VALUE!"}},{"$f":"IF(D43=\"\",\"\",INDEX('WINBUGS Data Inconsistency'!$B$4:$C$18,'Inconsistency Data'!S43,1))","v":""},"",""]
[null,null,null,null,null,null,null,"",null,null,null,null,"",null,"",{"$error":"#VALUE!"},{"$error":"#VALUE!"},{"$f":"IF(D44=\"\",\"\",INDEX('WINBUGS data'!$F$13:$T$26,'Inconsistency Data'!O44,2))","v":""},{"$f":"INDEX('WINBUGS data'!$F$13:$FS$61,(O44*1),MATCH(Q44,'WINBUGS data'!$F$12:$AM$12,0))","v":{"$error":"#VALUE!"}},{"$f":"IF(D44=\"\",\"\",INDEX('WINBUGS Data Inconsistency'!$B$4:$C$18,'Inconsistency Data'!S44,1))","v":""},"",""]
[null,null,null,null,null,null,null,"",null,null,null,null,"",null,"",{"$error":"#VALUE!"},{"$error":"#VALUE!"},{"$f":"IF(D45=\"\",\"\",INDEX('WINBUGS data'!$F$13:$T$26,'Inconsistency Data'!O45,2))","v":""},{"$f":"INDEX('WINBUGS data'!$F$13:$FS$61,(O45*1),MATCH(Q45,'WINBUGS data'!$F$12:$AM$12,0))","v":{"$error":"#VALUE!"}},{"$f":"IF(D45=\"\",\"\",INDEX('WINBUGS Data Inconsistency'!$B$4:$C$18,'Inconsistency Data'!S45,1))","v":""},"",""]
[null,null,null,null,null,null,null,"",null,null,null,null,"",null,"",{"$error":"#VALUE!"},{"$error":"#VALUE!"},{"$f":"IF(D46=\"\",\"\",INDEX('WINBUGS data'!$F$13:$T$26,'Inconsistency Data'!O46,2))","v":""},{"$f":"INDEX('WINBUGS data'!$F$13:$FS$61,(O46*1),MATCH(Q46,'WINBUGS data'!$F$12:$AM$12,0))","v":{"$error":"#VALUE!"}},{"$f":"IF(D46=\"\",\"\",INDEX('WINBUGS Data Inconsistency'!$B$4:$C$18,'Inconsistency Data'!S46,1))","v":""},"",""]
[null,null,null,null,null,null,null,"",null,null,null,null,"",null,"",{"$error":"#VALUE!"},{"$error":"#VALUE!"},{"$f":"IF(D47=\"\",\"\",INDEX('WINBUGS data'!$F$13:$T$26,'Inconsistency Data'!O47,2))","v":""},{"$f":"INDEX('WINBUGS data'!$F$13:$FS$61,(O47*1),MATCH(Q47,'WINBUGS data'!$F$12:$AM$12,0))","v":{"$error":"#VALUE!"}},{"$f":"IF(D47=\"\",\"\",INDEX('WINBUGS Data Inconsistency'!$B$4:$C$18,'Inconsistency Data'!S47,1))","v":""},"",""]
[null,null,null,null,null,null,null,"",null,null,null,null,"",null,"",{"$error":"#VALUE!"},{"$error":"#VALUE!"},{"$f":"IF(D48=\"\",\"\",INDEX('WINBUGS data'!$F$13:$T$26,'Inconsistency Data'!O48,2))","v":""},{"$f":"INDEX('WINBUGS data'!$F$13:$FS$61,(O48*1),MATCH(Q48,'WINBUGS data'!$F$12:$AM$12,0))","v":{"$error":"#VALUE!"}},{"$f":"IF(D48=\"\",\"\",INDEX('WINBUGS Data Inconsistency'!$B$4:$C$18,'Inconsistency Data'!S48,1))","v":""},"",""]
[null,null,null,null,null,null,null,"",null,null,null,null,"",null,"",{"$error":"#VALUE!"},{"$error":"#VALUE!"},{"$f":"IF(D49=\"\",\"\",INDEX('WINBUGS data'!$F$13:$T$26,'Inconsistency Data'!O49,2))","v":""},{"$f":"INDEX('WINBUGS data'!$F$13:$FS$61,(O49*1),MATCH(Q49,'WINBUGS data'!$F$12:$AM$12,0))","v":{"$error":"#VALUE!"}},{"$f":"IF(D49=\"\",\"\",INDEX('WINBUGS Data Inconsistency'!$B$4:$C$18,'Inconsistency Data'!S49,1))","v":""},"",""]
[null,null,null,null,null,null,null,"",null,null,null,null,"",null,"",{"$error":"#VALUE!"},{"$error":"#VALUE!"},{"$f":"IF(D50=\"\",\"\",INDEX('WINBUGS data'!$F$13:$T$26,'Inconsistency Data'!O50,2))","v":""},{"$f":"INDEX('WINBUGS data'!$F$13:$FS$61,(O50*1),MATCH(Q50,'WINBUGS data'!$F$12:$AM$12,0))","v":{"$error":"#VALUE!"}},{"$f":"IF(D50=\"\",\"\",INDEX('WINBUGS Data Inconsistency'!$B$4:$C$18,'Inconsistency Data'!S50,1))","v":""},"",""]
[null,null,null,null,null,null,null,"",null,null,null,null,"",null,"",{"$error":"#VALUE!"},{"$error":"#VALUE!"},{"$f":"IF(D51=\"\",\"\",INDEX('WINBUGS data'!$F$13:$T$26,'Inconsistency Data'!O51,2))","v":""},{"$f":"INDEX('WINBUGS data'!$F$13:$FS$61,(O51*1),MATCH(Q51,'WINBUGS data'!$F$12:$AM$12,0))","v":{"$error":"#VALUE!"}},{"$f":"IF(D51=\"\",\"\",INDEX('WINBUGS Data Inconsistency'!$B$4:$C$18,'Inconsistency Data'!S51,1))","v":""},"",""]
[null,null,null,null,null,null,null,"",null,null,null,null,"",null,"",{"$error":"#VALUE!"},{"$error":"#VALUE!"},{"$f":"IF(D52=\"\",\"\",INDEX('WINBUGS data'!$F$13:$T$26,'Inconsistency Data'!O52,2))","v":""},{"$f":"INDEX('WINBUGS data'!$F$13:$FS$61,(O52*1),MATCH(Q52,'WINBUGS data'!$F$12:$AM$12,0))","v":{"$error":"#VALUE!"}},{"$f":"IF(D52=\"\",\"\",INDEX('WINBUGS Data Inconsistency'!$B$4:$C$18,'Inconsistency Data'!S52,1))","v":""},"",""]
[null,null,null,null,null,null,null,"",null,null,null,null,"",null,"",{"$error":"#VALUE!"},{"$error":"#VALUE!"},{"$f":"IF(D53=\"\",\"\",INDEX('WINBUGS data'!$F$13:$T$26,'Inconsistency Data'!O53,2))","v":""},{"$f":"INDEX('WINBUGS data'!$F$13:$FS$61,(O53*1),MATCH(Q53,'WINBUGS data'!$F$12:$AM$12,0))","v":{"$error":"#VALUE!"}},{"$f":"IF(D53=\"\",\"\",INDEX('WINBUGS Data Inconsistency'!$B$4:$C$18,'Inconsistency Data'!S53,1))","v":""},"",""]
[null,null,null,null,null,null,null,"",null,null,null,null,"",null,"",{"$error":"#VALUE!"},{"$error":"#VALUE!"},{"$f":"IF(D54=\"\",\"\",INDEX('WINBUGS data'!$F$13:$T$26,'Inconsistency Data'!O54,2))","v":""},{"$f":"INDEX('WINBUGS data'!$F$13:$FS$61,(O54*1),MATCH(Q54,'WINBUGS data'!$F$12:$AM$12,0))","v":{"$error":"#VALUE!"}},{"$f":"IF(D54=\"\",\"\",INDEX('WINBUGS Data Inconsistency'!$B$4:$C$18,'Inconsistency Data'!S54,1))","v":""},"",""]
[null,null,null,null,null,null,null,"",null,null,null,null,"",null,"",{"$error":"#VALUE!"},{"$error":"#VALUE!"},{"$f":"IF(D55=\"\",\"\",INDEX('WINBUGS data'!$F$13:$T$26,'Inconsistency Data'!O55,2))","v":""},{"$f":"INDEX('WINBUGS data'!$F$13:$FS$61,(O55*1),MATCH(Q55,'WINBUGS data'!$F$12:$AM$12,0))","v":{"$error":"#VALUE!"}},{"$f":"IF(D55=\"\",\"\",INDEX('WINBUGS Data Inconsistency'!$B$4:$C$18,'Inconsistency Data'!S55,1))","v":""},"",""]
[null,null,null,null,null,null,null,"",null,null,null,null,"",null,"",{"$error":"#VALUE!"},{"$error":"#VALUE!"},{"$f":"IF(D56=\"\",\"\",INDEX('WINBUGS data'!$F$13:$T$26,'Inconsistency Data'!O56,2))","v":""},{"$f":"INDEX('WINBUGS data'!$F$13:$FS$61,(O56*1),MATCH(Q56,'WINBUGS data'!$F$12:$AM$12,0))","v":{"$error":"#VALUE!"}},{"$f":"IF(D56=\"\",\"\",INDEX('WINBUGS Data Inconsistency'!$B$4:$C$18,'Inconsistency Data'!S56,1))","v":""},"",""]
[null,null,null,null,null,null,null,"",null,null,null,null,"",null,"",{"$error":"#VALUE!"},{"$error":"#VALUE!"},{"$f":"IF(D57=\"\",\"\",INDEX('WINBUGS data'!$F$13:$T$26,'Inconsistency Data'!O57,2))","v":""},{"$f":"INDEX('WINBUGS data'!$F$13:$FS$61,(O57*1),MATCH(Q57,'WINBUGS data'!$F$12:$AM$12,0))","v":{"$error":"#VALUE!"}},{"$f":"IF(D57=\"\",\"\",INDEX('WINBUGS Data Inconsistency'!$B$4:$C$18,'Inconsistency Data'!S57,1))","v":""},"",""]
[null,null,null,null,null,null,null,"",null,null,null,null,"",null,"",{"$error":"#VALUE!"},{"$error":"#VALUE!"},{"$f":"IF(D58=\"\",\"\",INDEX('WINBUGS data'!$F$13:$T$26,'Inconsistency Data'!O58,2))","v":""},{"$f":"INDEX('WINBUGS data'!$F$13:$FS$61,(O58*1),MATCH(Q58,'WINBUGS data'!$F$12:$AM$12,0))","v":{"$error":"#VALUE!"}},{"$f":"IF(D58=\"\",\"\",INDEX('WINBUGS Data Inconsistency'!$B$4:$C$18,'Inconsistency Data'!S58,1))","v":""},"",""]
[null,null,null,null,null,null,null,"",null,null,null,null,"",null,"",{"$error":"#VALUE!"},{"$error":"#VALUE!"},{"$f":"IF(D59=\"\",\"\",INDEX('WINBUGS data'!$F$13:$T$26,'Inconsistency Data'!O59,2))","v":""},{"$f":"INDEX('WINBUGS data'!$F$13:$FS$61,(O59*1),MATCH(Q59,'WINBUGS data'!$F$12:$AM$12,0))","v":{"$error":"#VALUE!"}},{"$f":"IF(D59=\"\",\"\",INDEX('WINBUGS Data Inconsistency'!$B$4:$C$18,'Inconsistency Data'!S59,1))","v":""},"",""]
[null,null,null,null,null,null,null,"",null,null,null,null,"",null,"",{"$error":"#VALUE!"},{"$error":"#VALUE!"},{"$f":"IF(D60=\"\",\"\",INDEX('WINBUGS data'!$F$13:$T$26,'Inconsistency Data'!O60,2))","v":""},{"$f":"INDEX('WINBUGS data'!$F$13:$FS$61,(O60*1),MATCH(Q60,'WINBUGS data'!$F$12:$AM$12,0))","v":{"$error":"#VALUE!"}},{"$f":"IF(D60=\"\",\"\",INDEX('WINBUGS Data Inconsistency'!$B$4:$C$18,'Inconsistency Data'!S60,1))","v":""},"",""]
[null,null,null,null,null,null,null,"",null,null,null,null,"",null,"",{"$error":"#VALUE!"},{"$error":"#VALUE!"},{"$f":"IF(D61=\"\",\"\",INDEX('WINBUGS data'!$F$13:$T$26,'Inconsistency Data'!O61,2))","v":""},{"$f":"INDEX('WINBUGS data'!$F$13:$FS$61,(O61*1),MATCH(Q61,'WINBUGS data'!$F$12:$AM$12,0))","v":{"$error":"#VALUE!"}},{"$f":"IF(D61=\"\",\"\",INDEX('WINBUGS Data Inconsistency'!$B$4:$C$18,'Inconsistency Data'!S61,1))","v":""},"",""]
[null,null,null,null,null,null,null,"",null,null,null,null,"",null,"",{"$error":"#VALUE!"},{"$error":"#VALUE!"},{"$f":"IF(D62=\"\",\"\",INDEX('WINBUGS data'!$F$13:$T$26,'Inconsistency Data'!O62,2))","v":""},{"$f":"INDEX('WINBUGS data'!$F$13:$FS$61,(O62*1),MATCH(Q62,'WINBUGS data'!$F$12:$AM$12,0))","v":{"$error":"#VALUE!"}},{"$f":"IF(D62=\"\",\"\",INDEX('WINBUGS Data Inconsistency'!$B$4:$C$18,'Inconsistency Data'!S62,1))","v":""},"",""]
[null,null,null,null,null,null,null,"",null,null,null,null,"",null,"",{"$error":"#VALUE!"},{"$error":"#VALUE!"},{"$f":"IF(D63=\"\",\"\",INDEX('WINBUGS data'!$F$13:$T$26,'Inconsistency Data'!O63,2))","v":""},{"$f":"INDEX('WINBUGS data'!$F$13:$FS$61,(O63*1),MATCH(Q63,'WINBUGS data'!$F$12:$AM$12,0))","v":{"$error":"#VALUE!"}},{"$f":"IF(D63=\"\",\"\",INDEX('WINBUGS Data Inconsistency'!$B$4:$C$18,'Inconsistency Data'!S63,1))","v":""},"",""]
[null,null,null,null,null,null,null,"",null,null,null,null,"",null,"",{"$error":"#VALUE!"},{"$error":"#VALUE!"},{"$f":"IF(D64=\"\",\"\",INDEX('WINBUGS data'!$F$13:$T$26,'Inconsistency Data'!O64,2))","v":""},{"$f":"INDEX('WINBUGS data'!$F$13:$FS$61,(O64*1),MATCH(Q64,'WINBUGS data'!$F$12:$AM$12,0))","v":{"$error":"#VALUE!"}},{"$f":"IF(D64=\"\",\"\",INDEX('WINBUGS Data Inconsistency'!$B$4:$C$18,'Inconsistency Data'!S64,1))","v":""},"",""]
[null,null,null,null,null,null,null,"",null,null,null,null,"",null,"",{"$error":"#VALUE!"},{"$error":"#VALUE!"},{"$f":"IF(D65=\"\",\"\",INDEX('WINBUGS data'!$F$13:$T$26,'Inconsistency Data'!O65,2))","v":""},{"$f":"INDEX('WINBUGS data'!$F$13:$FS$61,(O65*1),MATCH(Q65,'WINBUGS data'!$F$12:$AM$12,0))","v":{"$error":"#VALUE!"}},{"$f":"IF(D65=\"\",\"\",INDEX('WINBUGS Data Inconsistency'!$B$4:$C$18,'Inconsistency Data'!S65,1))","v":""},"",""]
[null,null,null,null,null,null,null,"",null,null,null,null,"",null,"",{"$error":"#VALUE!"},{"$error":"#VALUE!"},{"$f":"IF(D66=\"\",\"\",INDEX('WINBUGS data'!$F$13:$T$26,'Inconsistency Data'!O66,2))","v":""},{"$f":"INDEX('WINBUGS data'!$F$13:$FS$61,(O66*1),MATCH(Q66,'WINBUGS data'!$F$12:$AM$12,0))","v":{"$error":"#VALUE!"}},{"$f":"IF(D66=\"\",\"\",INDEX('WINBUGS Data Inconsistency'!$B$4:$C$18,'Inconsistency Data'!S66,1))","v":""},"",""]
[null,null,null,null,null,null,null,"",null,null,null,null,"",null,"",{"$error":"#VALUE!"},{"$error":"#VALUE!"},{"$f":"IF(D67=\"\",\"\",INDEX('WINBUGS data'!$F$13:$T$26,'Inconsistency Data'!O67,2))","v":""},{"$f":"INDEX('WINBUGS data'!$F$13:$FS$61,(O67*1),MATCH(Q67,'WINBUGS data'!$F$12:$AM$12,0))","v":{"$error":"#VALUE!"}},{"$f":"IF(D67=\"\",\"\",INDEX('WINBUGS Data Inconsistency'!$B$4:$C$18,'Inconsistency Data'!S67,1))","v":""},"",""]
[null,null,null,null,null,null,null,"",null,null,null,null,"",null,"",{"$error":"#VALUE!"},{"$error":"#VALUE!"},{"$f":"IF(D68=\"\",\"\",INDEX('WINBUGS data'!$F$13:$T$26,'Inconsistency Data'!O68,2))","v":""},{"$f":"INDEX('WINBUGS data'!$F$13:$FS$61,(O68*1),MATCH(Q68,'WINBUGS data'!$F$12:$AM$12,0))","v":{"$error":"#VALUE!"}},{"$f":"IF(D68=\"\",\"\",INDEX('WINBUGS Data Inconsistency'!$B$4:$C$18,'Inconsistency Data'!S68,1))","v":""},"",""]
[null,null,null,null,null,null,null,"",null,null,null,null,"",null,"",{"$error":"#VALUE!"},{"$error":"#VALUE!"},{"$f":"IF(D69=\"\",\"\",INDEX('WINBUGS data'!$F$13:$T$26,'Inconsistency Data'!O69,2))","v":""},{"$f":"INDEX('WINBUGS data'!$F$13:$FS$61,(O69*1),MATCH(Q69,'WINBUGS data'!$F$12:$AM$12,0))","v":{"$error":"#VALUE!"}},{"$f":"IF(D69=\"\",\"\",INDEX('WINBUGS Data Inconsistency'!$B$4:$C$18,'Inconsistency Data'!S69,1))","v":""},"",""]
[null,null,null,null,null,null,null,"",null,null,null,null,"",null,{"$f":"IF(D70=\"\",\"\",MID(D70,FIND(\"[\",D70)+1,FIND(\",\",D70)-FIND(\"[\",D70)-1))","v":""},{"$f":"MID(D70,FIND(\",\",D70)+1,FIND(\"]\",D70)-FIND(\",\",D70)-1)","v":{"$error":"#VALUE!"}},{"$f":"CONCATENATE(\"t[,\",P70,\"]\")","v":{"$error":"#VALUE!"}},{"$f":"IF(D70=\"\",\"\",INDEX('WINBUGS data'!$F$13:$T$26,'Inconsistency Data'!O70,2))","v":""},{"$f":"INDEX('WINBUGS data'!$F$13:$FS$61,(O70*1),MATCH(Q70,'WINBUGS data'!$F$12:$AM$12,0))","v":{"$error":"#VALUE!"}},{"$f":"IF(D70=\"\",\"\",INDEX('WINBUGS Data Inconsistency'!$B$4:$C$18,'Inconsistency Data'!S70,1))","v":""},{"$f":"IF(D70=\"\",\"\",R70& \", \"&T70)","v":""},""]
[null,null,null,null,null,null,null,{"$f":"IF(D71=\"\",\"\",G71-E71)","v":""},null,null,null,null,{"$f":"IF(I71=\"\",\"\",L71-J71)","v":""},null,"",{"$error":"#VALUE!"},{"$error":"#VALUE!"},{"$f":"IF(D71=\"\",\"\",INDEX('WINBUGS data'!$F$13:$T$26,'Inconsistency Data'!O71,2))","v":""},{"$f":"INDEX('WINBUGS data'!$F$13:$FS$61,(O71*1),MATCH(Q71,'WINBUGS data'!$F$12:$AM$12,0))","v":{"$error":"#VALUE!"}},{"$f":"IF(D71=\"\",\"\",INDEX('WINBUGS Data Inconsistency'!$B$4:$C$18,'Inconsistency Data'!S71,1))","v":""},"",{"$f":"CHOOSE($V$5,R71,T71,U71)","v":""}]
[null,null,null,null,null,null,null,"",null,null,null,null,"",null,"",{"$error":"#VALUE!"},{"$error":"#VALUE!"},{"$f":"IF(D72=\"\",\"\",INDEX('WINBUGS data'!$F$13:$T$26,'Inconsistency Data'!O72,2))","v":""},{"$f":"INDEX('WINBUGS data'!$F$13:$FS$61,(O72*1),MATCH(Q72,'WINBUGS data'!$F$12:$AM$12,0))","v":{"$error":"#VALUE!"}},{"$f":"IF(D72=\"\",\"\",INDEX('WINBUGS Data Inconsistency'!$B$4:$C$18,'Inconsistency Data'!S72,1))","v":""},"",""]
[null,null,null,null,null,null,null,"",null,null,null,null,"",null,"",{"$error":"#VALUE!"},{"$error":"#VALUE!"},{"$f":"IF(D73=\"\",\"\",INDEX('WINBUGS data'!$F$13:$T$26,'Inconsistency Data'!O73,2))","v":""},{"$f":"INDEX('WINBUGS data'!$F$13:$FS$61,(O73*1),MATCH(Q73,'WINBUGS data'!$F$12:$AM$12,0))","v":{"$error":"#VALUE!"}},{"$f":"IF(D73=\"\",\"\",INDEX('WINBUGS Data Inconsistency'!$B$4:$C$18,'Inconsistency Data'!S73,1))","v":""},"",""]
[null,null,null,null,null,null,null,"",null,null,null,null,"",null,"",{"$error":"#VALUE!"},{"$error":"#VALUE!"},{"$f":"IF(D74=\"\",\"\",INDEX('WINBUGS data'!$F$13:$T$26,'Inconsistency Data'!O74,2))","v":""},{"$f":"INDEX('WINBUGS data'!$F$13:$FS$61,(O74*1),MATCH(Q74,'WINBUGS data'!$F$12:$AM$12,0))","v":{"$error":"#VALUE!"}},{"$f":"IF(D74=\"\",\"\",INDEX('WINBUGS Data Inconsistency'!$B$4:$C$18,'Inconsistency Data'!S74,1))","v":""},"",""]
[null,null,null,null,null,null,null,"",null,null,null,null,"",null,"",{"$error":"#VALUE!"},{"$error":"#VALUE!"},{"$f":"IF(D75=\"\",\"\",INDEX('WINBUGS data'!$F$13:$T$26,'Inconsistency Data'!O75,2))","v":""},{"$f":"INDEX('WINBUGS data'!$F$13:$FS$61,(O75*1),MATCH(Q75,'WINBUGS data'!$F$12:$AM$12,0))","v":{"$error":"#VALUE!"}},{"$f":"IF(D75=\"\",\"\",INDEX('WINBUGS Data Inconsistency'!$B$4:$C$18,'Inconsistency Data'!S75,1))","v":""},"",""]
[null,null,null,null,null,null,null,"",null,null,null,null,"",null,"",{"$error":"#VALUE!"},{"$error":"#VALUE!"},{"$f":"IF(D76=\"\",\"\",INDEX('WINBUGS data'!$F$13:$T$26,'Inconsistency Data'!O76,2))","v":""},{"$f":"INDEX('WINBUGS data'!$F$13:$FS$61,(O76*1),MATCH(Q76,'WINBUGS data'!$F$12:$AM$12,0))","v":{"$error":"#VALUE!"}},{"$f":"IF(D76=\"\",\"\",INDEX('WINBUGS Data Inconsistency'!$B$4:$C$18,'Inconsistency Data'!S76,1))","v":""},"",""]
[null,null,null,null,null,null,null,"",null,null,null,null,"",null,"",{"$error":"#VALUE!"},{"$error":"#VALUE!"},{"$f":"IF(D77=\"\",\"\",INDEX('WINBUGS data'!$F$13:$T$26,'Inconsistency Data'!O77,2))","v":""},{"$f":"INDEX('WINBUGS data'!$F$13:$FS$61,(O77*1),MATCH(Q77,'WINBUGS data'!$F$12:$AM$12,0))","v":{"$error":"#VALUE!"}},{"$f":"IF(D77=\"\",\"\",INDEX('WINBUGS Data Inconsistency'!$B$4:$C$18,'Inconsistency Data'!S77,1))","v":""},"",""]
[null,null,null,null,null,null,null,"",null,null,null,null,"",null,"",{"$error":"#VALUE!"},{"$error":"#VALUE!"},{"$f":"IF(D78=\"\",\"\",INDEX('WINBUGS data'!$F$13:$T$26,'Inconsistency Data'!O78,2))","v":""},{"$f":"INDEX('WINBUGS data'!$F$13:$FS$61,(O78*1),MATCH(Q78,'WINBUGS data'!$F$12:$AM$12,0))","v":{"$error":"#VALUE!"}},{"$f":"IF(D78=\"\",\"\",INDEX('WINBUGS Data Inconsistency'!$B$4:$C$18,'Inconsistency Data'!S78,1))","v":""},"",""]
[null,null,null,null,null,null,null,"",null,null,null,null,"",null,"",{"$error":"#VALUE!"},{"$error":"#VALUE!"},{"$f":"IF(D79=\"\",\"\",INDEX('WINBUGS data'!$F$13:$T$26,'Inconsistency Data'!O79,2))","v":""},{"$f":"INDEX('WINBUGS data'!$F$13:$FS$61,(O79*1),MATCH(Q79,'WINBUGS data'!$F$12:$AM$12,0))","v":{"$error":"#VALUE!"}},{"$f":"IF(D79=\"\",\"\",INDEX('WINBUGS Data Inconsistency'!$B$4:$C$18,'Inconsistency Data'!S79,1))","v":""},"",""]
[null,null,null,null,null,null,null,"",null,null,null,null,"",null,"",{"$error":"#VALUE!"},{"$error":"#VALUE!"},{"$f":"IF(D80=\"\",\"\",INDEX('WINBUGS data'!$F$13:$T$26,'Inconsistency Data'!O80,2))","v":""},{"$f":"INDEX('WINBUGS data'!$F$13:$FS$61,(O80*1),MATCH(Q80,'WINBUGS data'!$F$12:$AM$12,0))","v":{"$error":"#VALUE!"}},{"$f":"IF(D80=\"\",\"\",INDEX('WINBUGS Data Inconsistency'!$B$4:$C$18,'Inconsistency Data'!S80,1))","v":""},"",""]
[null,null,null,null,null,null,null,"",null,null,null,null,"",null,"",{"$error":"#VALUE!"},{"$error":"#VALUE!"},{"$f":"IF(D81=\"\",\"\",INDEX('WINBUGS data'!$F$13:$T$26,'Inconsistency Data'!O81,2))","v":""},{"$f":"INDEX('WINBUGS data'!$F$13:$FS$61,(O81*1),MATCH(Q81,'WINBUGS data'!$F$12:$AM$12,0))","v":{"$error":"#VALUE!"}},{"$f":"IF(D81=\"\",\"\",INDEX('WINBUGS Data Inconsistency'!$B$4:$C$18,'Inconsistency Data'!S81,1))","v":""},"",""]
[null,null,null,null,null,null,null,"",null,null,null,null,"",null,"",{"$error":"#VALUE!"},{"$error":"#VALUE!"},{"$f":"IF(D82=\"\",\"\",INDEX('WINBUGS data'!$F$13:$T$26,'Inconsistency Data'!O82,2))","v":""},{"$f":"INDEX('WINBUGS data'!$F$13:$FS$61,(O82*1),MATCH(Q82,'WINBUGS data'!$F$12:$AM$12,0))","v":{"$error":"#VALUE!"}},{"$f":"IF(D82=\"\",\"\",INDEX('WINBUGS Data Inconsistency'!$B$4:$C$18,'Inconsistency Data'!S82,1))","v":""},"",""]
[null,null,null,null,null,null,null,"",null,null,null,null,"",null,"",{"$error":"#VALUE!"},{"$error":"#VALUE!"},{"$f":"IF(D83=\"\",\"\",INDEX('WINBUGS data'!$F$13:$T$26,'Inconsistency Data'!O83,2))","v":""},{"$f":"INDEX('WINBUGS data'!$F$13:$FS$61,(O83*1),MATCH(Q83,'WINBUGS data'!$F$12:$AM$12,0))","v":{"$error":"#VALUE!"}},{"$f":"IF(D83=\"\",\"\",INDEX('WINBUGS Data Inconsistency'!$B$4:$C$18,'Inconsistency Data'!S83,1))","v":""},"",""]
[null,null,null,null,null,null,null,"",null,null,null,null,"",null,"",{"$error":"#VALUE!"},{"$error":"#VALUE!"},{"$f":"IF(D84=\"\",\"\",INDEX('WINBUGS data'!$F$13:$T$26,'Inconsistency Data'!O84,2))","v":""},{"$f":"INDEX('WINBUGS data'!$F$13:$FS$61,(O84*1),MATCH(Q84,'WINBUGS data'!$F$12:$AM$12,0))","v":{"$error":"#VALUE!"}},{"$f":"IF(D84=\"\",\"\",INDEX('WINBUGS Data Inconsistency'!$B$4:$C$18,'Inconsistency Data'!S84,1))","v":""},"",""]
[null,null,null,null,null,null,null,"",null,null,null,null,"",null,"",{"$error":"#VALUE!"},{"$error":"#VALUE!"},{"$f":"IF(D85=\"\",\"\",INDEX('WINBUGS data'!$F$13:$T$26,'Inconsistency Data'!O85,2))","v":""},{"$f":"INDEX('WINBUGS data'!$F$13:$FS$61,(O85*1),MATCH(Q85,'WINBUGS data'!$F$12:$AM$12,0))","v":{"$error":"#VALUE!"}},{"$f":"IF(D85=\"\",\"\",INDEX('WINBUGS Data Inconsistency'!$B$4:$C$18,'Inconsistency Data'!S85,1))","v":""},"",""]
[null,null,null,null,null,null,null,"",null,null,null,null,"",null,"",{"$error":"#VALUE!"},{"$error":"#VALUE!"},{"$f":"IF(D86=\"\",\"\",INDEX('WINBUGS data'!$F$13:$T$26,'Inconsistency Data'!O86,2))","v":""},{"$f":"INDEX('WINBUGS data'!$F$13:$FS$61,(O86*1),MATCH(Q86,'WINBUGS data'!$F$12:$AM$12,0))","v":{"$error":"#VALUE!"}},{"$f":"IF(D86=\"\",\"\",INDEX('WINBUGS Data Inconsistency'!$B$4:$C$18,'Inconsistency Data'!S86,1))","v":""},"",""]
[null,null,null,null,null,null,null,"",null,null,null,null,"",null,"",{"$error":"#VALUE!"},{"$error":"#VALUE!"},{"$f":"IF(D87=\"\",\"\",INDEX('WINBUGS data'!$F$13:$T$26,'Inconsistency Data'!O87,2))","v":""},{"$f":"INDEX('WINBUGS data'!$F$13:$FS$61,(O87*1),MATCH(Q87,'WINBUGS data'!$F$12:$AM$12,0))","v":{"$error":"#VALUE!"}},{"$f":"IF(D87=\"\",\"\",INDEX('WINBUGS Data Inconsistency'!$B$4:$C$18,'Inconsistency Data'!S87,1))","v":""},"",""]
[null,null,null,null,null,null,null,"",null,null,null,null,"",null,"",{"$error":"#VALUE!"},{"$error":"#VALUE!"},{"$f":"IF(D88=\"\",\"\",INDEX('WINBUGS data'!$F$13:$T$26,'Inconsistency Data'!O88,2))","v":""},{"$f":"INDEX('WINBUGS data'!$F$13:$FS$61,(O88*1),MATCH(Q88,'WINBUGS data'!$F$12:$AM$12,0))","v":{"$error":"#VALUE!"}},{"$f":"IF(D88=\"\",\"\",INDEX('WINBUGS Data Inconsistency'!$B$4:$C$18,'Inconsistency Data'!S88,1))","v":""},"",""]
[null,null,null,null,null,null,null,"",null,null,null,null,"",null,"",{"$error":"#VALUE!"},{"$error":"#VALUE!"},{"$f":"IF(D89=\"\",\"\",INDEX('WINBUGS data'!$F$13:$T$26,'Inconsistency Data'!O89,2))","v":""},{"$f":"INDEX('WINBUGS data'!$F$13:$FS$61,(O89*1),MATCH(Q89,'WINBUGS data'!$F$12:$AM$12,0))","v":{"$error":"#VALUE!"}},{"$f":"IF(D89=\"\",\"\",INDEX('WINBUGS Data Inconsistency'!$B$4:$C$18,'Inconsistency Data'!S89,1))","v":""},"",""]
[null,null,null,null,null,null,null,"",null,null,null,null,"",null,"",{"$error":"#VALUE!"},{"$error":"#VALUE!"},{"$f":"IF(D90=\"\",\"\",INDEX('WINBUGS data'!$F$13:$T$26,'Inconsistency Data'!O90,2))","v":""},{"$f":"INDEX('WINBUGS data'!$F$13:$FS$61,(O90*1),MATCH(Q90,'WINBUGS data'!$F$12:$AM$12,0))","v":{"$error":"#VALUE!"}},{"$f":"IF(D90=\"\",\"\",INDEX('WINBUGS Data Inconsistency'!$B$4:$C$18,'Inconsistency Data'!S90,1))","v":""},"",""]
[null,null,null,null,null,null,null,"",null,null,null,null,"",null,"",{"$error":"#VALUE!"},{"$error":"#VALUE!"},{"$f":"IF(D91=\"\",\"\",INDEX('WINBUGS data'!$F$13:$T$26,'Inconsistency Data'!O91,2))","v":""},{"$f":"INDEX('WINBUGS data'!$F$13:$FS$61,(O91*1),MATCH(Q91,'WINBUGS data'!$F$12:$AM$12,0))","v":{"$error":"#VALUE!"}},{"$f":"IF(D91=\"\",\"\",INDEX('WINBUGS Data Inconsistency'!$B$4:$C$18,'Inconsistency Data'!S91,1))","v":""},"",""]
[null,null,null,null,null,null,null,"",null,null,null,null,"",null,"",{"$error":"#VALUE!"},{"$error":"#VALUE!"},{"$f":"IF(D92=\"\",\"\",INDEX('WINBUGS data'!$F$13:$T$26,'Inconsistency Data'!O92,2))","v":""},{"$f":"INDEX('WINBUGS data'!$F$13:$FS$61,(O92*1),MATCH(Q92,'WINBUGS data'!$F$12:$AM$12,0))","v":{"$error":"#VALUE!"}},{"$f":"IF(D92=\"\",\"\",INDEX('WINBUGS Data Inconsistency'!$B$4:$C$18,'Inconsistency Data'!S92,1))","v":""},"",""]
[null,null,null,null,null,null,null,"",null,null,null,null,"",null,"",{"$error":"#VALUE!"},{"$error":"#VALUE!"},{"$f":"IF(D93=\"\",\"\",INDEX('WINBUGS data'!$F$13:$T$26,'Inconsistency Data'!O93,2))","v":""},{"$f":"INDEX('WINBUGS data'!$F$13:$FS$61,(O93*1),MATCH(Q93,'WINBUGS data'!$F$12:$AM$12,0))","v":{"$error":"#VALUE!"}},{"$f":"IF(D93=\"\",\"\",INDEX('WINBUGS Data Inconsistency'!$B$4:$C$18,'Inconsistency Data'!S93,1))","v":""},"",""]
[null,null,null,null,null,null,null,"",null,null,null,null,"",null,"",{"$error":"#VALUE!"},{"$error":"#VALUE!"},{"$f":"IF(D94=\"\",\"\",INDEX('WINBUGS data'!$F$13:$T$26,'Inconsistency Data'!O94,2))","v":""},{"$f":"INDEX('WINBUGS data'!$F$13:$FS$61,(O94*1),MATCH(Q94,'WINBUGS data'!$F$12:$AM$12,0))","v":{"$error":"#VALUE!"}},{"$f":"IF(D94=\"\",\"\",INDEX('WINBUGS Data Inconsistency'!$B$4:$C$18,'Inconsistency Data'!S94,1))","v":""},"",""]
[null,null,null,null,null,null,null,"",null,null,null,null,"",null,"",{"$error":"#VALUE!"},{"$error":"#VALUE!"},{"$f":"IF(D95=\"\",\"\",INDEX('WINBUGS data'!$F$13:$T$26,'Inconsistency Data'!O95,2))","v":""},{"$f":"INDEX('WINBUGS data'!$F$13:$FS$61,(O95*1),MATCH(Q95,'WINBUGS data'!$F$12:$AM$12,0))","v":{"$error":"#VALUE!"}},{"$f":"IF(D95=\"\",\"\",INDEX('WINBUGS Data Inconsistency'!$B$4:$C$18,'Inconsistency Data'!S95,1))","v":""},"",""]
[null,null,null,null,null,null,null,"",null,null,null,null,"",null,"",{"$error":"#VALUE!"},{"$error":"#VALUE!"},{"$f":"IF(D96=\"\",\"\",INDEX('WINBUGS data'!$F$13:$T$26,'Inconsistency Data'!O96,2))","v":""},{"$f":"INDEX('WINBUGS data'!$F$13:$FS$61,(O96*1),MATCH(Q96,'WINBUGS data'!$F$12:$AM$12,0))","v":{"$error":"#VALUE!"}},{"$f":"IF(D96=\"\",\"\",INDEX('WINBUGS Data Inconsistency'!$B$4:$C$18,'Inconsistency Data'!S96,1))","v":""},"",""]
[null,null,null,null,null,null,null,"",null,null,null,null,"",null,"",{"$error":"#VALUE!"},{"$error":"#VALUE!"},{"$f":"IF(D97=\"\",\"\",INDEX('WINBUGS data'!$F$13:$T$26,'Inconsistency Data'!O97,2))","v":""},{"$f":"INDEX('WINBUGS data'!$F$13:$FS$61,(O97*1),MATCH(Q97,'WINBUGS data'!$F$12:$AM$12,0))","v":{"$error":"#VALUE!"}},{"$f":"IF(D97=\"\",\"\",INDEX('WINBUGS Data Inconsistency'!$B$4:$C$18,'Inconsistency Data'!S97,1))","v":""},"",""]
[null,null,null,null,null,null,null,"",null,null,null,null,"",null,"",{"$error":"#VALUE!"},{"$error":"#VALUE!"},{"$f":"IF(D98=\"\",\"\",INDEX('WINBUGS data'!$F$13:$T$26,'Inconsistency Data'!O98,2))","v":""},{"$f":"INDEX('WINBUGS data'!$F$13:$FS$61,(O98*1),MATCH(Q98,'WINBUGS data'!$F$12:$AM$12,0))","v":{"$error":"#VALUE!"}},{"$f":"IF(D98=\"\",\"\",INDEX('WINBUGS Data Inconsistency'!$B$4:$C$18,'Inconsistency Data'!S98,1))","v":""},"",""]
[null,null,null,null,null,null,null,"",null,null,null,null,"",null,"",{"$error":"#VALUE!"},{"$error":"#VALUE!"},{"$f":"IF(D99=\"\",\"\",INDEX('WINBUGS data'!$F$13:$T$26,'Inconsistency Data'!O99,2))","v":""},{"$f":"INDEX('WINBUGS data'!$F$13:$FS$61,(O99*1),MATCH(Q99,'WINBUGS data'!$F$12:$AM$12,0))","v":{"$error":"#VALUE!"}},{"$f":"IF(D99=\"\",\"\",INDEX('WINBUGS Data Inconsistency'!$B$4:$C$18,'Inconsistency Data'!S99,1))","v":""},"",""]
[null,null,null,null,null,null,null,"",null,null,null,null,"",null,"",{"$error":"#VALUE!"},{"$error":"#VALUE!"},{"$f":"IF(D100=\"\",\"\",INDEX('WINBUGS data'!$F$13:$T$26,'Inconsistency Data'!O100,2))","v":""},{"$f":"INDEX('WINBUGS data'!$F$13:$FS$61,(O100*1),MATCH(Q100,'WINBUGS data'!$F$12:$AM$12,0))","v":{"$error":"#VALUE!"}},{"$f":"IF(D100=\"\",\"\",INDEX('WINBUGS Data Inconsistency'!$B$4:$C$18,'Inconsistency Data'!S100,1))","v":""},"",""]
[null,null,null,null,null,null,null,"",null,null,null,null,"",null,"",{"$error":"#VALUE!"},{"$error":"#VALUE!"},{"$f":"IF(D101=\"\",\"\",INDEX('WINBUGS data'!$F$13:$T$26,'Inconsistency Data'!O101,2))","v":""},{"$f":"INDEX('WINBUGS data'!$F$13:$FS$61,(O101*1),MATCH(Q101,'WINBUGS data'!$F$12:$AM$12,0))","v":{"$error":"#VALUE!"}},{"$f":"IF(D101=\"\",\"\",INDEX('WINBUGS Data Inconsistency'!$B$4:$C$18,'Inconsistency Data'!S101,1))","v":""},"",""]
[null,null,null,null,null,null,null,"",null,null,null,null,"",null,"",{"$error":"#VALUE!"},{"$error":"#VALUE!"},{"$f":"IF(D102=\"\",\"\",INDEX('WINBUGS data'!$F$13:$T$26,'Inconsistency Data'!O102,2))","v":""},{"$f":"INDEX('WINBUGS data'!$F$13:$FS$61,(O102*1),MATCH(Q102,'WINBUGS data'!$F$12:$AM$12,0))","v":{"$error":"#VALUE!"}},{"$f":"IF(D102=\"\",\"\",INDEX('WINBUGS Data Inconsistency'!$B$4:$C$18,'Inconsistency Data'!S102,1))","v":""},"",""]
[null,null,null,null,null,null,null,"",null,null,null,null,"",null,"",{"$error":"#VALUE!"},{"$error":"#VALUE!"},{"$f":"IF(D103=\"\",\"\",INDEX('WINBUGS data'!$F$13:$T$26,'Inconsistency Data'!O103,2))","v":""},{"$f":"INDEX('WINBUGS data'!$F$13:$FS$61,(O103*1),MATCH(Q103,'WINBUGS data'!$F$12:$AM$12,0))","v":{"$error":"#VALUE!"}},{"$f":"IF(D103=\"\",\"\",INDEX('WINBUGS Data Inconsistency'!$B$4:$C$18,'Inconsistency Data'!S103,1))","v":""},"",""]
[null,null,null,null,null,null,null,"",null,null,null,null,"",null,"",{"$error":"#VALUE!"},{"$error":"#VALUE!"},{"$f":"IF(D104=\"\",\"\",INDEX('WINBUGS data'!$F$13:$T$26,'Inconsistency Data'!O104,2))","v":""},{"$f":"INDEX('WINBUGS data'!$F$13:$FS$61,(O104*1),MATCH(Q104,'WINBUGS data'!$F$12:$AM$12,0))","v":{"$error":"#VALUE!"}},{"$f":"IF(D104=\"\",\"\",INDEX('WINBUGS Data Inconsistency'!$B$4:$C$18,'Inconsistency Data'!S104,1))","v":""},"",""]
[null,null,null,null,null,null,null,"",null,null,null,null,"",null,"",{"$error":"#VALUE!"},{"$error":"#VALUE!"},{"$f":"IF(D105=\"\",\"\",INDEX('WINBUGS data'!$F$13:$T$26,'Inconsistency Data'!O105,2))","v":""},{"$f":"INDEX('WINBUGS data'!$F$13:$FS$61,(O105*1),MATCH(Q105,'WINBUGS data'!$F$12:$AM$12,0))","v":{"$error":"#VALUE!"}},{"$f":"IF(D105=\"\",\"\",INDEX('WINBUGS Data Inconsistency'!$B$4:$C$18,'Inconsistency Data'!S105,1))","v":""},"",""]

{"sheet":"Inconsistency Results","index":9,"n_rows":150,"n_cols":12,"rows_kept":150,"cut":false,"hidden":true,"merged":[[2,4,2,6],[2,9,2,11]]}
[]
[]
[null,null,null,null,"Fixed Effects Odds Ratios",null,null,null,null,"Random Effects Odds Ratios"]
[null,null,null,null,"Treatment Comparisons","Consistency Model","InConsistency Model",null,null,"Treatment Comparisons","Consistency Model","InConsistency Model"]
[null,null,null,{"$f":"IF('Fixed Effects'!N5=\"\",\"\",'Fixed Effects'!N5)","v":"OR[1,2]"},{"$f":"IF('Fixed Effects'!O5=\"\",\"\",'Fixed Effects'!O5)","v":"Cardiac Resynchronisation versus Medical"},{"$f":"IF('Fixed Effects'!Q5=\"\",\"\",'Fixed Effects'!Q5)","v":0.65300000000000002},{"$f":"IF(D5=\"\",\"\",IF((INDEX('FE Inconsistency Results'!$H$1:$H$500,MATCH(SUBSTITUTE(D5,\"OR\",\"d\"),'FE Inconsistency Results'!$B$1:$B$500,0),1))-(INDEX('FE Inconsistency Results'!$F$1:$F$500,MATCH(SUBSTITUTE(D5,\"OR\",\"d\"),'FE Inconsistency Results'!$B$1:$B$500,0),1))>50,\"N/A\",EXP(INDEX('FE Inconsistency Results'!$G$1:$G$500,MATCH(SUBSTITUTE(D5,\"OR\",\"d\"),'FE Inconsistency Results'!$B$1:$B$500,0),1))))","v":{"$error":"#N/A"}},null,{"$f":"IF(INDIRECT(CONCATENATE(\"'\",'Inconsistency Data'!$I$4,\"'!N5\"))=\"\",\"\",INDIRECT(CONCATENATE(\"'\",'Inconsistency Data'!$I$4,\"'!N5\")))","v":"OR[1,2]"},{"$f":"IF(INDIRECT(CONCATENATE(\"'\",'Inconsistency Data'!$I$4,\"'!O5\"))=\"\",\"\",INDIRECT(CONCATENATE(\"'\",'Inconsistency Data'!$I$4,\"'!O5\")))","v":"Cardiac Resynchronisation versus Medical"},{"$f":"IF(INDIRECT(CONCATENATE(\"'\",'Inconsistency Data'!$I$4,\"'!Q5\"))=\"\",\"\",INDIRECT(CONCATENATE(\"'\",'Inconsistency Data'!$I$4,\"'!Q5\")))","v":0.6593},{"$f":"IF(D5=\"\",\"\",IF((INDEX('RE Inconsistency Results'!$H$1:$H$500,MATCH(SUBSTITUTE(D5,\"OR\",\"d\"),'RE Inconsistency Results'!$B$1:$B$500,0),1))-(INDEX('RE Inconsistency Results'!$F$1:$F$500,MATCH(SUBSTITUTE(D5,\"OR\",\"d\"),'RE Inconsistency Results'!$B$1:$B$500,0),1))>50,\"N/A\",EXP(INDEX('RE Inconsistency Results'!$G$1:$G$500,MATCH(SUBSTITUTE(D5,\"OR\",\"d\"),'RE Inconsistency Results'!$B$1:$B$500,0),1))))","v":{"$error":"#N/A"}}]
[null,null,null,{"$f":"IF('Fixed Effects'!N6=\"\",\"\",'Fixed Effects'!N6)","v":"OR[1,3]"},{"$f":"IF('Fixed Effects'!O6=\"\",\"\",'Fixed Effects'!O6)","v":"Implantable Defibrilator versus Medical"},{"$f":"IF('Fixed Effects'!Q6=\"\",\"\",'Fixed Effects'!Q6)","v":0.69020000000000004},{"$f":"IF(D6=\"\",\"\",IF((INDEX('FE Inconsistency Results'!$H$1:$H$500,MATCH(SUBSTITUTE(D6,\"OR\",\"d\"),'FE Inconsistency Results'!$B$1:$B$500,0),1))-(INDEX('FE Inconsistency Results'!$F$1:$F$500,MATCH(SUBSTITUTE(D6,\"OR\",\"d\"),'FE Inconsistency Results'!$B$1:$B$500,0),1))>50,\"N/A\",EXP(INDEX('FE Inconsistency Results'!$G$1:$G$500,MATCH(SUBSTITUTE(D6,\"OR\",\"d\"),'FE Inconsistency Results'!$B$1:$B$500,0),1))))","v":{"$error":"#N/A"}},null,{"$f":"IF(INDIRECT(CONCATENATE(\"'\",'Inconsistency Data'!$I$4,\"'!N6\"))=\"\",\"\",INDIRECT(CONCATENATE(\"'\",'Inconsistency Data'!$I$4,\"'!N6\")))","v":"OR[1,3]"},{"$f":"IF(INDIRECT(CONCATENATE(\"'\",'Inconsistency Data'!$I$4,\"'!O6\"))=\"\",\"\",INDIRECT(CONCATENATE(\"'\",'Inconsistency Data'!$I$4,\"'!O6\")))","v":"Implantable Defibrilator versus Medical"},{"$f":"IF(INDIRECT(CONCATENATE(\"'\",'Inconsistency Data'!$I$4,\"'!Q6\"))=\"\",\"\",INDIRECT(CONCATENATE(\"'\",'Inconsistency Data'!$I$4,\"'!Q6\")))","v":0.69299999999999995},{"$f":"IF(D6=\"\",\"\",IF((INDEX('RE Inconsistency Results'!$H$1:$H$500,MATCH(SUBSTITUTE(D6,\"OR\",\"d\"),'RE Inconsistency Results'!$B$1:$B$500,0),1))-(INDEX('RE Inconsistency Results'!$F$1:$F$500,MATCH(SUBSTITUTE(D6,\"OR\",\"d\"),'RE Inconsistency Results'!$B$1:$B$500,0),1))>50,\"N/A\",EXP(INDEX('RE Inconsistency Results'!$G$1:$G$500,MATCH(SUBSTITUTE(D6,\"OR\",\"d\"),'RE Inconsistency Results'!$B$1:$B$500,0),1))))","v":{"$error":"#N/A"}}]
[null,null,null,{"$f":"IF('Fixed Effects'!N7=\"\",\"\",'Fixed Effects'!N7)","v":"OR[1,4]"},{"$f":"IF('Fixed Effects'!O7=\"\",\"\",'Fixed Effects'!O7)","v":"Combined Resyn and Def. versus Medical"},{"$f":"IF('Fixed Effects'!Q7=\"\",\"\",'Fixed Effects'!Q7)","v":0.55330000000000001},{"$f":"IF(D7=\"\",\"\",IF((INDEX('FE Inconsistency Results'!$H$1:$H$500,MATCH(SUBSTITUTE(D7,\"OR\",\"d\"),'FE Inconsistency Results'!$B$1:$B$500,0),1))-(INDEX('FE Inconsistency Results'!$F$1:$F$500,MATCH(SUBSTITUTE(D7,\"OR\",\"d\"),'FE Inconsistency Results'!$B$1:$B$500,0),1))>50,\"N/A\",EXP(INDEX('FE Inconsistency Results'!$G$1:$G$500,MATCH(SUBSTITUTE(D7,\"OR\",\"d\"),'FE Inconsistency Results'!$B$1:$B$500,0),1))))","v":{"$error":"#N/A"}},null,{"$f":"IF(INDIRECT(CONCATENATE(\"'\",'Inconsistency Data'!$I$4,\"'!N7\"))=\"\",\"\",INDIRECT(CONCATENATE(\"'\",'Inconsistency Data'!$I$4,\"'!N7\")))","v":"OR[1,4]"},{"$f":"IF(INDIRECT(CONCATENATE(\"'\",'Inconsistency Data'!$I$4,\"'!O7\"))=\"\",\"\",INDIRECT(CONCATENATE(\"'\",'Inconsistency Data'!$I$4,\"'!O7\")))","v":"Combined Resyn and Def. versus Medical"},{"$f":"IF(INDIRECT(CONCATENATE(\"'\",'Inconsistency Data'!$I$4,\"'!Q7\"))=\"\",\"\",INDIRECT(CONCATENATE(\"'\",'Inconsistency Data'!$I$4,\"'!Q7\")))","v":0.55700000000000005},{"$f":"IF(D7=\"\",\"\",IF((INDEX('RE Inconsistency Results'!$H$1:$H$500,MATCH(SUBSTITUTE(D7,\"OR\",\"d\"),'RE Inconsistency Results'!$B$1:$B$500,0),1))-(INDEX('RE Inconsistency Results'!$F$1:$F$500,MATCH(SUBSTITUTE(D7,\"OR\",\"d\"),'RE Inconsistency Results'!$B$1:$B$500,0),1))>50,\"N/A\",EXP(INDEX('RE Inconsistency Results'!$G$1:$G$500,MATCH(SUBSTITUTE(D7,\"OR\",\"d\"),'RE Inconsistency Results'!$B$1:$B$500,0),1))))","v":{"$error":"#N/A"}}]
[null,null,null,{"$f":"IF('Fixed Effects'!N8=\"\",\"\",'Fixed Effects'!N8)","v":"OR[1,5]"},{"$f":"IF('Fixed Effects'!O8=\"\",\"\",'Fixed Effects'!O8)","v":"Amiodarone versus Medical"},{"$f":"IF('Fixed Effects'!Q8=\"\",\"\",'Fixed Effects'!Q8)","v":0.97250000000000003},{"$f":"IF(D8=\"\",\"\",IF((INDEX('FE Inconsistency Results'!$H$1:$H$500,MATCH(SUBSTITUTE(D8,\"OR\",\"d\"),'FE Inconsistency Results'!$B$1:$B$500,0),1))-(INDEX('FE Inconsistency Results'!$F$1:$F$500,MATCH(SUBSTITUTE(D8,\"OR\",\"d\"),'FE Inconsistency Results'!$B$1:$B$500,0),1))>50,\"N/A\",EXP(INDEX('FE Inconsistency Results'!$G$1:$G$500,MATCH(SUBSTITUTE(D8,\"OR\",\"d\"),'FE Inconsistency Results'!$B$1:$B$500,0),1))))","v":{"$error":"#N/A"}},null,{"$f":"IF(INDIRECT(CONCATENATE(\"'\",'Inconsistency Data'!$I$4,\"'!N8\"))=\"\",\"\",INDIRECT(CONCATENATE(\"'\",'Inconsistency Data'!$I$4,\"'!N8\")))","v":"OR[1,5]"},{"$f":"IF(INDIRECT(CONCATENATE(\"'\",'Inconsistency Data'!$I$4,\"'!O8\"))=\"\",\"\",INDIRECT(CONCATENATE(\"'\",'Inconsistency Data'!$I$4,\"'!O8\")))","v":"Amiodarone versus Medical"},{"$f":"IF(INDIRECT(CONCATENATE(\"'\",'Inconsistency Data'!$I$4,\"'!Q8\"))=\"\",\"\",INDIRECT(CONCATENATE(\"'\",'Inconsistency Data'!$I$4,\"'!Q8\")))","v":0.97050000000000003},{"$f":"IF(D8=\"\",\"\",IF((INDEX('RE Inconsistency Results'!$H$1:$H$500,MATCH(SUBSTITUTE(D8,\"OR\",\"d\"),'RE Inconsistency Results'!$B$1:$B$500,0),1))-(INDEX('RE Inconsistency Results'!$F$1:$F$500,MATCH(SUBSTITUTE(D8,\"OR\",\"d\"),'RE Inconsistency Results'!$B$1:$B$500,0),1))>50,\"N/A\",EXP(INDEX('RE Inconsistency Results'!$G$1:$G$500,MATCH(SUBSTITUTE(D8,\"OR\",\"d\"),'RE Inconsistency Results'!$B$1:$B$500,0),1))))","v":{"$error":"#N/A"}}]
[null,null,null,{"$f":"IF('Fixed Effects'!N9=\"\",\"\",'Fixed Effects'!N9)","v":"OR[2,3]"},{"$f":"IF('Fixed Effects'!O9=\"\",\"\",'Fixed Effects'!O9)","v":"Implantable Defibrilator versus Cardiac Resynchronisation"},{"$f":"IF('Fixed Effects'!Q9=\"\",\"\",'Fixed Effects'!Q9)","v":1.0580000000000001},{"$f":"IF(D9=\"\",\"\",IF((INDEX('FE Inconsistency Results'!$H$1:$H$500,MATCH(SUBSTITUTE(D9,\"OR\",\"d\"),'FE Inconsistency Results'!$B$1:$B$500,0),1))-(INDEX('FE Inconsistency Results'!$F$1:$F$500,MATCH(SUBSTITUTE(D9,\"OR\",\"d\"),'FE Inconsistency Results'!$B$1:$B$500,0),1))>50,\"N/A\",EXP(INDEX('FE Inconsistency Results'!$G$1:$G$500,MATCH(SUBSTITUTE(D9,\"OR\",\"d\"),'FE Inconsistency Results'!$B$1:$B$500,0),1))))","v":{"$error":"#N/A"}},null,{"$f":"IF(INDIRECT(CONCATENATE(\"'\",'Inconsistency Data'!$I$4,\"'!N9\"))=\"\",\"\",INDIRECT(CONCATENATE(\"'\",'Inconsistency Data'!$I$4,\"'!N9\")))","v":"OR[2,3]"},{"$f":"IF(INDIRECT(CONCATENATE(\"'\",'Inconsistency Data'!$I$4,\"'!O9\"))=\"\",\"\",INDIRECT(CONCATENATE(\"'\",'Inconsistency Data'!$I$4,\"'!O9\")))","v":"Implantable Defibrilator versus Cardiac Resynchronisation"},{"$f":"IF(INDIRECT(CONCATENATE(\"'\",'Inconsistency Data'!$I$4,\"'!Q9\"))=\"\",\"\",INDIRECT(CONCATENATE(\"'\",'Inconsistency Data'!$I$4,\"'!Q9\")))","v":1.052},{"$f":"IF(D9=\"\",\"\",IF((INDEX('RE Inconsistency Results'!$H$1:$H$500,MATCH(SUBSTITUTE(D9,\"OR\",\"d\"),'RE Inconsistency Results'!$B$1:$B$500,0),1))-(INDEX('RE Inconsistency Results'!$F$1:$F$500,MATCH(SUBSTITUTE(D9,\"OR\",\"d\"),'RE Inconsistency Results'!$B$1:$B$500,0),1))>50,\"N/A\",EXP(INDEX('RE Inconsistency Results'!$G$1:$G$500,MATCH(SUBSTITUTE(D9,\"OR\",\"d\"),'RE Inconsistency Results'!$B$1:$B$500,0),1))))","v":{"$error":"#N/A"}}]
[null,null,null,{"$f":"IF('Fixed Effects'!N10=\"\",\"\",'Fixed Effects'!N10)","v":"OR[2,4]"},{"$f":"IF('Fixed Effects'!O10=\"\",\"\",'Fixed Effects'!O10)","v":"Combined Resyn and Def. versus Cardiac Resynchronisation"},{"$f":"IF('Fixed Effects'!Q10=\"\",\"\",'Fixed Effects'!Q10)","v":0.84750000000000003},{"$f":"IF(D10=\"\",\"\",IF((INDEX('FE Inconsistency Results'!$H$1:$H$500,MATCH(SUBSTITUTE(D10,\"OR\",\"d\"),'FE Inconsistency Results'!$B$1:$B$500,0),1))-(INDEX('FE Inconsistency Results'!$F$1:$F$500,MATCH(SUBSTITUTE(D10,\"OR\",\"d\"),'FE Inconsistency Results'!$B$1:$B$500,0),1))>50,\"N/A\",EXP(INDEX('FE Inconsistency Results'!$G$1:$G$500,MATCH(SUBSTITUTE(D10,\"OR\",\"d\"),'FE Inconsistency Results'!$B$1:$B$500,0),1))))","v":{"$error":"#N/A"}},null,{"$f":"IF(INDIRECT(CONCATENATE(\"'\",'Inconsistency Data'!$I$4,\"'!N10\"))=\"\",\"\",INDIRECT(CONCATENATE(\"'\",'Inconsistency Data'!$I$4,\"'!N10\")))","v":"OR[2,4]"},{"$f":"IF(INDIRECT(CONCATENATE(\"'\",'Inconsistency Data'!$I$4,\"'!O10\"))=\"\",\"\",INDIRECT(CONCATENATE(\"'\",'Inconsistency Data'!$I$4,\"'!O10\")))","v":"Combined Resyn and Def. versus Cardiac Resynchronisation"},{"$f":"IF(INDIRECT(CONCATENATE(\"'\",'Inconsistency Data'!$I$4,\"'!Q10\"))=\"\",\"\",INDIRECT(CONCATENATE(\"'\",'Inconsistency Data'!$I$4,\"'!Q10\")))","v":0.84219999999999995},{"$f":"IF(D10=\"\",\"\",IF((INDEX('RE Inconsistency Results'!$H$1:$H$500,MATCH(SUBSTITUTE(D10,\"OR\",\"d\"),'RE Inconsistency Results'!$B$1:$B$500,0),1))-(INDEX('RE Inconsistency Results'!$F$1:$F$500,MATCH(SUBSTITUTE(D10,\"OR\",\"d\"),'RE Inconsistency Results'!$B$1:$B$500,0),1))>50,\"N/A\",EXP(INDEX('RE Inconsistency Results'!$G$1:$G$500,MATCH(SUBSTITUTE(D10,\"OR\",\"d\"),'RE Inconsistency Results'!$B$1:$B$500,0),1))))","v":{"$error":"#N/A"}}]
[null,null,null,{"$f":"IF('Fixed Effects'!N11=\"\",\"\",'Fixed Effects'!N11)","v":"OR[2,5]"},{"$f":"IF('Fixed Effects'!O11=\"\",\"\",'Fixed Effects'!O11)","v":"Amiodarone versus Cardiac Resynchronisation"},{"$f":"IF('Fixed Effects'!Q11=\"\",\"\",'Fixed Effects'!Q11)","v":1.4890000000000001},{"$f":"IF(D11=\"\",\"\",IF((INDEX('FE Inconsistency Results'!$H$1:$H$500,MATCH(SUBSTITUTE(D11,\"OR\",\"d\"),'FE Inconsistency Results'!$B$1:$B$500,0),1))-(INDEX('FE Inconsistency Results'!$F$1:$F$500,MATCH(SUBSTITUTE(D11,\"OR\",\"d\"),'FE Inconsistency Results'!$B$1:$B$500,0),1))>50,\"N/A\",EXP(INDEX('FE Inconsistency Results'!$G$1:$G$500,MATCH(SUBSTITUTE(D11,\"OR\",\"d\"),'FE Inconsistency Results'!$B$1:$B$500,0),1))))","v":{"$error":"#N/A"}},null,{"$f":"IF(INDIRECT(CONCATENATE(\"'\",'Inconsistency Data'!$I$4,\"'!N11\"))=\"\",\"\",INDIRECT(CONCATENATE(\"'\",'Inconsistency Data'!$I$4,\"'!N11\")))","v":"OR[2,5]"},{"$f":"IF(INDIRECT(CONCATENATE(\"'\",'Inconsistency Data'!$I$4,\"'!O11\"))=\"\",\"\",INDIRECT(CONCATENATE(\"'\",'Inconsistency Data'!$I$4,\"'!O11\")))","v":"Amiodarone versus Cardiac Resynchronisation"},{"$f":"IF(INDIRECT(CONCATENATE(\"'\",'Inconsistency Data'!$I$4,\"'!Q11\"))=\"\",\"\",INDIRECT(CONCATENATE(\"'\",'Inconsistency Data'!$I$4,\"'!Q11\")))","v":1.47},{"$f":"IF(D11=\"\",\"\",IF((INDEX('RE Inconsistency Results'!$H$1:$H$500,MATCH(SUBSTITUTE(D11,\"OR\",\"d\"),'RE Inconsistency Results'!$B$1:$B$500,0),1))-(INDEX('RE Inconsistency Results'!$F$1:$F$500,MATCH(SUBSTITUTE(D11,\"OR\",\"d\"),'RE Inconsistency Results'!$B$1:$B$500,0),1))>50,\"N/A\",EXP(INDEX('RE Inconsistency Results'!$G$1:$G$500,MATCH(SUBSTITUTE(D11,\"OR\",\"d\"),'RE Inconsistency Results'!$B$1:$B$500,0),1))))","v":{"$error":"#N/A"}}]
[null,null,null,{"$f":"IF('Fixed Effects'!N12=\"\",\"\",'Fixed Effects'!N12)","v":"OR[3,4]"},{"$f":"IF('Fixed Effects'!O12=\"\",\"\",'Fixed Effects'!O12)","v":"Combined Resyn and Def. versus Implantable Defibrilator"},{"$f":"IF('Fixed Effects'!Q12=\"\",\"\",'Fixed Effects'!Q12)","v":0.80130000000000001},{"$f":"IF(D12=\"\",\"\",IF((INDEX('FE Inconsistency Results'!$H$1:$H$500,MATCH(SUBSTITUTE(D12,\"OR\",\"d\"),'FE Inconsistency Results'!$B$1:$B$500,0),1))-(INDEX('FE Inconsistency Results'!$F$1:$F$500,MATCH(SUBSTITUTE(D12,\"OR\",\"d\"),'FE Inconsistency Results'!$B$1:$B$500,0),1))>50,\"N/A\",EXP(INDEX('FE Inconsistency Results'!$G$1:$G$500,MATCH(SUBSTITUTE(D12,\"OR\",\"d\"),'FE Inconsistency Results'!$B$1:$B$500,0),1))))","v":{"$error":"#N/A"}},null,{"$f":"IF(INDIRECT(CONCATENATE(\"'\",'Inconsistency Data'!$I$4,\"'!N12\"))=\"\",\"\",INDIRECT(CONCATENATE(\"'\",'Inconsistency Data'!$I$4,\"'!N12\")))","v":"OR[3,4]"},{"$f":"IF(INDIRECT(CONCATENATE(\"'\",'Inconsistency Data'!$I$4,\"'!O12\"))=\"\",\"\",INDIRECT(CONCATENATE(\"'\",'Inconsistency Data'!$I$4,\"'!O12\")))","v":"Combined Resyn and Def. versus Implantable Defibrilator"},{"$f":"IF(INDIRECT(CONCATENATE(\"'\",'Inconsistency Data'!$I$4,\"'!Q12\"))=\"\",\"\",INDIRECT(CONCATENATE(\"'\",'Inconsistency Data'!$I$4,\"'!Q12\")))","v":0.80330000000000001},{"$f":"IF(D12=\"\",\"\",IF((INDEX('RE Inconsistency Results'!$H$1:$H$500,MATCH(SUBSTITUTE(D12,\"OR\",\"d\"),'RE Inconsistency Results'!$B$1:$B$500,0),1))-(INDEX('RE Inconsistency Results'!$F$1:$F$500,MATCH(SUBSTITUTE(D12,\"OR\",\"d\"),'RE Inconsistency Results'!$B$1:$B$500,0),1))>50,\"N/A\",EXP(INDEX('RE Inconsistency Results'!$G$1:$G$500,MATCH(SUBSTITUTE(D12,\"OR\",\"d\"),'RE Inconsistency Results'!$B$1:$B$500,0),1))))","v":{"$error":"#N/A"}}]
[null,null,null,{"$f":"IF('Fixed Effects'!N13=\"\",\"\",'Fixed Effects'!N13)","v":"OR[3,5]"},{"$f":"IF('Fixed Effects'!O13=\"\",\"\",'Fixed Effects'!O13)","v":"Amiodarone versus Implantable Defibrilator"},{"$f":"IF('Fixed Effects'!Q13=\"\",\"\",'Fixed Effects'!Q13)","v":1.409},{"$f":"IF(D13=\"\",\"\",IF((INDEX('FE Inconsistency Results'!$H$1:$H$500,MATCH(SUBSTITUTE(D13,\"OR\",\"d\"),'FE Inconsistency Results'!$B$1:$B$500,0),1))-(INDEX('FE Inconsistency Results'!$F$1:$F$500,MATCH(SUBSTITUTE(D13,\"OR\",\"d\"),'FE Inconsistency Results'!$B$1:$B$500,0),1))>50,\"N/A\",EXP(INDEX('FE Inconsistency Results'!$G$1:$G$500,MATCH(SUBSTITUTE(D13,\"OR\",\"d\"),'FE Inconsistency Results'!$B$1:$B$500,0),1))))","v":{"$error":"#N/A"}},null,{"$f":"IF(INDIRECT(CONCATENATE(\"'\",'Inconsistency Data'!$I$4,\"'!N13\"))=\"\",\"\",INDIRECT(CONCATENATE(\"'\",'Inconsistency Data'!$I$4,\"'!N13\")))","v":"OR[3,5]"},{"$f":"IF(INDIRECT(CONCATENATE(\"'\",'Inconsistency Data'!$I$4,\"'!O13\"))=\"\",\"\",INDIRECT(CONCATENATE(\"'\",'Inconsistency Data'!$I$4,\"'!O13\")))","v":"Amiodarone versus Implantable Defibrilator"},{"$f":"IF(INDIRECT(CONCATENATE(\"'\",'Inconsistency Data'!$I$4,\"'!Q13\"))=\"\",\"\",INDIRECT(CONCATENATE(\"'\",'Inconsistency Data'!$I$4,\"'!Q13\")))","v":1.3979999999999999},{"$f":"IF(D13=\"\",\"\",IF((INDEX('RE Inconsistency Results'!$H$1:$H$500,MATCH(SUBSTITUTE(D13,\"OR\",\"d\"),'RE Inconsistency Results'!$B$1:$B$500,0),1))-(INDEX('RE Inconsistency Results'!$F$1:$F$500,MATCH(SUBSTITUTE(D13,\"OR\",\"d\"),'RE Inconsistency Results'!$B$1:$B$500,0),1))>50,\"N/A\",EXP(INDEX('RE Inconsistency Results'!$G$1:$G$500,MATCH(SUBSTITUTE(D13,\"OR\",\"d\"),'RE Inconsistency Results'!$B$1:$B$500,0),1))))","v":{"$error":"#N/A"}}]
[null,null,null,{"$f":"IF('Fixed Effects'!N14=\"\",\"\",'Fixed Effects'!N14)","v":"OR[4,5]"},{"$f":"IF('Fixed Effects'!O14=\"\",\"\",'Fixed Effects'!O14)","v":"Amiodarone versus Combined Resyn and Def."},{"$f":"IF('Fixed Effects'!Q14=\"\",\"\",'Fixed Effects'!Q14)","v":1.7589999999999999},{"$f":"IF(D14=\"\",\"\",IF((INDEX('FE Inconsistency Results'!$H$1:$H$500,MATCH(SUBSTITUTE(D14,\"OR\",\"d\"),'FE Inconsistency Results'!$B$1:$B$500,0),1))-(INDEX('FE Inconsistency Results'!$F$1:$F$500,MATCH(SUBSTITUTE(D14,\"OR\",\"d\"),'FE Inconsistency Results'!$B$1:$B$500,0),1))>50,\"N/A\",EXP(INDEX('FE Inconsistency Results'!$G$1:$G$500,MATCH(SUBSTITUTE(D14,\"OR\",\"d\"),'FE Inconsistency Results'!$B$1:$B$500,0),1))))","v":{"$error":"#N/A"}},null,{"$f":"IF(INDIRECT(CONCATENATE(\"'\",'Inconsistency Data'!$I$4,\"'!N14\"))=\"\",\"\",INDIRECT(CONCATENATE(\"'\",'Inconsistency Data'!$I$4,\"'!N14\")))","v":"OR[4,5]"},{"$f":"IF(INDIRECT(CONCATENATE(\"'\",'Inconsistency Data'!$I$4,\"'!O14\"))=\"\",\"\",INDIRECT(CONCATENATE(\"'\",'Inconsistency Data'!$I$4,\"'!O14\")))","v":"Amiodarone versus Combined Resyn and Def."},{"$f":"IF(INDIRECT(CONCATENATE(\"'\",'Inconsistency Data'!$I$4,\"'!Q14\"))=\"\",\"\",INDIRECT(CONCATENATE(\"'\",'Inconsistency Data'!$I$4,\"'!Q14\")))","v":1.742},{"$f":"IF(D14=\"\",\"\",IF((INDEX('RE Inconsistency Results'!$H$1:$H$500,MATCH(SUBSTITUTE(D14,\"OR\",\"d\"),'RE Inconsistency Results'!$B$1:$B$500,0),1))-(INDEX('RE Inconsistency Results'!$F$1:$F$500,MATCH(SUBSTITUTE(D14,\"OR\",\"d\"),'RE Inconsistency Results'!$B$1:$B$500,0),1))>50,\"N/A\",EXP(INDEX('RE Inconsistency Results'!$G$1:$G$500,MATCH(SUBSTITUTE(D14,\"OR\",\"d\"),'RE Inconsistency Results'!$B$1:$B$500,0),1))))","v":{"$error":"#N/A"}}]
[null,null,null,{"$f":"IF('Fixed Effects'!N15=\"\",\"\",'Fixed Effects'!N15)","v":""},{"$f":"IF('Fixed Effects'!O15=\"\",\"\",'Fixed Effects'!O15)","v":""},{"$f":"IF('Fixed Effects'!Q15=\"\",\"\",'Fixed Effects'!Q15)","v":""},{"$f":"IF(D15=\"\",\"\",IF((INDEX('FE Inconsistency Results'!$H$1:$H$500,MATCH(SUBSTITUTE(D15,\"OR\",\"d\"),'FE Inconsistency Results'!$B$1:$B$500,0),1))-(INDEX('FE Inconsistency Results'!$F$1:$F$500,MATCH(SUBSTITUTE(D15,\"OR\",\"d\"),'FE Inconsistency Results'!$B$1:$B$500,0),1))>50,\"N/A\",EXP(INDEX('FE Inconsistency Results'!$G$1:$G$500,MATCH(SUBSTITUTE(D15,\"OR\",\"d\"),'FE Inconsistency Results'!$B$1:$B$500,0),1))))","v":""},null,{"$f":"IF(INDIRECT(CONCATENATE(\"'\",'Inconsistency Data'!$I$4,\"'!N15\"))=\"\",\"\",INDIRECT(CONCATENATE(\"'\",'Inconsistency Data'!$I$4,\"'!N15\")))","v":""},{"$f":"IF(INDIRECT(CONCATENATE(\"'\",'Inconsistency Data'!$I$4,\"'!O15\"))=\"\",\"\",INDIRECT(CONCATENATE(\"'\",'Inconsistency Data'!$I$4,\"'!O15\")))","v":""},{"$f":"IF(INDIRECT(CONCATENATE(\"'\",'Inconsistency Data'!$I$4,\"'!Q15\"))=\"\",\"\",INDIRECT(CONCATENATE(\"'\",'Inconsistency Data'!$I$4,\"'!Q15\")))","v":""},{"$f":"IF(D15=\"\",\"\",IF((INDEX('RE Inconsistency Results'!$H$1:$H$500,MATCH(SUBSTITUTE(D15,\"OR\",\"d\"),'RE Inconsistency Results'!$B$1:$B$500,0),1))-(INDEX('RE Inconsistency Results'!$F$1:$F$500,MATCH(SUBSTITUTE(D15,\"OR\",\"d\"),'RE Inconsistency Results'!$B$1:$B$500,0),1))>50,\"N/A\",EXP(INDEX('RE Inconsistency Results'!$G$1:$G$500,MATCH(SUBSTITUTE(D15,\"OR\",\"d\"),'RE Inconsistency Results'!$B$1:$B$500,0),1))))","v":""}]
[null,null,null,{"$f":"IF('Fixed Effects'!N16=\"\",\"\",'Fixed Effects'!N16)","v":""},{"$f":"IF('Fixed Effects'!O16=\"\",\"\",'Fixed Effects'!O16)","v":""},{"$f":"IF('Fixed Effects'!Q16=\"\",\"\",'Fixed Effects'!Q16)","v":""},{"$f":"IF(D16=\"\",\"\",IF((INDEX('FE Inconsistency Results'!$H$1:$H$500,MATCH(SUBSTITUTE(D16,\"OR\",\"d\"),'FE Inconsistency Results'!$B$1:$B$500,0),1))-(INDEX('FE Inconsistency Results'!$F$1:$F$500,MATCH(SUBSTITUTE(D16,\"OR\",\"d\"),'FE Inconsistency Results'!$B$1:$B$500,0),1))>50,\"N/A\",EXP(INDEX('FE Inconsistency Results'!$G$1:$G$500,MATCH(SUBSTITUTE(D16,\"OR\",\"d\"),'FE Inconsistency Results'!$B$1:$B$500,0),1))))","v":""},null,{"$f":"IF(INDIRECT(CONCATENATE(\"'\",'Inconsistency Data'!$I$4,\"'!N16\"))=\"\",\"\",INDIRECT(CONCATENATE(\"'\",'Inconsistency Data'!$I$4,\"'!N16\")))","v":""},{"$f":"IF(INDIRECT(CONCATENATE(\"'\",'Inconsistency Data'!$I$4,\"'!O16\"))=\"\",\"\",INDIRECT(CONCATENATE(\"'\",'Inconsistency Data'!$I$4,\"'!O16\")))","v":""},{"$f":"IF(INDIRECT(CONCATENATE(\"'\",'Inconsistency Data'!$I$4,\"'!Q16\"))=\"\",\"\",INDIRECT(CONCATENATE(\"'\",'Inconsistency Data'!$I$4,\"'!Q16\")))","v":""},{"$f":"IF(D16=\"\",\"\",IF((INDEX('RE Inconsistency Results'!$H$1:$H$500,MATCH(SUBSTITUTE(D16,\"OR\",\"d\"),'RE Inconsistency Results'!$B$1:$B$500,0),1))-(INDEX('RE Inconsistency Results'!$F$1:$F$500,MATCH(SUBSTITUTE(D16,\"OR\",\"d\"),'RE Inconsistency Results'!$B$1:$B$500,0),1))>50,\"N/A\",EXP(INDEX('RE Inconsistency Results'!$G$1:$G$500,MATCH(SUBSTITUTE(D16,\"OR\",\"d\"),'RE Inconsistency Results'!$B$1:$B$500,0),1))))","v":""}]
[null,null,null,{"$f":"IF('Fixed Effects'!N17=\"\",\"\",'Fixed Effects'!N17)","v":""},{"$f":"IF('Fixed Effects'!O17=\"\",\"\",'Fixed Effects'!O17)","v":""},{"$f":"IF('Fixed Effects'!Q17=\"\",\"\",'Fixed Effects'!Q17)","v":""},{"$f":"IF(D17=\"\",\"\",IF((INDEX('FE Inconsistency Results'!$H$1:$H$500,MATCH(SUBSTITUTE(D17,\"OR\",\"d\"),'FE Inconsistency Results'!$B$1:$B$500,0),1))-(INDEX('FE Inconsistency Results'!$F$1:$F$500,MATCH(SUBSTITUTE(D17,\"OR\",\"d\"),'FE Inconsistency Results'!$B$1:$B$500,0),1))>50,\"N/A\",EXP(INDEX('FE Inconsistency Results'!$G$1:$G$500,MATCH(SUBSTITUTE(D17,\"OR\",\"d\"),'FE Inconsistency Results'!$B$1:$B$500,0),1))))","v":""},null,{"$f":"IF(INDIRECT(CONCATENATE(\"'\",'Inconsistency Data'!$I$4,\"'!N17\"))=\"\",\"\",INDIRECT(CONCATENATE(\"'\",'Inconsistency Data'!$I$4,\"'!N17\")))","v":""},{"$f":"IF(INDIRECT(CONCATENATE(\"'\",'Inconsistency Data'!$I$4,\"'!O17\"))=\"\",\"\",INDIRECT(CONCATENATE(\"'\",'Inconsistency Data'!$I$4,\"'!O17\")))","v":""},{"$f":"IF(INDIRECT(CONCATENATE(\"'\",'Inconsistency Data'!$I$4,\"'!Q17\"))=\"\",\"\",INDIRECT(CONCATENATE(\"'\",'Inconsistency Data'!$I$4,\"'!Q17\")))","v":""},{"$f":"IF(D17=\"\",\"\",IF((INDEX('RE Inconsistency Results'!$H$1:$H$500,MATCH(SUBSTITUTE(D17,\"OR\",\"d\"),'RE Inconsistency Results'!$B$1:$B$500,0),1))-(INDEX('RE Inconsistency Results'!$F$1:$F$500,MATCH(SUBSTITUTE(D17,\"OR\",\"d\"),'RE Inconsistency Results'!$B$1:$B$500,0),1))>50,\"N/A\",EXP(INDEX('RE Inconsistency Results'!$G$1:$G$500,MATCH(SUBSTITUTE(D17,\"OR\",\"d\"),'RE Inconsistency Results'!$B$1:$B$500,0),1))))","v":""}]
[null,null,null,{"$f":"IF('Fixed Effects'!N18=\"\",\"\",'Fixed Effects'!N18)","v":""},{"$f":"IF('Fixed Effects'!O18=\"\",\"\",'Fixed Effects'!O18)","v":""},{"$f":"IF('Fixed Effects'!Q18=\"\",\"\",'Fixed Effects'!Q18)","v":""},{"$f":"IF(D18=\"\",\"\",IF((INDEX('FE Inconsistency Results'!$H$1:$H$500,MATCH(SUBSTITUTE(D18,\"OR\",\"d\"),'FE Inconsistency Results'!$B$1:$B$500,0),1))-(INDEX('FE Inconsistency Results'!$F$1:$F$500,MATCH(SUBSTITUTE(D18,\"OR\",\"d\"),'FE Inconsistency Results'!$B$1:$B$500,0),1))>50,\"N/A\",EXP(INDEX('FE Inconsistency Results'!$G$1:$G$500,MATCH(SUBSTITUTE(D18,\"OR\",\"d\"),'FE Inconsistency Results'!$B$1:$B$500,0),1))))","v":""},null,{"$f":"IF(INDIRECT(CONCATENATE(\"'\",'Inconsistency Data'!$I$4,\"'!N18\"))=\"\",\"\",INDIRECT(CONCATENATE(\"'\",'Inconsistency Data'!$I$4,\"'!N18\")))","v":""},{"$f":"IF(INDIRECT(CONCATENATE(\"'\",'Inconsistency Data'!$I$4,\"'!O18\"))=\"\",\"\",INDIRECT(CONCATENATE(\"'\",'Inconsistency Data'!$I$4,\"'!O18\")))","v":""},{"$f":"IF(INDIRECT(CONCATENATE(\"'\",'Inconsistency Data'!$I$4,\"'!Q18\"))=\"\",\"\",INDIRECT(CONCATENATE(\"'\",'Inconsistency Data'!$I$4,\"'!Q18\")))","v":""},{"$f":"IF(D18=\"\",\"\",IF((INDEX('RE Inconsistency Results'!$H$1:$H$500,MATCH(SUBSTITUTE(D18,\"OR\",\"d\"),'RE Inconsistency Results'!$B$1:$B$500,0),1))-(INDEX('RE Inconsistency Results'!$F$1:$F$500,MATCH(SUBSTITUTE(D18,\"OR\",\"d\"),'RE Inconsistency Results'!$B$1:$B$500,0),1))>50,\"N/A\",EXP(INDEX('RE Inconsistency Results'!$G$1:$G$500,MATCH(SUBSTITUTE(D18,\"OR\",\"d\"),'RE Inconsistency Results'!$B$1:$B$500,0),1))))","v":""}]
[null,null,null,{"$f":"IF('Fixed Effects'!N19=\"\",\"\",'Fixed Effects'!N19)","v":""},{"$f":"IF('Fixed Effects'!O19=\"\",\"\",'Fixed Effects'!O19)","v":""},{"$f":"IF('Fixed Effects'!Q19=\"\",\"\",'Fixed Effects'!Q19)","v":""},{"$f":"IF(D19=\"\",\"\",IF((INDEX('FE Inconsistency Results'!$H$1:$H$500,MATCH(SUBSTITUTE(D19,\"OR\",\"d\"),'FE Inconsistency Results'!$B$1:$B$500,0),1))-(INDEX('FE Inconsistency Results'!$F$1:$F$500,MATCH(SUBSTITUTE(D19,\"OR\",\"d\"),'FE Inconsistency Results'!$B$1:$B$500,0),1))>50,\"N/A\",EXP(INDEX('FE Inconsistency Results'!$G$1:$G$500,MATCH(SUBSTITUTE(D19,\"OR\",\"d\"),'FE Inconsistency Results'!$B$1:$B$500,0),1))))","v":""},null,{"$f":"IF(INDIRECT(CONCATENATE(\"'\",'Inconsistency Data'!$I$4,\"'!N19\"))=\"\",\"\",INDIRECT(CONCATENATE(\"'\",'Inconsistency Data'!$I$4,\"'!N19\")))","v":""},{"$f":"IF(INDIRECT(CONCATENATE(\"'\",'Inconsistency Data'!$I$4,\"'!O19\"))=\"\",\"\",INDIRECT(CONCATENATE(\"'\",'Inconsistency Data'!$I$4,\"'!O19\")))","v":""},{"$f":"IF(INDIRECT(CONCATENATE(\"'\",'Inconsistency Data'!$I$4,\"'!Q19\"))=\"\",\"\",INDIRECT(CONCATENATE(\"'\",'Inconsistency Data'!$I$4,\"'!Q19\")))","v":""},{"$f":"IF(D19=\"\",\"\",IF((INDEX('RE Inconsistency Results'!$H$1:$H$500,MATCH(SUBSTITUTE(D19,\"OR\",\"d\"),'RE Inconsistency Results'!$B$1:$B$500,0),1))-(INDEX('RE Inconsistency Results'!$F$1:$F$500,MATCH(SUBSTITUTE(D19,\"OR\",\"d\"),'RE Inconsistency Results'!$B$1:$B$500,0),1))>50,\"N/A\",EXP(INDEX('RE Inconsistency Results'!$G$1:$G$500,MATCH(SUBSTITUTE(D19,\"OR\",\"d\"),'RE Inconsistency Results'!$B$1:$B$500,0),1))))","v":""}]
[null,null,null,{"$f":"IF('Fixed Effects'!N20=\"\",\"\",'Fixed Effects'!N20)","v":""},{"$f":"IF('Fixed Effects'!O20=\"\",\"\",'Fixed Effects'!O20)","v":""},{"$f":"IF('Fixed Effects'!Q20=\"\",\"\",'Fixed Effects'!Q20)","v":""},{"$f":"IF(D20=\"\",\"\",IF((INDEX('FE Inconsistency Results'!$H$1:$H$500,MATCH(SUBSTITUTE(D20,\"OR\",\"d\"),'FE Inconsistency Results'!$B$1:$B$500,0),1))-(INDEX('FE Inconsistency Results'!$F$1:$F$500,MATCH(SUBSTITUTE(D20,\"OR\",\"d\"),'FE Inconsistency Results'!$B$1:$B$500,0),1))>50,\"N/A\",EXP(INDEX('FE Inconsistency Results'!$G$1:$G$500,MATCH(SUBSTITUTE(D20,\"OR\",\"d\"),'FE Inconsistency Results'!$B$1:$B$500,0),1))))","v":""},null,{"$f":"IF(INDIRECT(CONCATENATE(\"'\",'Inconsistency Data'!$I$4,\"'!N20\"))=\"\",\"\",INDIRECT(CONCATENATE(\"'\",'Inconsistency Data'!$I$4,\"'!N20\")))","v":""},{"$f":"IF(INDIRECT(CONCATENATE(\"'\",'Inconsistency Data'!$I$4,\"'!O20\"))=\"\",\"\",INDIRECT(CONCATENATE(\"'\",'Inconsistency Data'!$I$4,\"'!O20\")))","v":""},{"$f":"IF(INDIRECT(CONCATENATE(\"'\",'Inconsistency Data'!$I$4,\"'!Q20\"))=\"\",\"\",INDIRECT(CONCATENATE(\"'\",'Inconsistency Data'!$I$4,\"'!Q20\")))","v":""},{"$f":"IF(D20=\"\",\"\",IF((INDEX('RE Inconsistency Results'!$H$1:$H$500,MATCH(SUBSTITUTE(D20,\"OR\",\"d\"),'RE Inconsistency Results'!$B$1:$B$500,0),1))-(INDEX('RE Inconsistency Results'!$F$1:$F$500,MATCH(SUBSTITUTE(D20,\"OR\",\"d\"),'RE Inconsistency Results'!$B$1:$B$500,0),1))>50,\"N/A\",EXP(INDEX('RE Inconsistency Results'!$G$1:$G$500,MATCH(SUBSTITUTE(D20,\"OR\",\"d\"),'RE Inconsistency Results'!$B$1:$B$500,0),1))))","v":""}]
[null,null,null,{"$f":"IF('Fixed Effects'!N21=\"\",\"\",'Fixed Effects'!N21)","v":""},{"$f":"IF('Fixed Effects'!O21=\"\",\"\",'Fixed Effects'!O21)","v":""},{"$f":"IF('Fixed Effects'!Q21=\"\",\"\",'Fixed Effects'!Q21)","v":""},{"$f":"IF(D21=\"\",\"\",IF((INDEX('FE Inconsistency Results'!$H$1:$H$500,MATCH(SUBSTITUTE(D21,\"OR\",\"d\"),'FE Inconsistency Results'!$B$1:$B$500,0),1))-(INDEX('FE Inconsistency Results'!$F$1:$F$500,MATCH(SUBSTITUTE(D21,\"OR\",\"d\"),'FE Inconsistency Results'!$B$1:$B$500,0),1))>50,\"N/A\",EXP(INDEX('FE Inconsistency Results'!$G$1:$G$500,MATCH(SUBSTITUTE(D21,\"OR\",\"d\"),'FE Inconsistency Results'!$B$1:$B$500,0),1))))","v":""},null,{"$f":"IF(INDIRECT(CONCATENATE(\"'\",'Inconsistency Data'!$I$4,\"'!N21\"))=\"\",\"\",INDIRECT(CONCATENATE(\"'\",'Inconsistency Data'!$I$4,\"'!N21\")))","v":""},{"$f":"IF(INDIRECT(CONCATENATE(\"'\",'Inconsistency Data'!$I$4,\"'!O21\"))=\"\",\"\",INDIRECT(CONCATENATE(\"'\",'Inconsistency Data'!$I$4,\"'!O21\")))","v":""},{"$f":"IF(INDIRECT(CONCATENATE(\"'\",'Inconsistency Data'!$I$4,\"'!Q21\"))=\"\",\"\",INDIRECT(CONCATENATE(\"'\",'Inconsistency Data'!$I$4,\"'!Q21\")))","v":""},{"$f":"IF(D21=\"\",\"\",IF((INDEX('RE Inconsistency Results'!$H$1:$H$500,MATCH(SUBSTITUTE(D21,\"OR\",\"d\"),'RE Inconsistency Results'!$B$1:$B$500,0),1))-(INDEX('RE Inconsistency Results'!$F$1:$F$500,MATCH(SUBSTITUTE(D21,\"OR\",\"d\"),'RE Inconsistency Results'!$B$1:$B$500,0),1))>50,\"N/A\",EXP(INDEX('RE Inconsistency Results'!$G$1:$G$500,MATCH(SUBSTITUTE(D21,\"OR\",\"d\"),'RE Inconsistency Results'!$B$1:$B$500,0),1))))","v":""}]
[null,null,null,{"$f":"IF('Fixed Effects'!N22=\"\",\"\",'Fixed Effects'!N22)","v":""},{"$f":"IF('Fixed Effects'!O22=\"\",\"\",'Fixed Effects'!O22)","v":""},{"$f":"IF('Fixed Effects'!Q22=\"\",\"\",'Fixed Effects'!Q22)","v":""},{"$f":"IF(D22=\"\",\"\",IF((INDEX('FE Inconsistency Results'!$H$1:$H$500,MATCH(SUBSTITUTE(D22,\"OR\",\"d\"),'FE Inconsistency Results'!$B$1:$B$500,0),1))-(INDEX('FE Inconsistency Results'!$F$1:$F$500,MATCH(SUBSTITUTE(D22,\"OR\",\"d\"),'FE Inconsistency Results'!$B$1:$B$500,0),1))>50,\"N/A\",EXP(INDEX('FE Inconsistency Results'!$G$1:$G$500,MATCH(SUBSTITUTE(D22,\"OR\",\"d\"),'FE Inconsistency Results'!$B$1:$B$500,0),1))))","v":""},null,{"$f":"IF(INDIRECT(CONCATENATE(\"'\",'Inconsistency Data'!$I$4,\"'!N22\"))=\"\",\"\",INDIRECT(CONCATENATE(\"'\",'Inconsistency Data'!$I$4,\"'!N22\")))","v":""},{"$f":"IF(INDIRECT(CONCATENATE(\"'\",'Inconsistency Data'!$I$4,\"'!O22\"))=\"\",\"\",INDIRECT(CONCATENATE(\"'\",'Inconsistency Data'!$I$4,\"'!O22\")))","v":""},{"$f":"IF(INDIRECT(CONCATENATE(\"'\",'Inconsistency Data'!$I$4,\"'!Q22\"))=\"\",\"\",INDIRECT(CONCATENATE(\"'\",'Inconsistency Data'!$I$4,\"'!Q22\")))","v":""},{"$f":"IF(D22=\"\",\"\",IF((INDEX('RE Inconsistency Results'!$H$1:$H$500,MATCH(SUBSTITUTE(D22,\"OR\",\"d\"),'RE Inconsistency Results'!$B$1:$B$500,0),1))-(INDEX('RE Inconsistency Results'!$F$1:$F$500,MATCH(SUBSTITUTE(D22,\"OR\",\"d\"),'RE Inconsistency Results'!$B$1:$B$500,0),1))>50,\"N/A\",EXP(INDEX('RE Inconsistency Results'!$G$1:$G$500,MATCH(SUBSTITUTE(D22,\"OR\",\"d\"),'RE Inconsistency Results'!$B$1:$B$500,0),1))))","v":""}]
[null,null,null,{"$f":"IF('Fixed Effects'!N23=\"\",\"\",'Fixed Effects'!N23)","v":""},{"$f":"IF('Fixed Effects'!O23=\"\",\"\",'Fixed Effects'!O23)","v":""},{"$f":"IF('Fixed Effects'!Q23=\"\",\"\",'Fixed Effects'!Q23)","v":""},{"$f":"IF(D23=\"\",\"\",IF((INDEX('FE Inconsistency Results'!$H$1:$H$500,MATCH(SUBSTITUTE(D23,\"OR\",\"d\"),'FE Inconsistency Results'!$B$1:$B$500,0),1))-(INDEX('FE Inconsistency Results'!$F$1:$F$500,MATCH(SUBSTITUTE(D23,\"OR\",\"d\"),'FE Inconsistency Results'!$B$1:$B$500,0),1))>50,\"N/A\",EXP(INDEX('FE Inconsistency Results'!$G$1:$G$500,MATCH(SUBSTITUTE(D23,\"OR\",\"d\"),'FE Inconsistency Results'!$B$1:$B$500,0),1))))","v":""},null,{"$f":"IF(INDIRECT(CONCATENATE(\"'\",'Inconsistency Data'!$I$4,\"'!N23\"))=\"\",\"\",INDIRECT(CONCATENATE(\"'\",'Inconsistency Data'!$I$4,\"'!N23\")))","v":""},{"$f":"IF(INDIRECT(CONCATENATE(\"'\",'Inconsistency Data'!$I$4,\"'!O23\"))=\"\",\"\",INDIRECT(CONCATENATE(\"'\",'Inconsistency Data'!$I$4,\"'!O23\")))","v":""},{"$f":"IF(INDIRECT(CONCATENATE(\"'\",'Inconsistency Data'!$I$4,\"'!Q23\"))=\"\",\"\",INDIRECT(CONCATENATE(\"'\",'Inconsistency Data'!$I$4,\"'!Q23\")))","v":""},{"$f":"IF(D23=\"\",\"\",IF((INDEX('RE Inconsistency Results'!$H$1:$H$500,MATCH(SUBSTITUTE(D23,\"OR\",\"d\"),'RE Inconsistency Results'!$B$1:$B$500,0),1))-(INDEX('RE Inconsistency Results'!$F$1:$F$500,MATCH(SUBSTITUTE(D23,\"OR\",\"d\"),'RE Inconsistency Results'!$B$1:$B$500,0),1))>50,\"N/A\",EXP(INDEX('RE Inconsistency Results'!$G$1:$G$500,MATCH(SUBSTITUTE(D23,\"OR\",\"d\"),'RE Inconsistency Results'!$B$1:$B$500,0),1))))","v":""}]
[null,null,null,{"$f":"IF('Fixed Effects'!N24=\"\",\"\",'Fixed Effects'!N24)","v":""},{"$f":"IF('Fixed Effects'!O24=\"\",\"\",'Fixed Effects'!O24)","v":""},{"$f":"IF('Fixed Effects'!Q24=\"\",\"\",'Fixed Effects'!Q24)","v":""},{"$f":"IF(D24=\"\",\"\",IF((INDEX('FE Inconsistency Results'!$H$1:$H$500,MATCH(SUBSTITUTE(D24,\"OR\",\"d\"),'FE Inconsistency Results'!$B$1:$B$500,0),1))-(INDEX('FE Inconsistency Results'!$F$1:$F$500,MATCH(SUBSTITUTE(D24,\"OR\",\"d\"),'FE Inconsistency Results'!$B$1:$B$500,0),1))>50,\"N/A\",EXP(INDEX('FE Inconsistency Results'!$G$1:$G$500,MATCH(SUBSTITUTE(D24,\"OR\",\"d\"),'FE Inconsistency Results'!$B$1:$B$500,0),1))))","v":""},null,{"$f":"IF(INDIRECT(CONCATENATE(\"'\",'Inconsistency Data'!$I$4,\"'!N24\"))=\"\",\"\",INDIRECT(CONCATENATE(\"'\",'Inconsistency Data'!$I$4,\"'!N24\")))","v":""},{"$f":"IF(INDIRECT(CONCATENATE(\"'\",'Inconsistency Data'!$I$4,\"'!O24\"))=\"\",\"\",INDIRECT(CONCATENATE(\"'\",'Inconsistency Data'!$I$4,\"'!O24\")))","v":""},{"$f":"IF(INDIRECT(CONCATENATE(\"'\",'Inconsistency Data'!$I$4,\"'!Q24\"))=\"\",\"\",INDIRECT(CONCATENATE(\"'\",'Inconsistency Data'!$I$4,\"'!Q24\")))","v":""},{"$f":"IF(D24=\"\",\"\",IF((INDEX('RE Inconsistency Results'!$H$1:$H$500,MATCH(SUBSTITUTE(D24,\"OR\",\"d\"),'RE Inconsistency Results'!$B$1:$B$500,0),1))-(INDEX('RE Inconsistency Results'!$F$1:$F$500,MATCH(SUBSTITUTE(D24,\"OR\",\"d\"),'RE Inconsistency Results'!$B$1:$B$500,0),1))>50,\"N/A\",EXP(INDEX('RE Inconsistency Results'!$G$1:$G$500,MATCH(SUBSTITUTE(D24,\"OR\",\"d\"),'RE Inconsistency Results'!$B$1:$B$500,0),1))))","v":""}]
[null,null,null,{"$f":"IF('Fixed Effects'!N25=\"\",\"\",'Fixed Effects'!N25)","v":""},{"$f":"IF('Fixed Effects'!O25=\"\",\"\",'Fixed Effects'!O25)","v":""},{"$f":"IF('Fixed Effects'!Q25=\"\",\"\",'Fixed Effects'!Q25)","v":""},{"$f":"IF(D25=\"\",\"\",IF((INDEX('FE Inconsistency Results'!$H$1:$H$500,MATCH(SUBSTITUTE(D25,\"OR\",\"d\"),'FE Inconsistency Results'!$B$1:$B$500,0),1))-(INDEX('FE Inconsistency Results'!$F$1:$F$500,MATCH(SUBSTITUTE(D25,\"OR\",\"d\"),'FE Inconsistency Results'!$B$1:$B$500,0),1))>50,\"N/A\",EXP(INDEX('FE Inconsistency Results'!$G$1:$G$500,MATCH(SUBSTITUTE(D25,\"OR\",\"d\"),'FE Inconsistency Results'!$B$1:$B$500,0),1))))","v":""},null,{"$f":"IF(INDIRECT(CONCATENATE(\"'\",'Inconsistency Data'!$I$4,\"'!N25\"))=\"\",\"\",INDIRECT(CONCATENATE(\"'\",'Inconsistency Data'!$I$4,\"'!N25\")))","v":""},{"$f":"IF(INDIRECT(CONCATENATE(\"'\",'Inconsistency Data'!$I$4,\"'!O25\"))=\"\",\"\",INDIRECT(CONCATENATE(\"'\",'Inconsistency Data'!$I$4,\"'!O25\")))","v":""},{"$f":"IF(INDIRECT(CONCATENATE(\"'\",'Inconsistency Data'!$I$4,\"'!Q25\"))=\"\",\"\",INDIRECT(CONCATENATE(\"'\",'Inconsistency Data'!$I$4,\"'!Q25\")))","v":""},{"$f":"IF(D25=\"\",\"\",IF((INDEX('RE Inconsistency Results'!$H$1:$H$500,MATCH(SUBSTITUTE(D25,\"OR\",\"d\"),'RE Inconsistency Results'!$B$1:$B$500,0),1))-(INDEX('RE Inconsistency Results'!$F$1:$F$500,MATCH(SUBSTITUTE(D25,\"OR\",\"d\"),'RE Inconsistency Results'!$B$1:$B$500,0),1))>50,\"N/A\",EXP(INDEX('RE Inconsistency Results'!$G$1:$G$500,MATCH(SUBSTITUTE(D25,\"OR\",\"d\"),'RE Inconsistency Results'!$B$1:$B$500,0),1))))","v":""}]
[null,null,null,{"$f":"IF('Fixed Effects'!N26=\"\",\"\",'Fixed Effects'!N26)","v":""},{"$f":"IF('Fixed Effects'!O26=\"\",\"\",'Fixed Effects'!O26)","v":""},{"$f":"IF('Fixed Effects'!Q26=\"\",\"\",'Fixed Effects'!Q26)","v":""},{"$f":"IF(D26=\"\",\"\",IF((INDEX('FE Inconsistency Results'!$H$1:$H$500,MATCH(SUBSTITUTE(D26,\"OR\",\"d\"),'FE Inconsistency Results'!$B$1:$B$500,0),1))-(INDEX('FE Inconsistency Results'!$F$1:$F$500,MATCH(SUBSTITUTE(D26,\"OR\",\"d\"),'FE Inconsistency Results'!$B$1:$B$500,0),1))>50,\"N/A\",EXP(INDEX('FE Inconsistency Results'!$G$1:$G$500,MATCH(SUBSTITUTE(D26,\"OR\",\"d\"),'FE Inconsistency Results'!$B$1:$B$500,0),1))))","v":""},null,{"$f":"IF(INDIRECT(CONCATENATE(\"'\",'Inconsistency Data'!$I$4,\"'!N26\"))=\"\",\"\",INDIRECT(CONCATENATE(\"'\",'Inconsistency Data'!$I$4,\"'!N26\")))","v":""},{"$f":"IF(INDIRECT(CONCATENATE(\"'\",'Inconsistency Data'!$I$4,\"'!O26\"))=\"\",\"\",INDIRECT(CONCATENATE(\"'\",'Inconsistency Data'!$I$4,\"'!O26\")))","v":""},{"$f":"IF(INDIRECT(CONCATENATE(\"'\",'Inconsistency Data'!$I$4,\"'!Q26\"))=\"\",\"\",INDIRECT(CONCATENATE(\"'\",'Inconsistency Data'!$I$4,\"'!Q26\")))","v":""},{"$f":"IF(D26=\"\",\"\",IF((INDEX('RE Inconsistency Results'!$H$1:$H$500,MATCH(SUBSTITUTE(D26,\"OR\",\"d\"),'RE Inconsistency Results'!$B$1:$B$500,0),1))-(INDEX('RE Inconsistency Results'!$F$1:$F$500,MATCH(SUBSTITUTE(D26,\"OR\",\"d\"),'RE Inconsistency Results'!$B$1:$B$500,0),1))>50,\"N/A\",EXP(INDEX('RE Inconsistency Results'!$G$1:$G$500,MATCH(SUBSTITUTE(D26,\"OR\",\"d\"),'RE Inconsistency Results'!$B$1:$B$500,0),1))))","v":""}]
[null,null,null,{"$f":"IF('Fixed Effects'!N27=\"\",\"\",'Fixed Effects'!N27)","v":""},{"$f":"IF('Fixed Effects'!O27=\"\",\"\",'Fixed Effects'!O27)","v":""},{"$f":"IF('Fixed Effects'!Q27=\"\",\"\",'Fixed Effects'!Q27)","v":""},{"$f":"IF(D27=\"\",\"\",IF((INDEX('FE Inconsistency Results'!$H$1:$H$500,MATCH(SUBSTITUTE(D27,\"OR\",\"d\"),'FE Inconsistency Results'!$B$1:$B$500,0),1))-(INDEX('FE Inconsistency Results'!$F$1:$F$500,MATCH(SUBSTITUTE(D27,\"OR\",\"d\"),'FE Inconsistency Results'!$B$1:$B$500,0),1))>50,\"N/A\",EXP(INDEX('FE Inconsistency Results'!$G$1:$G$500,MATCH(SUBSTITUTE(D27,\"OR\",\"d\"),'FE Inconsistency Results'!$B$1:$B$500,0),1))))","v":""},null,{"$f":"IF(INDIRECT(CONCATENATE(\"'\",'Inconsistency Data'!$I$4,\"'!N27\"))=\"\",\"\",INDIRECT(CONCATENATE(\"'\",'Inconsistency Data'!$I$4,\"'!N27\")))","v":""},{"$f":"IF(INDIRECT(CONCATENATE(\"'\",'Inconsistency Data'!$I$4,\"'!O27\"))=\"\",\"\",INDIRECT(CONCATENATE(\"'\",'Inconsistency Data'!$I$4,\"'!O27\")))","v":""},{"$f":"IF(INDIRECT(CONCATENATE(\"'\",'Inconsistency Data'!$I$4,\"'!Q27\"))=\"\",\"\",INDIRECT(CONCATENATE(\"'\",'Inconsistency Data'!$I$4,\"'!Q27\")))","v":""},{"$f":"IF(D27=\"\",\"\",IF((INDEX('RE Inconsistency Results'!$H$1:$H$500,MATCH(SUBSTITUTE(D27,\"OR\",\"d\"),'RE Inconsistency Results'!$B$1:$B$500,0),1))-(INDEX('RE Inconsistency Results'!$F$1:$F$500,MATCH(SUBSTITUTE(D27,\"OR\",\"d\"),'RE Inconsistency Results'!$B$1:$B$500,0),1))>50,\"N/A\",EXP(INDEX('RE Inconsistency Results'!$G$1:$G$500,MATCH(SUBSTITUTE(D27,\"OR\",\"d\"),'RE Inconsistency Results'!$B$1:$B$500,0),1))))","v":""}]
[null,null,null,{"$f":"IF('Fixed Effects'!N28=\"\",\"\",'Fixed Effects'!N28)","v":""},{"$f":"IF('Fixed Effects'!O28=\"\",\"\",'Fixed Effects'!O28)","v":""},{"$f":"IF('Fixed Effects'!Q28=\"\",\"\",'Fixed Effects'!Q28)","v":""},{"$f":"IF(D28=\"\",\"\",IF((INDEX('FE Inconsistency Results'!$H$1:$H$500,MATCH(SUBSTITUTE(D28,\"OR\",\"d\"),'FE Inconsistency Results'!$B$1:$B$500,0),1))-(INDEX('FE Inconsistency Results'!$F$1:$F$500,MATCH(SUBSTITUTE(D28,\"OR\",\"d\"),'FE Inconsistency Results'!$B$1:$B$500,0),1))>50,\"N/A\",EXP(INDEX('FE Inconsistency Results'!$G$1:$G$500,MATCH(SUBSTITUTE(D28,\"OR\",\"d\"),'FE Inconsistency Results'!$B$1:$B$500,0),1))))","v":""},null,{"$f":"IF(INDIRECT(CONCATENATE(\"'\",'Inconsistency Data'!$I$4,\"'!N28\"))=\"\",\"\",INDIRECT(CONCATENATE(\"'\",'Inconsistency Data'!$I$4,\"'!N28\")))","v":""},{"$f":"IF(INDIRECT(CONCATENATE(\"'\",'Inconsistency Data'!$I$4,\"'!O28\"))=\"\",\"\",INDIRECT(CONCATENATE(\"'\",'Inconsistency Data'!$I$4,\"'!O28\")))","v":""},{"$f":"IF(INDIRECT(CONCATENATE(\"'\",'Inconsistency Data'!$I$4,\"'!Q28\"))=\"\",\"\",INDIRECT(CONCATENATE(\"'\",'Inconsistency Data'!$I$4,\"'!Q28\")))","v":""},{"$f":"IF(D28=\"\",\"\",IF((INDEX('RE Inconsistency Results'!$H$1:$H$500,MATCH(SUBSTITUTE(D28,\"OR\",\"d\"),'RE Inconsistency Results'!$B$1:$B$500,0),1))-(INDEX('RE Inconsistency Results'!$F$1:$F$500,MATCH(SUBSTITUTE(D28,\"OR\",\"d\"),'RE Inconsistency Results'!$B$1:$B$500,0),1))>50,\"N/A\",EXP(INDEX('RE Inconsistency Results'!$G$1:$G$500,MATCH(SUBSTITUTE(D28,\"OR\",\"d\"),'RE Inconsistency Results'!$B$1:$B$500,0),1))))","v":""}]
[null,null,null,{"$f":"IF('Fixed Effects'!N29=\"\",\"\",'Fixed Effects'!N29)","v":""},{"$f":"IF('Fixed Effects'!O29=\"\",\"\",'Fixed Effects'!O29)","v":""},{"$f":"IF('Fixed Effects'!Q29=\"\",\"\",'Fixed Effects'!Q29)","v":""},{"$f":"IF(D29=\"\",\"\",IF((INDEX('FE Inconsistency Results'!$H$1:$H$500,MATCH(SUBSTITUTE(D29,\"OR\",\"d\"),'FE Inconsistency Results'!$B$1:$B$500,0),1))-(INDEX('FE Inconsistency Results'!$F$1:$F$500,MATCH(SUBSTITUTE(D29,\"OR\",\"d\"),'FE Inconsistency Results'!$B$1:$B$500,0),1))>50,\"N/A\",EXP(INDEX('FE Inconsistency Results'!$G$1:$G$500,MATCH(SUBSTITUTE(D29,\"OR\",\"d\"),'FE Inconsistency Results'!$B$1:$B$500,0),1))))","v":""},null,{"$f":"IF(INDIRECT(CONCATENATE(\"'\",'Inconsistency Data'!$I$4,\"'!N29\"))=\"\",\"\",INDIRECT(CONCATENATE(\"'\",'Inconsistency Data'!$I$4,\"'!N29\")))","v":""},{"$f":"IF(INDIRECT(CONCATENATE(\"'\",'Inconsistency Data'!$I$4,\"'!O29\"))=\"\",\"\",INDIRECT(CONCATENATE(\"'\",'Inconsistency Data'!$I$4,\"'!O29\")))","v":""},{"$f":"IF(INDIRECT(CONCATENATE(\"'\",'Inconsistency Data'!$I$4,\"'!Q29\"))=\"\",\"\",INDIRECT(CONCATENATE(\"'\",'Inconsistency Data'!$I$4,\"'!Q29\")))","v":""},{"$f":"IF(D29=\"\",\"\",IF((INDEX('RE Inconsistency Results'!$H$1:$H$500,MATCH(SUBSTITUTE(D29,\"OR\",\"d\"),'RE Inconsistency Results'!$B$1:$B$500,0),1))-(INDEX('RE Inconsistency Results'!$F$1:$F$500,MATCH(SUBSTITUTE(D29,\"OR\",\"d\"),'RE Inconsistency Results'!$B$1:$B$500,0),1))>50,\"N/A\",EXP(INDEX('RE Inconsistency Results'!$G$1:$G$500,MATCH(SUBSTITUTE(D29,\"OR\",\"d\"),'RE Inconsistency Results'!$B$1:$B$500,0),1))))","v":""}]
[null,null,null,{"$f":"IF('Fixed Effects'!N30=\"\",\"\",'Fixed Effects'!N30)","v":""},{"$f":"IF('Fixed Effects'!O30=\"\",\"\",'Fixed Effects'!O30)","v":""},{"$f":"IF('Fixed Effects'!Q30=\"\",\"\",'Fixed Effects'!Q30)","v":""},{"$f":"IF(D30=\"\",\"\",IF((INDEX('FE Inconsistency Results'!$H$1:$H$500,MATCH(SUBSTITUTE(D30,\"OR\",\"d\"),'FE Inconsistency Results'!$B$1:$B$500,0),1))-(INDEX('FE Inconsistency Results'!$F$1:$F$500,MATCH(SUBSTITUTE(D30,\"OR\",\"d\"),'FE Inconsistency Results'!$B$1:$B$500,0),1))>50,\"N/A\",EXP(INDEX('FE Inconsistency Results'!$G$1:$G$500,MATCH(SUBSTITUTE(D30,\"OR\",\"d\"),'FE Inconsistency Results'!$B$1:$B$500,0),1))))","v":""},null,{"$f":"IF(INDIRECT(CONCATENATE(\"'\",'Inconsistency Data'!$I$4,\"'!N30\"))=\"\",\"\",INDIRECT(CONCATENATE(\"'\",'Inconsistency Data'!$I$4,\"'!N30\")))","v":""},{"$f":"IF(INDIRECT(CONCATENATE(\"'\",'Inconsistency Data'!$I$4,\"'!O30\"))=\"\",\"\",INDIRECT(CONCATENATE(\"'\",'Inconsistency Data'!$I$4,\"'!O30\")))","v":""},{"$f":"IF(INDIRECT(CONCATENATE(\"'\",'Inconsistency Data'!$I$4,\"'!Q30\"))=\"\",\"\",INDIRECT(CONCATENATE(\"'\",'Inconsistency Data'!$I$4,\"'!Q30\")))","v":""},{"$f":"IF(D30=\"\",\"\",IF((INDEX('RE Inconsistency Results'!$H$1:$H$500,MATCH(SUBSTITUTE(D30,\"OR\",\"d\"),'RE Inconsistency Results'!$B$1:$B$500,0),1))-(INDEX('RE Inconsistency Results'!$F$1:$F$500,MATCH(SUBSTITUTE(D30,\"OR\",\"d\"),'RE Inconsistency Results'!$B$1:$B$500,0),1))>50,\"N/A\",EXP(INDEX('RE Inconsistency Results'!$G$1:$G$500,MATCH(SUBSTITUTE(D30,\"OR\",\"d\"),'RE Inconsistency Results'!$B$1:$B$500,0),1))))","v":""}]
[null,null,null,{"$f":"IF('Fixed Effects'!N31=\"\",\"\",'Fixed Effects'!N31)","v":""},{"$f":"IF('Fixed Effects'!O31=\"\",\"\",'Fixed Effects'!O31)","v":""},{"$f":"IF('Fixed Effects'!Q31=\"\",\"\",'Fixed Effects'!Q31)","v":""},{"$f":"IF(D31=\"\",\"\",IF((INDEX('FE Inconsistency Results'!$H$1:$H$500,MATCH(SUBSTITUTE(D31,\"OR\",\"d\"),'FE Inconsistency Results'!$B$1:$B$500,0),1))-(INDEX('FE Inconsistency Results'!$F$1:$F$500,MATCH(SUBSTITUTE(D31,\"OR\",\"d\"),'FE Inconsistency Results'!$B$1:$B$500,0),1))>50,\"N/A\",EXP(INDEX('FE Inconsistency Results'!$G$1:$G$500,MATCH(SUBSTITUTE(D31,\"OR\",\"d\"),'FE Inconsistency Results'!$B$1:$B$500,0),1))))","v":""},null,{"$f":"IF(INDIRECT(CONCATENATE(\"'\",'Inconsistency Data'!$I$4,\"'!N31\"))=\"\",\"\",INDIRECT(CONCATENATE(\"'\",'Inconsistency Data'!$I$4,\"'!N31\")))","v":""},{"$f":"IF(INDIRECT(CONCATENATE(\"'\",'Inconsistency Data'!$I$4,\"'!O31\"))=\"\",\"\",INDIRECT(CONCATENATE(\"'\",'Inconsistency Data'!$I$4,\"'!O31\")))","v":""},{"$f":"IF(INDIRECT(CONCATENATE(\"'\",'Inconsistency Data'!$I$4,\"'!Q31\"))=\"\",\"\",INDIRECT(CONCATENATE(\"'\",'Inconsistency Data'!$I$4,\"'!Q31\")))","v":""},{"$f":"IF(D31=\"\",\"\",IF((INDEX('RE Inconsistency Results'!$H$1:$H$500,MATCH(SUBSTITUTE(D31,\"OR\",\"d\"),'RE Inconsistency Results'!$B$1:$B$500,0),1))-(INDEX('RE Inconsistency Results'!$F$1:$F$500,MATCH(SUBSTITUTE(D31,\"OR\",\"d\"),'RE Inconsistency Results'!$B$1:$B$500,0),1))>50,\"N/A\",EXP(INDEX('RE Inconsistency Results'!$G$1:$G$500,MATCH(SUBSTITUTE(D31,\"OR\",\"d\"),'RE Inconsistency Results'!$B$1:$B$500,0),1))))","v":""}]
[null,null,null,{"$f":"IF('Fixed Effects'!N32=\"\",\"\",'Fixed Effects'!N32)","v":""},{"$f":"IF('Fixed Effects'!O32=\"\",\"\",'Fixed Effects'!O32)","v":""},{"$f":"IF('Fixed Effects'!Q32=\"\",\"\",'Fixed Effects'!Q32)","v":""},{"$f":"IF(D32=\"\",\"\",IF((INDEX('FE Inconsistency Results'!$H$1:$H$500,MATCH(SUBSTITUTE(D32,\"OR\",\"d\"),'FE Inconsistency Results'!$B$1:$B$500,0),1))-(INDEX('FE Inconsistency Results'!$F$1:$F$500,MATCH(SUBSTITUTE(D32,\"OR\",\"d\"),'FE Inconsistency Results'!$B$1:$B$500,0),1))>50,\"N/A\",EXP(INDEX('FE Inconsistency Results'!$G$1:$G$500,MATCH(SUBSTITUTE(D32,\"OR\",\"d\"),'FE Inconsistency Results'!$B$1:$B$500,0),1))))","v":""},null,{"$f":"IF(INDIRECT(CONCATENATE(\"'\",'Inconsistency Data'!$I$4,\"'!N32\"))=\"\",\"\",INDIRECT(CONCATENATE(\"'\",'Inconsistency Data'!$I$4,\"'!N32\")))","v":""},{"$f":"IF(INDIRECT(CONCATENATE(\"'\",'Inconsistency Data'!$I$4,\"'!O32\"))=\"\",\"\",INDIRECT(CONCATENATE(\"'\",'Inconsistency Data'!$I$4,\"'!O32\")))","v":""},{"$f":"IF(INDIRECT(CONCATENATE(\"'\",'Inconsistency Data'!$I$4,\"'!Q32\"))=\"\",\"\",INDIRECT(CONCATENATE(\"'\",'Inconsistency Data'!$I$4,\"'!Q32\")))","v":""},{"$f":"IF(D32=\"\",\"\",IF((INDEX('RE Inconsistency Results'!$H$1:$H$500,MATCH(SUBSTITUTE(D32,\"OR\",\"d\"),'RE Inconsistency Results'!$B$1:$B$500,0),1))-(INDEX('RE Inconsistency Results'!$F$1:$F$500,MATCH(SUBSTITUTE(D32,\"OR\",\"d\"),'RE Inconsistency Results'!$B$1:$B$500,0),1))>50,\"N/A\",EXP(INDEX('RE Inconsistency Results'!$G$1:$G$500,MATCH(SUBSTITUTE(D32,\"OR\",\"d\"),'RE Inconsistency Results'!$B$1:$B$500,0),1))))","v":""}]
[null,null,null,{"$f":"IF('Fixed Effects'!N33=\"\",\"\",'Fixed Effects'!N33)","v":""},{"$f":"IF('Fixed Effects'!O33=\"\",\"\",'Fixed Effects'!O33)","v":""},{"$f":"IF('Fixed Effects'!Q33=\"\",\"\",'Fixed Effects'!Q33)","v":""},{"$f":"IF(D33=\"\",\"\",IF((INDEX('FE Inconsistency Results'!$H$1:$H$500,MATCH(SUBSTITUTE(D33,\"OR\",\"d\"),'FE Inconsistency Results'!$B$1:$B$500,0),1))-(INDEX('FE Inconsistency Results'!$F$1:$F$500,MATCH(SUBSTITUTE(D33,\"OR\",\"d\"),'FE Inconsistency Results'!$B$1:$B$500,0),1))>50,\"N/A\",EXP(INDEX('FE Inconsistency Results'!$G$1:$G$500,MATCH(SUBSTITUTE(D33,\"OR\",\"d\"),'FE Inconsistency Results'!$B$1:$B$500,0),1))))","v":""},null,{"$f":"IF(INDIRECT(CONCATENATE(\"'\",'Inconsistency Data'!$I$4,\"'!N33\"))=\"\",\"\",INDIRECT(CONCATENATE(\"'\",'Inconsistency Data'!$I$4,\"'!N33\")))","v":""},{"$f":"IF(INDIRECT(CONCATENATE(\"'\",'Inconsistency Data'!$I$4,\"'!O33\"))=\"\",\"\",INDIRECT(CONCATENATE(\"'\",'Inconsistency Data'!$I$4,\"'!O33\")))","v":""},{"$f":"IF(INDIRECT(CONCATENATE(\"'\",'Inconsistency Data'!$I$4,\"'!Q33\"))=\"\",\"\",INDIRECT(CONCATENATE(\"'\",'Inconsistency Data'!$I$4,\"'!Q33\")))","v":""},{"$f":"IF(D33=\"\",\"\",IF((INDEX('RE Inconsistency Results'!$H$1:$H$500,MATCH(SUBSTITUTE(D33,\"OR\",\"d\"),'RE Inconsistency Results'!$B$1:$B$500,0),1))-(INDEX('RE Inconsistency Results'!$F$1:$F$500,MATCH(SUBSTITUTE(D33,\"OR\",\"d\"),'RE Inconsistency Results'!$B$1:$B$500,0),1))>50,\"N/A\",EXP(INDEX('RE Inconsistency Results'!$G$1:$G$500,MATCH(SUBSTITUTE(D33,\"OR\",\"d\"),'RE Inconsistency Results'!$B$1:$B$500,0),1))))","v":""}]
[null,null,null,{"$f":"IF('Fixed Effects'!N34=\"\",\"\",'Fixed Effects'!N34)","v":""},{"$f":"IF('Fixed Effects'!O34=\"\",\"\",'Fixed Effects'!O34)","v":""},{"$f":"IF('Fixed Effects'!Q34=\"\",\"\",'Fixed Effects'!Q34)","v":""},{"$f":"IF(D34=\"\",\"\",IF((INDEX('FE Inconsistency Results'!$H$1:$H$500,MATCH(SUBSTITUTE(D34,\"OR\",\"d\"),'FE Inconsistency Results'!$B$1:$B$500,0),1))-(INDEX('FE Inconsistency Results'!$F$1:$F$500,MATCH(SUBSTITUTE(D34,\"OR\",\"d\"),'FE Inconsistency Results'!$B$1:$B$500,0),1))>50,\"N/A\",EXP(INDEX('FE Inconsistency Results'!$G$1:$G$500,MATCH(SUBSTITUTE(D34,\"OR\",\"d\"),'FE Inconsistency Results'!$B$1:$B$500,0),1))))","v":""},null,{"$f":"IF(INDIRECT(CONCATENATE(\"'\",'Inconsistency Data'!$I$4,\"'!N34\"))=\"\",\"\",INDIRECT(CONCATENATE(\"'\",'Inconsistency Data'!$I$4,\"'!N34\")))","v":""},{"$f":"IF(INDIRECT(CONCATENATE(\"'\",'Inconsistency Data'!$I$4,\"'!O34\"))=\"\",\"\",INDIRECT(CONCATENATE(\"'\",'Inconsistency Data'!$I$4,\"'!O34\")))","v":""},{"$f":"IF(INDIRECT(CONCATENATE(\"'\",'Inconsistency Data'!$I$4,\"'!Q34\"))=\"\",\"\",INDIRECT(CONCATENATE(\"'\",'Inconsistency Data'!$I$4,\"'!Q34\")))","v":""},{"$f":"IF(D34=\"\",\"\",IF((INDEX('RE Inconsistency Results'!$H$1:$H$500,MATCH(SUBSTITUTE(D34,\"OR\",\"d\"),'RE Inconsistency Results'!$B$1:$B$500,0),1))-(INDEX('RE Inconsistency Results'!$F$1:$F$500,MATCH(SUBSTITUTE(D34,\"OR\",\"d\"),'RE Inconsistency Results'!$B$1:$B$500,0),1))>50,\"N/A\",EXP(INDEX('RE Inconsistency Results'!$G$1:$G$500,MATCH(SUBSTITUTE(D34,\"OR\",\"d\"),'RE Inconsistency Results'!$B$1:$B$500,0),1))))","v":""}]
[null,null,null,{"$f":"IF('Fixed Effects'!N35=\"\",\"\",'Fixed Effects'!N35)","v":""},{"$f":"IF('Fixed Effects'!O35=\"\",\"\",'Fixed Effects'!O35)","v":""},{"$f":"IF('Fixed Effects'!Q35=\"\",\"\",'Fixed Effects'!Q35)","v":""},{"$f":"IF(D35=\"\",\"\",IF((INDEX('FE Inconsistency Results'!$H$1:$H$500,MATCH(SUBSTITUTE(D35,\"OR\",\"d\"),'FE Inconsistency Results'!$B$1:$B$500,0),1))-(INDEX('FE Inconsistency Results'!$F$1:$F$500,MATCH(SUBSTITUTE(D35,\"OR\",\"d\"),'FE Inconsistency Results'!$B$1:$B$500,0),1))>50,\"N/A\",EXP(INDEX('FE Inconsistency Results'!$G$1:$G$500,MATCH(SUBSTITUTE(D35,\"OR\",\"d\"),'FE Inconsistency Results'!$B$1:$B$500,0),1))))","v":""},null,{"$f":"IF(INDIRECT(CONCATENATE(\"'\",'Inconsistency Data'!$I$4,\"'!N35\"))=\"\",\"\",INDIRECT(CONCATENATE(\"'\",'Inconsistency Data'!$I$4,\"'!N35\")))","v":""},{"$f":"IF(INDIRECT(CONCATENATE(\"'\",'Inconsistency Data'!$I$4,\"'!O35\"))=\"\",\"\",INDIRECT(CONCATENATE(\"'\",'Inconsistency Data'!$I$4,\"'!O35\")))","v":""},{"$f":"IF(INDIRECT(CONCATENATE(\"'\",'Inconsistency Data'!$I$4,\"'!Q35\"))=\"\",\"\",INDIRECT(CONCATENATE(\"'\",'Inconsistency Data'!$I$4,\"'!Q35\")))","v":""},{"$f":"IF(D35=\"\",\"\",IF((INDEX('RE Inconsistency Results'!$H$1:$H$500,MATCH(SUBSTITUTE(D35,\"OR\",\"d\"),'RE Inconsistency Results'!$B$1:$B$500,0),1))-(INDEX('RE Inconsistency Results'!$F$1:$F$500,MATCH(SUBSTITUTE(D35,\"OR\",\"d\"),'RE Inconsistency Results'!$B$1:$B$500,0),1))>50,\"N/A\",EXP(INDEX('RE Inconsistency Results'!$G$1:$G$500,MATCH(SUBSTITUTE(D35,\"OR\",\"d\"),'RE Inconsistency Results'!$B$1:$B$500,0),1))))","v":""}]
[null,null,null,{"$f":"IF('Fixed Effects'!N36=\"\",\"\",'Fixed Effects'!N36)","v":""},{"$f":"IF('Fixed Effects'!O36=\"\",\"\",'Fixed Effects'!O36)","v":""},{"$f":"IF('Fixed Effects'!Q36=\"\",\"\",'Fixed Effects'!Q36)","v":""},{"$f":"IF(D36=\"\",\"\",IF((INDEX('FE Inconsistency Results'!$H$1:$H$500,MATCH(SUBSTITUTE(D36,\"OR\",\"d\"),'FE Inconsistency Results'!$B$1:$B$500,0),1))-(INDEX('FE Inconsistency Results'!$F$1:$F$500,MATCH(SUBSTITUTE(D36,\"OR\",\"d\"),'FE Inconsistency Results'!$B$1:$B$500,0),1))>50,\"N/A\",EXP(INDEX('FE Inconsistency Results'!$G$1:$G$500,MATCH(SUBSTITUTE(D36,\"OR\",\"d\"),'FE Inconsistency Results'!$B$1:$B$500,0),1))))","v":""},null,{"$f":"IF(INDIRECT(CONCATENATE(\"'\",'Inconsistency Data'!$I$4,\"'!N36\"))=\"\",\"\",INDIRECT(CONCATENATE(\"'\",'Inconsistency Data'!$I$4,\"'!N36\")))","v":""},{"$f":"IF(INDIRECT(CONCATENATE(\"'\",'Inconsistency Data'!$I$4,\"'!O36\"))=\"\",\"\",INDIRECT(CONCATENATE(\"'\",'Inconsistency Data'!$I$4,\"'!O36\")))","v":""},{"$f":"IF(INDIRECT(CONCATENATE(\"'\",'Inconsistency Data'!$I$4,\"'!Q36\"))=\"\",\"\",INDIRECT(CONCATENATE(\"'\",'Inconsistency Data'!$I$4,\"'!Q36\")))","v":""},{"$f":"IF(D36=\"\",\"\",IF((INDEX('RE Inconsistency Results'!$H$1:$H$500,MATCH(SUBSTITUTE(D36,\"OR\",\"d\"),'RE Inconsistency Results'!$B$1:$B$500,0),1))-(INDEX('RE Inconsistency Results'!$F$1:$F$500,MATCH(SUBSTITUTE(D36,\"OR\",\"d\"),'RE Inconsistency Results'!$B$1:$B$500,0),1))>50,\"N/A\",EXP(INDEX('RE Inconsistency Results'!$G$1:$G$500,MATCH(SUBSTITUTE(D36,\"OR\",\"d\"),'RE Inconsistency Results'!$B$1:$B$500,0),1))))","v":""}]
[null,null,null,{"$f":"IF('Fixed Effects'!N37=\"\",\"\",'Fixed Effects'!N37)","v":""},{"$f":"IF('Fixed Effects'!O37=\"\",\"\",'Fixed Effects'!O37)","v":""},{"$f":"IF('Fixed Effects'!Q37=\"\",\"\",'Fixed Effects'!Q37)","v":""},{"$f":"IF(D37=\"\",\"\",IF((INDEX('FE Inconsistency Results'!$H$1:$H$500,MATCH(SUBSTITUTE(D37,\"OR\",\"d\"),'FE Inconsistency Results'!$B$1:$B$500,0),1))-(INDEX('FE Inconsistency Results'!$F$1:$F$500,MATCH(SUBSTITUTE(D37,\"OR\",\"d\"),'FE Inconsistency Results'!$B$1:$B$500,0),1))>50,\"N/A\",EXP(INDEX('FE Inconsistency Results'!$G$1:$G$500,MATCH(SUBSTITUTE(D37,\"OR\",\"d\"),'FE Inconsistency Results'!$B$1:$B$500,0),1))))","v":""},null,{"$f":"IF(INDIRECT(CONCATENATE(\"'\",'Inconsistency Data'!$I$4,\"'!N37\"))=\"\",\"\",INDIRECT(CONCATENATE(\"'\",'Inconsistency Data'!$I$4,\"'!N37\")))","v":""},{"$f":"IF(INDIRECT(CONCATENATE(\"'\",'Inconsistency Data'!$I$4,\"'!O37\"))=\"\",\"\",INDIRECT(CONCATENATE(\"'\",'Inconsistency Data'!$I$4,\"'!O37\")))","v":""},{"$f":"IF(INDIRECT(CONCATENATE(\"'\",'Inconsistency Data'!$I$4,\"'!Q37\"))=\"\",\"\",INDIRECT(CONCATENATE(\"'\",'Inconsistency Data'!$I$4,\"'!Q37\")))","v":""},{"$f":"IF(D37=\"\",\"\",IF((INDEX('RE Inconsistency Results'!$H$1:$H$500,MATCH(SUBSTITUTE(D37,\"OR\",\"d\"),'RE Inconsistency Results'!$B$1:$B$500,0),1))-(INDEX('RE Inconsistency Results'!$F$1:$F$500,MATCH(SUBSTITUTE(D37,\"OR\",\"d\"),'RE Inconsistency Results'!$B$1:$B$500,0),1))>50,\"N/A\",EXP(INDEX('RE Inconsistency Results'!$G$1:$G$500,MATCH(SUBSTITUTE(D37,\"OR\",\"d\"),'RE Inconsistency Results'!$B$1:$B$500,0),1))))","v":""}]
[null,null,null,{"$f":"IF('Fixed Effects'!N38=\"\",\"\",'Fixed Effects'!N38)","v":""},{"$f":"IF('Fixed Effects'!O38=\"\",\"\",'Fixed Effects'!O38)","v":""},{"$f":"IF('Fixed Effects'!Q38=\"\",\"\",'Fixed Effects'!Q38)","v":""},{"$f":"IF(D38=\"\",\"\",IF((INDEX('FE Inconsistency Results'!$H$1:$H$500,MATCH(SUBSTITUTE(D38,\"OR\",\"d\"),'FE Inconsistency Results'!$B$1:$B$500,0),1))-(INDEX('FE Inconsistency Results'!$F$1:$F$500,MATCH(SUBSTITUTE(D38,\"OR\",\"d\"),'FE Inconsistency Results'!$B$1:$B$500,0),1))>50,\"N/A\",EXP(INDEX('FE Inconsistency Results'!$G$1:$G$500,MATCH(SUBSTITUTE(D38,\"OR\",\"d\"),'FE Inconsistency Results'!$B$1:$B$500,0),1))))","v":""},null,{"$f":"IF(INDIRECT(CONCATENATE(\"'\",'Inconsistency Data'!$I$4,\"'!N38\"))=\"\",\"\",INDIRECT(CONCATENATE(\"'\",'Inconsistency Data'!$I$4,\"'!N38\")))","v":""},{"$f":"IF(INDIRECT(CONCATENATE(\"'\",'Inconsistency Data'!$I$4,\"'!O38\"))=\"\",\"\",INDIRECT(CONCATENATE(\"'\",'Inconsistency Data'!$I$4,\"'!O38\")))","v":""},{"$f":"IF(INDIRECT(CONCATENATE(\"'\",'Inconsistency Data'!$I$4,\"'!Q38\"))=\"\",\"\",INDIRECT(CONCATENATE(\"'\",'Inconsistency Data'!$I$4,\"'!Q38\")))","v":""},{"$f":"IF(D38=\"\",\"\",IF((INDEX('RE Inconsistency Results'!$H$1:$H$500,MATCH(SUBSTITUTE(D38,\"OR\",\"d\"),'RE Inconsistency Results'!$B$1:$B$500,0),1))-(INDEX('RE Inconsistency Results'!$F$1:$F$500,MATCH(SUBSTITUTE(D38,\"OR\",\"d\"),'RE Inconsistency Results'!$B$1:$B$500,0),1))>50,\"N/A\",EXP(INDEX('RE Inconsistency Results'!$G$1:$G$500,MATCH(SUBSTITUTE(D38,\"OR\",\"d\"),'RE Inconsistency Results'!$B$1:$B$500,0),1))))","v":""}]
[null,null,null,{"$f":"IF('Fixed Effects'!N39=\"\",\"\",'Fixed Effects'!N39)","v":""},{"$f":"IF('Fixed Effects'!O39=\"\",\"\",'Fixed Effects'!O39)","v":""},{"$f":"IF('Fixed Effects'!Q39=\"\",\"\",'Fixed Effects'!Q39)","v":""},{"$f":"IF(D39=\"\",\"\",IF((INDEX('FE Inconsistency Results'!$H$1:$H$500,MATCH(SUBSTITUTE(D39,\"OR\",\"d\"),'FE Inconsistency Results'!$B$1:$B$500,0),1))-(INDEX('FE Inconsistency Results'!$F$1:$F$500,MATCH(SUBSTITUTE(D39,\"OR\",\"d\"),'FE Inconsistency Results'!$B$1:$B$500,0),1))>50,\"N/A\",EXP(INDEX('FE Inconsistency Results'!$G$1:$G$500,MATCH(SUBSTITUTE(D39,\"OR\",\"d\"),'FE Inconsistency Results'!$B$1:$B$500,0),1))))","v":""},null,{"$f":"IF(INDIRECT(CONCATENATE(\"'\",'Inconsistency Data'!$I$4,\"'!N39\"))=\"\",\"\",INDIRECT(CONCATENATE(\"'\",'Inconsistency Data'!$I$4,\"'!N39\")))","v":""},{"$f":"IF(INDIRECT(CONCATENATE(\"'\",'Inconsistency Data'!$I$4,\"'!O39\"))=\"\",\"\",INDIRECT(CONCATENATE(\"'\",'Inconsistency Data'!$I$4,\"'!O39\")))","v":""},{"$f":"IF(INDIRECT(CONCATENATE(\"'\",'Inconsistency Data'!$I$4,\"'!Q39\"))=\"\",\"\",INDIRECT(CONCATENATE(\"'\",'Inconsistency Data'!$I$4,\"'!Q39\")))","v":""},{"$f":"IF(D39=\"\",\"\",IF((INDEX('RE Inconsistency Results'!$H$1:$H$500,MATCH(SUBSTITUTE(D39,\"OR\",\"d\"),'RE Inconsistency Results'!$B$1:$B$500,0),1))-(INDEX('RE Inconsistency Results'!$F$1:$F$500,MATCH(SUBSTITUTE(D39,\"OR\",\"d\"),'RE Inconsistency Results'!$B$1:$B$500,0),1))>50,\"N/A\",EXP(INDEX('RE Inconsistency Results'!$G$1:$G$500,MATCH(SUBSTITUTE(D39,\"OR\",\"d\"),'RE Inconsistency Results'!$B$1:$B$500,0),1))))","v":""}]
[null,null,null,{"$f":"IF('Fixed Effects'!N40=\"\",\"\",'Fixed Effects'!N40)","v":""},{"$f":"IF('Fixed Effects'!O40=\"\",\"\",'Fixed Effects'!O40)","v":""},{"$f":"IF('Fixed Effects'!Q40=\"\",\"\",'Fixed Effects'!Q40)","v":""},{"$f":"IF(D40=\"\",\"\",IF((INDEX('FE Inconsistency Results'!$H$1:$H$500,MATCH(SUBSTITUTE(D40,\"OR\",\"d\"),'FE Inconsistency Results'!$B$1:$B$500,0),1))-(INDEX('FE Inconsistency Results'!$F$1:$F$500,MATCH(SUBSTITUTE(D40,\"OR\",\"d\"),'FE Inconsistency Results'!$B$1:$B$500,0),1))>50,\"N/A\",EXP(INDEX('FE Inconsistency Results'!$G$1:$G$500,MATCH(SUBSTITUTE(D40,\"OR\",\"d\"),'FE Inconsistency Results'!$B$1:$B$500,0),1))))","v":""},null,{"$f":"IF(INDIRECT(CONCATENATE(\"'\",'Inconsistency Data'!$I$4,\"'!N40\"))=\"\",\"\",INDIRECT(CONCATENATE(\"'\",'Inconsistency Data'!$I$4,\"'!N40\")))","v":""},{"$f":"IF(INDIRECT(CONCATENATE(\"'\",'Inconsistency Data'!$I$4,\"'!O40\"))=\"\",\"\",INDIRECT(CONCATENATE(\"'\",'Inconsistency Data'!$I$4,\"'!O40\")))","v":""},{"$f":"IF(INDIRECT(CONCATENATE(\"'\",'Inconsistency Data'!$I$4,\"'!Q40\"))=\"\",\"\",INDIRECT(CONCATENATE(\"'\",'Inconsistency Data'!$I$4,\"'!Q40\")))","v":""},{"$f":"IF(D40=\"\",\"\",IF((INDEX('RE Inconsistency Results'!$H$1:$H$500,MATCH(SUBSTITUTE(D40,\"OR\",\"d\"),'RE Inconsistency Results'!$B$1:$B$500,0),1))-(INDEX('RE Inconsistency Results'!$F$1:$F$500,MATCH(SUBSTITUTE(D40,\"OR\",\"d\"),'RE Inconsistency Results'!$B$1:$B$500,0),1))>50,\"N/A\",EXP(INDEX('RE Inconsistency Results'!$G$1:$G$500,MATCH(SUBSTITUTE(D40,\"OR\",\"d\"),'RE Inconsistency Results'!$B$1:$B$500,0),1))))","v":""}]
[null,null,null,{"$f":"IF('Fixed Effects'!N41=\"\",\"\",'Fixed Effects'!N41)","v":""},{"$f":"IF('Fixed Effects'!O41=\"\",\"\",'Fixed Effects'!O41)","v":""},{"$f":"IF('Fixed Effects'!Q41=\"\",\"\",'Fixed Effects'!Q41)","v":""},{"$f":"IF(D41=\"\",\"\",IF((INDEX('FE Inconsistency Results'!$H$1:$H$500,MATCH(SUBSTITUTE(D41,\"OR\",\"d\"),'FE Inconsistency Results'!$B$1:$B$500,0),1))-(INDEX('FE Inconsistency Results'!$F$1:$F$500,MATCH(SUBSTITUTE(D41,\"OR\",\"d\"),'FE Inconsistency Results'!$B$1:$B$500,0),1))>50,\"N/A\",EXP(INDEX('FE Inconsistency Results'!$G$1:$G$500,MATCH(SUBSTITUTE(D41,\"OR\",\"d\"),'FE Inconsistency Results'!$B$1:$B$500,0),1))))","v":""},null,{"$f":"IF(INDIRECT(CONCATENATE(\"'\",'Inconsistency Data'!$I$4,\"'!N41\"))=\"\",\"\",INDIRECT(CONCATENATE(\"'\",'Inconsistency Data'!$I$4,\"'!N41\")))","v":""},{"$f":"IF(INDIRECT(CONCATENATE(\"'\",'Inconsistency Data'!$I$4,\"'!O41\"))=\"\",\"\",INDIRECT(CONCATENATE(\"'\",'Inconsistency Data'!$I$4,\"'!O41\")))","v":""},{"$f":"IF(INDIRECT(CONCATENATE(\"'\",'Inconsistency Data'!$I$4,\"'!Q41\"))=\"\",\"\",INDIRECT(CONCATENATE(\"'\",'Inconsistency Data'!$I$4,\"'!Q41\")))","v":""},{"$f":"IF(D41=\"\",\"\",IF((INDEX('RE Inconsistency Results'!$H$1:$H$500,MATCH(SUBSTITUTE(D41,\"OR\",\"d\"),'RE Inconsistency Results'!$B$1:$B$500,0),1))-(INDEX('RE Inconsistency Results'!$F$1:$F$500,MATCH(SUBSTITUTE(D41,\"OR\",\"d\"),'RE Inconsistency Results'!$B$1:$B$500,0),1))>50,\"N/A\",EXP(INDEX('RE Inconsistency Results'!$G$1:$G$500,MATCH(SUBSTITUTE(D41,\"OR\",\"d\"),'RE Inconsistency Results'!$B$1:$B$500,0),1))))","v":""}]
[null,null,null,{"$f":"IF('Fixed Effects'!N42=\"\",\"\",'Fixed Effects'!N42)","v":""},{"$f":"IF('Fixed Effects'!O42=\"\",\"\",'Fixed Effects'!O42)","v":""},{"$f":"IF('Fixed Effects'!Q42=\"\",\"\",'Fixed Effects'!Q42)","v":""},{"$f":"IF(D42=\"\",\"\",IF((INDEX('FE Inconsistency Results'!$H$1:$H$500,MATCH(SUBSTITUTE(D42,\"OR\",\"d\"),'FE Inconsistency Results'!$B$1:$B$500,0),1))-(INDEX('FE Inconsistency Results'!$F$1:$F$500,MATCH(SUBSTITUTE(D42,\"OR\",\"d\"),'FE Inconsistency Results'!$B$1:$B$500,0),1))>50,\"N/A\",EXP(INDEX('FE Inconsistency Results'!$G$1:$G$500,MATCH(SUBSTITUTE(D42,\"OR\",\"d\"),'FE Inconsistency Results'!$B$1:$B$500,0),1))))","v":""},null,{"$f":"IF(INDIRECT(CONCATENATE(\"'\",'Inconsistency Data'!$I$4,\"'!N42\"))=\"\",\"\",INDIRECT(CONCATENATE(\"'\",'Inconsistency Data'!$I$4,\"'!N42\")))","v":""},{"$f":"IF(INDIRECT(CONCATENATE(\"'\",'Inconsistency Data'!$I$4,\"'!O42\"))=\"\",\"\",INDIRECT(CONCATENATE(\"'\",'Inconsistency Data'!$I$4,\"'!O42\")))","v":""},{"$f":"IF(INDIRECT(CONCATENATE(\"'\",'Inconsistency Data'!$I$4,\"'!Q42\"))=\"\",\"\",INDIRECT(CONCATENATE(\"'\",'Inconsistency Data'!$I$4,\"'!Q42\")))","v":""},{"$f":"IF(D42=\"\",\"\",IF((INDEX('RE Inconsistency Results'!$H$1:$H$500,MATCH(SUBSTITUTE(D42,\"OR\",\"d\"),'RE Inconsistency Results'!$B$1:$B$500,0),1))-(INDEX('RE Inconsistency Results'!$F$1:$F$500,MATCH(SUBSTITUTE(D42,\"OR\",\"d\"),'RE Inconsistency Results'!$B$1:$B$500,0),1))>50,\"N/A\",EXP(INDEX('RE Inconsistency Results'!$G$1:$G$500,MATCH(SUBSTITUTE(D42,\"OR\",\"d\"),'RE Inconsistency Results'!$B$1:$B$500,0),1))))","v":""}]
[null,null,null,{"$f":"IF('Fixed Effects'!N43=\"\",\"\",'Fixed Effects'!N43)","v":""},{"$f":"IF('Fixed Effects'!O43=\"\",\"\",'Fixed Effects'!O43)","v":""},{"$f":"IF('Fixed Effects'!Q43=\"\",\"\",'Fixed Effects'!Q43)","v":""},{"$f":"IF(D43=\"\",\"\",IF((INDEX('FE Inconsistency Results'!$H$1:$H$500,MATCH(SUBSTITUTE(D43,\"OR\",\"d\"),'FE Inconsistency Results'!$B$1:$B$500,0),1))-(INDEX('FE Inconsistency Results'!$F$1:$F$500,MATCH(SUBSTITUTE(D43,\"OR\",\"d\"),'FE Inconsistency Results'!$B$1:$B$500,0),1))>50,\"N/A\",EXP(INDEX('FE Inconsistency Results'!$G$1:$G$500,MATCH(SUBSTITUTE(D43,\"OR\",\"d\"),'FE Inconsistency Results'!$B$1:$B$500,0),1))))","v":""},null,{"$f":"IF(INDIRECT(CONCATENATE(\"'\",'Inconsistency Data'!$I$4,\"'!N43\"))=\"\",\"\",INDIRECT(CONCATENATE(\"'\",'Inconsistency Data'!$I$4,\"'!N43\")))","v":""},{"$f":"IF(INDIRECT(CONCATENATE(\"'\",'Inconsistency Data'!$I$4,\"'!O43\"))=\"\",\"\",INDIRECT(CONCATENATE(\"'\",'Inconsistency Data'!$I$4,\"'!O43\")))","v":""},{"$f":"IF(INDIRECT(CONCATENATE(\"'\",'Inconsistency Data'!$I$4,\"'!Q43\"))=\"\",\"\",INDIRECT(CONCATENATE(\"'\",'Inconsistency Data'!$I$4,\"'!Q43\")))","v":""},{"$f":"IF(D43=\"\",\"\",IF((INDEX('RE Inconsistency Results'!$H$1:$H$500,MATCH(SUBSTITUTE(D43,\"OR\",\"d\"),'RE Inconsistency Results'!$B$1:$B$500,0),1))-(INDEX('RE Inconsistency Results'!$F$1:$F$500,MATCH(SUBSTITUTE(D43,\"OR\",\"d\"),'RE Inconsistency Results'!$B$1:$B$500,0),1))>50,\"N/A\",EXP(INDEX('RE Inconsistency Results'!$G$1:$G$500,MATCH(SUBSTITUTE(D43,\"OR\",\"d\"),'RE Inconsistency Results'!$B$1:$B$500,0),1))))","v":""}]
[null,null,null,{"$f":"IF('Fixed Effects'!N44=\"\",\"\",'Fixed Effects'!N44)","v":""},{"$f":"IF('Fixed Effects'!O44=\"\",\"\",'Fixed Effects'!O44)","v":""},{"$f":"IF('Fixed Effects'!Q44=\"\",\"\",'Fixed Effects'!Q44)","v":""},{"$f":"IF(D44=\"\",\"\",IF((INDEX('FE Inconsistency Results'!$H$1:$H$500,MATCH(SUBSTITUTE(D44,\"OR\",\"d\"),'FE Inconsistency Results'!$B$1:$B$500,0),1))-(INDEX('FE Inconsistency Results'!$F$1:$F$500,MATCH(SUBSTITUTE(D44,\"OR\",\"d\"),'FE Inconsistency Results'!$B$1:$B$500,0),1))>50,\"N/A\",EXP(INDEX('FE Inconsistency Results'!$G$1:$G$500,MATCH(SUBSTITUTE(D44,\"OR\",\"d\"),'FE Inconsistency Results'!$B$1:$B$500,0),1))))","v":""},null,{"$f":"IF(INDIRECT(CONCATENATE(\"'\",'Inconsistency Data'!$I$4,\"'!N44\"))=\"\",\"\",INDIRECT(CONCATENATE(\"'\",'Inconsistency Data'!$I$4,\"'!N44\")))","v":""},{"$f":"IF(INDIRECT(CONCATENATE(\"'\",'Inconsistency Data'!$I$4,\"'!O44\"))=\"\",\"\",INDIRECT(CONCATENATE(\"'\",'Inconsistency Data'!$I$4,\"'!O44\")))","v":""},{"$f":"IF(INDIRECT(CONCATENATE(\"'\",'Inconsistency Data'!$I$4,\"'!Q44\"))=\"\",\"\",INDIRECT(CONCATENATE(\"'\",'Inconsistency Data'!$I$4,\"'!Q44\")))","v":""},{"$f":"IF(D44=\"\",\"\",IF((INDEX('RE Inconsistency Results'!$H$1:$H$500,MATCH(SUBSTITUTE(D44,\"OR\",\"d\"),'RE Inconsistency Results'!$B$1:$B$500,0),1))-(INDEX('RE Inconsistency Results'!$F$1:$F$500,MATCH(SUBSTITUTE(D44,\"OR\",\"d\"),'RE Inconsistency Results'!$B$1:$B$500,0),1))>50,\"N/A\",EXP(INDEX('RE Inconsistency Results'!$G$1:$G$500,MATCH(SUBSTITUTE(D44,\"OR\",\"d\"),'RE Inconsistency Results'!$B$1:$B$500,0),1))))","v":""}]
[null,null,null,{"$f":"IF('Fixed Effects'!N45=\"\",\"\",'Fixed Effects'!N45)","v":""},{"$f":"IF('Fixed Effects'!O45=\"\",\"\",'Fixed Effects'!O45)","v":""},{"$f":"IF('Fixed Effects'!Q45=\"\",\"\",'Fixed Effects'!Q45)","v":""},{"$f":"IF(D45=\"\",\"\",IF((INDEX('FE Inconsistency Results'!$H$1:$H$500,MATCH(SUBSTITUTE(D45,\"OR\",\"d\"),'FE Inconsistency Results'!$B$1:$B$500,0),1))-(INDEX('FE Inconsistency Results'!$F$1:$F$500,MATCH(SUBSTITUTE(D45,\"OR\",\"d\"),'FE Inconsistency Results'!$B$1:$B$500,0),1))>50,\"N/A\",EXP(INDEX('FE Inconsistency Results'!$G$1:$G$500,MATCH(SUBSTITUTE(D45,\"OR\",\"d\"),'FE Inconsistency Results'!$B$1:$B$500,0),1))))","v":""},null,{"$f":"IF(INDIRECT(CONCATENATE(\"'\",'Inconsistency Data'!$I$4,\"'!N45\"))=\"\",\"\",INDIRECT(CONCATENATE(\"'\",'Inconsistency Data'!$I$4,\"'!N45\")))","v":""},{"$f":"IF(INDIRECT(CONCATENATE(\"'\",'Inconsistency Data'!$I$4,\"'!O45\"))=\"\",\"\",INDIRECT(CONCATENATE(\"'\",'Inconsistency Data'!$I$4,\"'!O45\")))","v":""},{"$f":"IF(INDIRECT(CONCATENATE(\"'\",'Inconsistency Data'!$I$4,\"'!Q45\"))=\"\",\"\",INDIRECT(CONCATENATE(\"'\",'Inconsistency Data'!$I$4,\"'!Q45\")))","v":""},{"$f":"IF(D45=\"\",\"\",IF((INDEX('RE Inconsistency Results'!$H$1:$H$500,MATCH(SUBSTITUTE(D45,\"OR\",\"d\"),'RE Inconsistency Results'!$B$1:$B$500,0),1))-(INDEX('RE Inconsistency Results'!$F$1:$F$500,MATCH(SUBSTITUTE(D45,\"OR\",\"d\"),'RE Inconsistency Results'!$B$1:$B$500,0),1))>50,\"N/A\",EXP(INDEX('RE Inconsistency Results'!$G$1:$G$500,MATCH(SUBSTITUTE(D45,\"OR\",\"d\"),'RE Inconsistency Results'!$B$1:$B$500,0),1))))","v":""}]
[null,null,null,{"$f":"IF('Fixed Effects'!N46=\"\",\"\",'Fixed Effects'!N46)","v":""},{"$f":"IF('Fixed Effects'!O46=\"\",\"\",'Fixed Effects'!O46)","v":""},{"$f":"IF('Fixed Effects'!Q46=\"\",\"\",'Fixed Effects'!Q46)","v":""},{"$f":"IF(D46=\"\",\"\",IF((INDEX('FE Inconsistency Results'!$H$1:$H$500,MATCH(SUBSTITUTE(D46,\"OR\",\"d\"),'FE Inconsistency Results'!$B$1:$B$500,0),1))-(INDEX('FE Inconsistency Results'!$F$1:$F$500,MATCH(SUBSTITUTE(D46,\"OR\",\"d\"),'FE Inconsistency Results'!$B$1:$B$500,0),1))>50,\"N/A\",EXP(INDEX('FE Inconsistency Results'!$G$1:$G$500,MATCH(SUBSTITUTE(D46,\"OR\",\"d\"),'FE Inconsistency Results'!$B$1:$B$500,0),1))))","v":""},null,{"$f":"IF(INDIRECT(CONCATENATE(\"'\",'Inconsistency Data'!$I$4,\"'!N46\"))=\"\",\"\",INDIRECT(CONCATENATE(\"'\",'Inconsistency Data'!$I$4,\"'!N46\")))","v":""},{"$f":"IF(INDIRECT(CONCATENATE(\"'\",'Inconsistency Data'!$I$4,\"'!O46\"))=\"\",\"\",INDIRECT(CONCATENATE(\"'\",'Inconsistency Data'!$I$4,\"'!O46\")))","v":""},{"$f":"IF(INDIRECT(CONCATENATE(\"'\",'Inconsistency Data'!$I$4,\"'!Q46\"))=\"\",\"\",INDIRECT(CONCATENATE(\"'\",'Inconsistency Data'!$I$4,\"'!Q46\")))","v":""},{"$f":"IF(D46=\"\",\"\",IF((INDEX('RE Inconsistency Results'!$H$1:$H$500,MATCH(SUBSTITUTE(D46,\"OR\",\"d\"),'RE Inconsistency Results'!$B$1:$B$500,0),1))-(INDEX('RE Inconsistency Results'!$F$1:$F$500,MATCH(SUBSTITUTE(D46,\"OR\",\"d\"),'RE Inconsistency Results'!$B$1:$B$500,0),1))>50,\"N/A\",EXP(INDEX('RE Inconsistency Results'!$G$1:$G$500,MATCH(SUBSTITUTE(D46,\"OR\",\"d\"),'RE Inconsistency Results'!$B$1:$B$500,0),1))))","v":""}]
[null,null,null,{"$f":"IF('Fixed Effects'!N47=\"\",\"\",'Fixed Effects'!N47)","v":""},{"$f":"IF('Fixed Effects'!O47=\"\",\"\",'Fixed Effects'!O47)","v":""},{"$f":"IF('Fixed Effects'!Q47=\"\",\"\",'Fixed Effects'!Q47)","v":""},{"$f":"IF(D47=\"\",\"\",IF((INDEX('FE Inconsistency Results'!$H$1:$H$500,MATCH(SUBSTITUTE(D47,\"OR\",\"d\"),'FE Inconsistency Results'!$B$1:$B$500,0),1))-(INDEX('FE Inconsistency Results'!$F$1:$F$500,MATCH(SUBSTITUTE(D47,\"OR\",\"d\"),'FE Inconsistency Results'!$B$1:$B$500,0),1))>50,\"N/A\",EXP(INDEX('FE Inconsistency Results'!$G$1:$G$500,MATCH(SUBSTITUTE(D47,\"OR\",\"d\"),'FE Inconsistency Results'!$B$1:$B$500,0),1))))","v":""},null,{"$f":"IF(INDIRECT(CONCATENATE(\"'\",'Inconsistency Data'!$I$4,\"'!N47\"))=\"\",\"\",INDIRECT(CONCATENATE(\"'\",'Inconsistency Data'!$I$4,\"'!N47\")))","v":""},{"$f":"IF(INDIRECT(CONCATENATE(\"'\",'Inconsistency Data'!$I$4,\"'!O47\"))=\"\",\"\",INDIRECT(CONCATENATE(\"'\",'Inconsistency Data'!$I$4,\"'!O47\")))","v":""},{"$f":"IF(INDIRECT(CONCATENATE(\"'\",'Inconsistency Data'!$I$4,\"'!Q47\"))=\"\",\"\",INDIRECT(CONCATENATE(\"'\",'Inconsistency Data'!$I$4,\"'!Q47\")))","v":""},{"$f":"IF(D47=\"\",\"\",IF((INDEX('RE Inconsistency Results'!$H$1:$H$500,MATCH(SUBSTITUTE(D47,\"OR\",\"d\"),'RE Inconsistency Results'!$B$1:$B$500,0),1))-(INDEX('RE Inconsistency Results'!$F$1:$F$500,MATCH(SUBSTITUTE(D47,\"OR\",\"d\"),'RE Inconsistency Results'!$B$1:$B$500,0),1))>50,\"N/A\",EXP(INDEX('RE Inconsistency Results'!$G$1:$G$500,MATCH(SUBSTITUTE(D47,\"OR\",\"d\"),'RE Inconsistency Results'!$B$1:$B$500,0),1))))","v":""}]
[null,null,null,{"$f":"IF('Fixed Effects'!N48=\"\",\"\",'Fixed Effects'!N48)","v":""},{"$f":"IF('Fixed Effects'!O48=\"\",\"\",'Fixed Effects'!O48)","v":""},{"$f":"IF('Fixed Effects'!Q48=\"\",\"\",'Fixed Effects'!Q48)","v":""},{"$f":"IF(D48=\"\",\"\",IF((INDEX('FE Inconsistency Results'!$H$1:$H$500,MATCH(SUBSTITUTE(D48,\"OR\",\"d\"),'FE Inconsistency Results'!$B$1:$B$500,0),1))-(INDEX('FE Inconsistency Results'!$F$1:$F$500,MATCH(SUBSTITUTE(D48,\"OR\",\"d\"),'FE Inconsistency Results'!$B$1:$B$500,0),1))>50,\"N/A\",EXP(INDEX('FE Inconsistency Results'!$G$1:$G$500,MATCH(SUBSTITUTE(D48,\"OR\",\"d\"),'FE Inconsistency Results'!$B$1:$B$500,0),1))))","v":""},null,{"$f":"IF(INDIRECT(CONCATENATE(\"'\",'Inconsistency Data'!$I$4,\"'!N48\"))=\"\",\"\",INDIRECT(CONCATENATE(\"'\",'Inconsistency Data'!$I$4,\"'!N48\")))","v":""},{"$f":"IF(INDIRECT(CONCATENATE(\"'\",'Inconsistency Data'!$I$4,\"'!O48\"))=\"\",\"\",INDIRECT(CONCATENATE(\"'\",'Inconsistency Data'!$I$4,\"'!O48\")))","v":""},{"$f":"IF(INDIRECT(CONCATENATE(\"'\",'Inconsistency Data'!$I$4,\"'!Q48\"))=\"\",\"\",INDIRECT(CONCATENATE(\"'\",'Inconsistency Data'!$I$4,\"'!Q48\")))","v":""},{"$f":"IF(D48=\"\",\"\",IF((INDEX('RE Inconsistency Results'!$H$1:$H$500,MATCH(SUBSTITUTE(D48,\"OR\",\"d\"),'RE Inconsistency Results'!$B$1:$B$500,0),1))-(INDEX('RE Inconsistency Results'!$F$1:$F$500,MATCH(SUBSTITUTE(D48,\"OR\",\"d\"),'RE Inconsistency Results'!$B$1:$B$500,0),1))>50,\"N/A\",EXP(INDEX('RE Inconsistency Results'!$G$1:$G$500,MATCH(SUBSTITUTE(D48,\"OR\",\"d\"),'RE Inconsistency Results'!$B$1:$B$500,0),1))))","v":""}]
[null,null,null,{"$f":"IF('Fixed Effects'!N49=\"\",\"\",'Fixed Effects'!N49)","v":""},{"$f":"IF('Fixed Effects'!O49=\"\",\"\",'Fixed Effects'!O49)","v":""},{"$f":"IF('Fixed Effects'!Q49=\"\",\"\",'Fixed Effects'!Q49)","v":""},{"$f":"IF(D49=\"\",\"\",IF((INDEX('FE Inconsistency Results'!$H$1:$H$500,MATCH(SUBSTITUTE(D49,\"OR\",\"d\"),'FE Inconsistency Results'!$B$1:$B$500,0),1))-(INDEX('FE Inconsistency Results'!$F$1:$F$500,MATCH(SUBSTITUTE(D49,\"OR\",\"d\"),'FE Inconsistency Results'!$B$1:$B$500,0),1))>50,\"N/A\",EXP(INDEX('FE Inconsistency Results'!$G$1:$G$500,MATCH(SUBSTITUTE(D49,\"OR\",\"d\"),'FE Inconsistency Results'!$B$1:$B$500,0),1))))","v":""},null,{"$f":"IF(INDIRECT(CONCATENATE(\"'\",'Inconsistency Data'!$I$4,\"'!N49\"))=\"\",\"\",INDIRECT(CONCATENATE(\"'\",'Inconsistency Data'!$I$4,\"'!N49\")))","v":""},{"$f":"IF(INDIRECT(CONCATENATE(\"'\",'Inconsistency Data'!$I$4,\"'!O49\"))=\"\",\"\",INDIRECT(CONCATENATE(\"'\",'Inconsistency Data'!$I$4,\"'!O49\")))","v":""},{"$f":"IF(INDIRECT(CONCATENATE(\"'\",'Inconsistency Data'!$I$4,\"'!Q49\"))=\"\",\"\",INDIRECT(CONCATENATE(\"'\",'Inconsistency Data'!$I$4,\"'!Q49\")))","v":""},{"$f":"IF(D49=\"\",\"\",IF((INDEX('RE Inconsistency Results'!$H$1:$H$500,MATCH(SUBSTITUTE(D49,\"OR\",\"d\"),'RE Inconsistency Results'!$B$1:$B$500,0),1))-(INDEX('RE Inconsistency Results'!$F$1:$F$500,MATCH(SUBSTITUTE(D49,\"OR\",\"d\"),'RE Inconsistency Results'!$B$1:$B$500,0),1))>50,\"N/A\",EXP(INDEX('RE Inconsistency Results'!$G$1:$G$500,MATCH(SUBSTITUTE(D49,\"OR\",\"d\"),'RE Inconsistency Results'!$B$1:$B$500,0),1))))","v":""}]
[null,null,null,{"$f":"IF('Fixed Effects'!N50=\"\",\"\",'Fixed Effects'!N50)","v":""},{"$f":"IF('Fixed Effects'!O50=\"\",\"\",'Fixed Effects'!O50)","v":""},{"$f":"IF('Fixed Effects'!Q50=\"\",\"\",'Fixed Effects'!Q50)","v":""},{"$f":"IF(D50=\"\",\"\",IF((INDEX('FE Inconsistency Results'!$H$1:$H$500,MATCH(SUBSTITUTE(D50,\"OR\",\"d\"),'FE Inconsistency Results'!$B$1:$B$500,0),1))-(INDEX('FE Inconsistency Results'!$F$1:$F$500,MATCH(SUBSTITUTE(D50,\"OR\",\"d\"),'FE Inconsistency Results'!$B$1:$B$500,0),1))>50,\"N/A\",EXP(INDEX('FE Inconsistency Results'!$G$1:$G$500,MATCH(SUBSTITUTE(D50,\"OR\",\"d\"),'FE Inconsistency Results'!$B$1:$B$500,0),1))))","v":""},null,{"$f":"IF(INDIRECT(CONCATENATE(\"'\",'Inconsistency Data'!$I$4,\"'!N50\"))=\"\",\"\",INDIRECT(CONCATENATE(\"'\",'Inconsistency Data'!$I$4,\"'!N50\")))","v":""},{"$f":"IF(INDIRECT(CONCATENATE(\"'\",'Inconsistency Data'!$I$4,\"'!O50\"))=\"\",\"\",INDIRECT(CONCATENATE(\"'\",'Inconsistency Data'!$I$4,\"'!O50\")))","v":""},{"$f":"IF(INDIRECT(CONCATENATE(\"'\",'Inconsistency Data'!$I$4,\"'!Q50\"))=\"\",\"\",INDIRECT(CONCATENATE(\"'\",'Inconsistency Data'!$I$4,\"'!Q50\")))","v":""},{"$f":"IF(D50=\"\",\"\",IF((INDEX('RE Inconsistency Results'!$H$1:$H$500,MATCH(SUBSTITUTE(D50,\"OR\",\"d\"),'RE Inconsistency Results'!$B$1:$B$500,0),1))-(INDEX('RE Inconsistency Results'!$F$1:$F$500,MATCH(SUBSTITUTE(D50,\"OR\",\"d\"),'RE Inconsistency Results'!$B$1:$B$500,0),1))>50,\"N/A\",EXP(INDEX('RE Inconsistency Results'!$G$1:$G$500,MATCH(SUBSTITUTE(D50,\"OR\",\"d\"),'RE Inconsistency Results'!$B$1:$B$500,0),1))))","v":""}]
[null,null,null,{"$f":"IF('Fixed Effects'!N51=\"\",\"\",'Fixed Effects'!N51)","v":""},{"$f":"IF('Fixed Effects'!O51=\"\",\"\",'Fixed Effects'!O51)","v":""},{"$f":"IF('Fixed Effects'!Q51=\"\",\"\",'Fixed Effects'!Q51)","v":""},{"$f":"IF(D51=\"\",\"\",IF((INDEX('FE Inconsistency Results'!$H$1:$H$500,MATCH(SUBSTITUTE(D51,\"OR\",\"d\"),'FE Inconsistency Results'!$B$1:$B$500,0),1))-(INDEX('FE Inconsistency Results'!$F$1:$F$500,MATCH(SUBSTITUTE(D51,\"OR\",\"d\"),'FE Inconsistency Results'!$B$1:$B$500,0),1))>50,\"N/A\",EXP(INDEX('FE Inconsistency Results'!$G$1:$G$500,MATCH(SUBSTITUTE(D51,\"OR\",\"d\"),'FE Inconsistency Results'!$B$1:$B$500,0),1))))","v":""},null,{"$f":"IF(INDIRECT(CONCATENATE(\"'\",'Inconsistency Data'!$I$4,\"'!N51\"))=\"\",\"\",INDIRECT(CONCATENATE(\"'\",'Inconsistency Data'!$I$4,\"'!N51\")))","v":""},{"$f":"IF(INDIRECT(CONCATENATE(\"'\",'Inconsistency Data'!$I$4,\"'!O51\"))=\"\",\"\",INDIRECT(CONCATENATE(\"'\",'Inconsistency Data'!$I$4,\"'!O51\")))","v":""},{"$f":"IF(INDIRECT(CONCATENATE(\"'\",'Inconsistency Data'!$I$4,\"'!Q51\"))=\"\",\"\",INDIRECT(CONCATENATE(\"'\",'Inconsistency Data'!$I$4,\"'!Q51\")))","v":""},{"$f":"IF(D51=\"\",\"\",IF((INDEX('RE Inconsistency Results'!$H$1:$H$500,MATCH(SUBSTITUTE(D51,\"OR\",\"d\"),'RE Inconsistency Results'!$B$1:$B$500,0),1))-(INDEX('RE Inconsistency Results'!$F$1:$F$500,MATCH(SUBSTITUTE(D51,\"OR\",\"d\"),'RE Inconsistency Results'!$B$1:$B$500,0),1))>50,\"N/A\",EXP(INDEX('RE Inconsistency Results'!$G$1:$G$500,MATCH(SUBSTITUTE(D51,\"OR\",\"d\"),'RE Inconsistency Results'!$B$1:$B$500,0),1))))","v":""}]
[null,null,null,{"$f":"IF('Fixed Effects'!N52=\"\",\"\",'Fixed Effects'!N52)","v":""},{"$f":"IF('Fixed Effects'!O52=\"\",\"\",'Fixed Effects'!O52)","v":""},{"$f":"IF('Fixed Effects'!Q52=\"\",\"\",'Fixed Effects'!Q52)","v":""},{"$f":"IF(D52=\"\",\"\",IF((INDEX('FE Inconsistency Results'!$H$1:$H$500,MATCH(SUBSTITUTE(D52,\"OR\",\"d\"),'FE Inconsistency Results'!$B$1:$B$500,0),1))-(INDEX('FE Inconsistency Results'!$F$1:$F$500,MATCH(SUBSTITUTE(D52,\"OR\",\"d\"),'FE Inconsistency Results'!$B$1:$B$500,0),1))>50,\"N/A\",EXP(INDEX('FE Inconsistency Results'!$G$1:$G$500,MATCH(SUBSTITUTE(D52,\"OR\",\"d\"),'FE Inconsistency Results'!$B$1:$B$500,0),1))))","v":""},null,{"$f":"IF(INDIRECT(CONCATENATE(\"'\",'Inconsistency Data'!$I$4,\"'!N52\"))=\"\",\"\",INDIRECT(CONCATENATE(\"'\",'Inconsistency Data'!$I$4,\"'!N52\")))","v":""},{"$f":"IF(INDIRECT(CONCATENATE(\"'\",'Inconsistency Data'!$I$4,\"'!O52\"))=\"\",\"\",INDIRECT(CONCATENATE(\"'\",'Inconsistency Data'!$I$4,\"'!O52\")))","v":""},{"$f":"IF(INDIRECT(CONCATENATE(\"'\",'Inconsistency Data'!$I$4,\"'!Q52\"))=\"\",\"\",INDIRECT(CONCATENATE(\"'\",'Inconsistency Data'!$I$4,\"'!Q52\")))","v":""},{"$f":"IF(D52=\"\",\"\",IF((INDEX('RE Inconsistency Results'!$H$1:$H$500,MATCH(SUBSTITUTE(D52,\"OR\",\"d\"),'RE Inconsistency Results'!$B$1:$B$500,0),1))-(INDEX('RE Inconsistency Results'!$F$1:$F$500,MATCH(SUBSTITUTE(D52,\"OR\",\"d\"),'RE Inconsistency Results'!$B$1:$B$500,0),1))>50,\"N/A\",EXP(INDEX('RE Inconsistency Results'!$G$1:$G$500,MATCH(SUBSTITUTE(D52,\"OR\",\"d\"),'RE Inconsistency Results'!$B$1:$B$500,0),1))))","v":""}]
[null,null,null,{"$f":"IF('Fixed Effects'!N53=\"\",\"\",'Fixed Effects'!N53)","v":""},{"$f":"IF('Fixed Effects'!O53=\"\",\"\",'Fixed Effects'!O53)","v":""},{"$f":"IF('Fixed Effects'!Q53=\"\",\"\",'Fixed Effects'!Q53)","v":""},{"$f":"IF(D53=\"\",\"\",IF((INDEX('FE Inconsistency Results'!$H$1:$H$500,MATCH(SUBSTITUTE(D53,\"OR\",\"d\"),'FE Inconsistency Results'!$B$1:$B$500,0),1))-(INDEX('FE Inconsistency Results'!$F$1:$F$500,MATCH(SUBSTITUTE(D53,\"OR\",\"d\"),'FE Inconsistency Results'!$B$1:$B$500,0),1))>50,\"N/A\",EXP(INDEX('FE Inconsistency Results'!$G$1:$G$500,MATCH(SUBSTITUTE(D53,\"OR\",\"d\"),'FE Inconsistency Results'!$B$1:$B$500,0),1))))","v":""},null,{"$f":"IF(INDIRECT(CONCATENATE(\"'\",'Inconsistency Data'!$I$4,\"'!N53\"))=\"\",\"\",INDIRECT(CONCATENATE(\"'\",'Inconsistency Data'!$I$4,\"'!N53\")))","v":""},{"$f":"IF(INDIRECT(CONCATENATE(\"'\",'Inconsistency Data'!$I$4,\"'!O53\"))=\"\",\"\",INDIRECT(CONCATENATE(\"'\",'Inconsistency Data'!$I$4,\"'!O53\")))","v":""},{"$f":"IF(INDIRECT(CONCATENATE(\"'\",'Inconsistency Data'!$I$4,\"'!Q53\"))=\"\",\"\",INDIRECT(CONCATENATE(\"'\",'Inconsistency Data'!$I$4,\"'!Q53\")))","v":""},{"$f":"IF(D53=\"\",\"\",IF((INDEX('RE Inconsistency Results'!$H$1:$H$500,MATCH(SUBSTITUTE(D53,\"OR\",\"d\"),'RE Inconsistency Results'!$B$1:$B$500,0),1))-(INDEX('RE Inconsistency Results'!$F$1:$F$500,MATCH(SUBSTITUTE(D53,\"OR\",\"d\"),'RE Inconsistency Results'!$B$1:$B$500,0),1))>50,\"N/A\",EXP(INDEX('RE Inconsistency Results'!$G$1:$G$500,MATCH(SUBSTITUTE(D53,\"OR\",\"d\"),'RE Inconsistency Results'!$B$1:$B$500,0),1))))","v":""}]
[null,null,null,{"$f":"IF('Fixed Effects'!N54=\"\",\"\",'Fixed Effects'!N54)","v":""},{"$f":"IF('Fixed Effects'!O54=\"\",\"\",'Fixed Effects'!O54)","v":""},{"$f":"IF('Fixed Effects'!Q54=\"\",\"\",'Fixed Effects'!Q54)","v":""},{"$f":"IF(D54=\"\",\"\",IF((INDEX('FE Inconsistency Results'!$H$1:$H$500,MATCH(SUBSTITUTE(D54,\"OR\",\"d\"),'FE Inconsistency Results'!$B$1:$B$500,0),1))-(INDEX('FE Inconsistency Results'!$F$1:$F$500,MATCH(SUBSTITUTE(D54,\"OR\",\"d\"),'FE Inconsistency Results'!$B$1:$B$500,0),1))>50,\"N/A\",EXP(INDEX('FE Inconsistency Results'!$G$1:$G$500,MATCH(SUBSTITUTE(D54,\"OR\",\"d\"),'FE Inconsistency Results'!$B$1:$B$500,0),1))))","v":""},null,{"$f":"IF(INDIRECT(CONCATENATE(\"'\",'Inconsistency Data'!$I$4,\"'!N54\"))=\"\",\"\",INDIRECT(CONCATENATE(\"'\",'Inconsistency Data'!$I$4,\"'!N54\")))","v":""},{"$f":"IF(INDIRECT(CONCATENATE(\"'\",'Inconsistency Data'!$I$4,\"'!O54\"))=\"\",\"\",INDIRECT(CONCATENATE(\"'\",'Inconsistency Data'!$I$4,\"'!O54\")))","v":""},{"$f":"IF(INDIRECT(CONCATENATE(\"'\",'Inconsistency Data'!$I$4,\"'!Q54\"))=\"\",\"\",INDIRECT(CONCATENATE(\"'\",'Inconsistency Data'!$I$4,\"'!Q54\")))","v":""},{"$f":"IF(D54=\"\",\"\",IF((INDEX('RE Inconsistency Results'!$H$1:$H$500,MATCH(SUBSTITUTE(D54,\"OR\",\"d\"),'RE Inconsistency Results'!$B$1:$B$500,0),1))-(INDEX('RE Inconsistency Results'!$F$1:$F$500,MATCH(SUBSTITUTE(D54,\"OR\",\"d\"),'RE Inconsistency Results'!$B$1:$B$500,0),1))>50,\"N/A\",EXP(INDEX('RE Inconsistency Results'!$G$1:$G$500,MATCH(SUBSTITUTE(D54,\"OR\",\"d\"),'RE Inconsistency Results'!$B$1:$B$500,0),1))))","v":""}]
[null,null,null,{"$f":"IF('Fixed Effects'!N55=\"\",\"\",'Fixed Effects'!N55)","v":""},{"$f":"IF('Fixed Effects'!O55=\"\",\"\",'Fixed Effects'!O55)","v":""},{"$f":"IF('Fixed Effects'!Q55=\"\",\"\",'Fixed Effects'!Q55)","v":""},{"$f":"IF(D55=\"\",\"\",IF((INDEX('FE Inconsistency Results'!$H$1:$H$500,MATCH(SUBSTITUTE(D55,\"OR\",\"d\"),'FE Inconsistency Results'!$B$1:$B$500,0),1))-(INDEX('FE Inconsistency Results'!$F$1:$F$500,MATCH(SUBSTITUTE(D55,\"OR\",\"d\"),'FE Inconsistency Results'!$B$1:$B$500,0),1))>50,\"N/A\",EXP(INDEX('FE Inconsistency Results'!$G$1:$G$500,MATCH(SUBSTITUTE(D55,\"OR\",\"d\"),'FE Inconsistency Results'!$B$1:$B$500,0),1))))","v":""},null,{"$f":"IF(INDIRECT(CONCATENATE(\"'\",'Inconsistency Data'!$I$4,\"'!N55\"))=\"\",\"\",INDIRECT(CONCATENATE(\"'\",'Inconsistency Data'!$I$4,\"'!N55\")))","v":""},{"$f":"IF(INDIRECT(CONCATENATE(\"'\",'Inconsistency Data'!$I$4,\"'!O55\"))=\"\",\"\",INDIRECT(CONCATENATE(\"'\",'Inconsistency Data'!$I$4,\"'!O55\")))","v":""},{"$f":"IF(INDIRECT(CONCATENATE(\"'\",'Inconsistency Data'!$I$4,\"'!Q55\"))=\"\",\"\",INDIRECT(CONCATENATE(\"'\",'Inconsistency Data'!$I$4,\"'!Q55\")))","v":""},{"$f":"IF(D55=\"\",\"\",IF((INDEX('RE Inconsistency Results'!$H$1:$H$500,MATCH(SUBSTITUTE(D55,\"OR\",\"d\"),'RE Inconsistency Results'!$B$1:$B$500,0),1))-(INDEX('RE Inconsistency Results'!$F$1:$F$500,MATCH(SUBSTITUTE(D55,\"OR\",\"d\"),'RE Inconsistency Results'!$B$1:$B$500,0),1))>50,\"N/A\",EXP(INDEX('RE Inconsistency Results'!$G$1:$G$500,MATCH(SUBSTITUTE(D55,\"OR\",\"d\"),'RE Inconsistency Results'!$B$1:$B$500,0),1))))","v":""}]
[null,null,null,{"$f":"IF('Fixed Effects'!N56=\"\",\"\",'Fixed Effects'!N56)","v":""},{"$f":"IF('Fixed Effects'!O56=\"\",\"\",'Fixed Effects'!O56)","v":""},{"$f":"IF('Fixed Effects'!Q56=\"\",\"\",'Fixed Effects'!Q56)","v":""},{"$f":"IF(D56=\"\",\"\",IF((INDEX('FE Inconsistency Results'!$H$1:$H$500,MATCH(SUBSTITUTE(D56,\"OR\",\"d\"),'FE Inconsistency Results'!$B$1:$B$500,0),1))-(INDEX('FE Inconsistency Results'!$F$1:$F$500,MATCH(SUBSTITUTE(D56,\"OR\",\"d\"),'FE Inconsistency Results'!$B$1:$B$500,0),1))>50,\"N/A\",EXP(INDEX('FE Inconsistency Results'!$G$1:$G$500,MATCH(SUBSTITUTE(D56,\"OR\",\"d\"),'FE Inconsistency Results'!$B$1:$B$500,0),1))))","v":""},null,{"$f":"IF(INDIRECT(CONCATENATE(\"'\",'Inconsistency Data'!$I$4,\"'!N56\"))=\"\",\"\",INDIRECT(CONCATENATE(\"'\",'Inconsistency Data'!$I$4,\"'!N56\")))","v":""},{"$f":"IF(INDIRECT(CONCATENATE(\"'\",'Inconsistency Data'!$I$4,\"'!O56\"))=\"\",\"\",INDIRECT(CONCATENATE(\"'\",'Inconsistency Data'!$I$4,\"'!O56\")))","v":""},{"$f":"IF(INDIRECT(CONCATENATE(\"'\",'Inconsistency Data'!$I$4,\"'!Q56\"))=\"\",\"\",INDIRECT(CONCATENATE(\"'\",'Inconsistency Data'!$I$4,\"'!Q56\")))","v":""},{"$f":"IF(D56=\"\",\"\",IF((INDEX('RE Inconsistency Results'!$H$1:$H$500,MATCH(SUBSTITUTE(D56,\"OR\",\"d\"),'RE Inconsistency Results'!$B$1:$B$500,0),1))-(INDEX('RE Inconsistency Results'!$F$1:$F$500,MATCH(SUBSTITUTE(D56,\"OR\",\"d\"),'RE Inconsistency Results'!$B$1:$B$500,0),1))>50,\"N/A\",EXP(INDEX('RE Inconsistency Results'!$G$1:$G$500,MATCH(SUBSTITUTE(D56,\"OR\",\"d\"),'RE Inconsistency Results'!$B$1:$B$500,0),1))))","v":""}]
[null,null,null,{"$f":"IF('Fixed Effects'!N57=\"\",\"\",'Fixed Effects'!N57)","v":""},{"$f":"IF('Fixed Effects'!O57=\"\",\"\",'Fixed Effects'!O57)","v":""},{"$f":"IF('Fixed Effects'!Q57=\"\",\"\",'Fixed Effects'!Q57)","v":""},{"$f":"IF(D57=\"\",\"\",IF((INDEX('FE Inconsistency Results'!$H$1:$H$500,MATCH(SUBSTITUTE(D57,\"OR\",\"d\"),'FE Inconsistency Results'!$B$1:$B$500,0),1))-(INDEX('FE Inconsistency Results'!$F$1:$F$500,MATCH(SUBSTITUTE(D57,\"OR\",\"d\"),'FE Inconsistency Results'!$B$1:$B$500,0),1))>50,\"N/A\",EXP(INDEX('FE Inconsistency Results'!$G$1:$G$500,MATCH(SUBSTITUTE(D57,\"OR\",\"d\"),'FE Inconsistency Results'!$B$1:$B$500,0),1))))","v":""},null,{"$f":"IF(INDIRECT(CONCATENATE(\"'\",'Inconsistency Data'!$I$4,\"'!N57\"))=\"\",\"\",INDIRECT(CONCATENATE(\"'\",'Inconsistency Data'!$I$4,\"'!N57\")))","v":""},{"$f":"IF(INDIRECT(CONCATENATE(\"'\",'Inconsistency Data'!$I$4,\"'!O57\"))=\"\",\"\",INDIRECT(CONCATENATE(\"'\",'Inconsistency Data'!$I$4,\"'!O57\")))","v":""},{"$f":"IF(INDIRECT(CONCATENATE(\"'\",'Inconsistency Data'!$I$4,\"'!Q57\"))=\"\",\"\",INDIRECT(CONCATENATE(\"'\",'Inconsistency Data'!$I$4,\"'!Q57\")))","v":""},{"$f":"IF(D57=\"\",\"\",IF((INDEX('RE Inconsistency Results'!$H$1:$H$500,MATCH(SUBSTITUTE(D57,\"OR\",\"d\"),'RE Inconsistency Results'!$B$1:$B$500,0),1))-(INDEX('RE Inconsistency Results'!$F$1:$F$500,MATCH(SUBSTITUTE(D57,\"OR\",\"d\"),'RE Inconsistency Results'!$B$1:$B$500,0),1))>50,\"N/A\",EXP(INDEX('RE Inconsistency Results'!$G$1:$G$500,MATCH(SUBSTITUTE(D57,\"OR\",\"d\"),'RE Inconsistency Results'!$B$1:$B$500,0),1))))","v":""}]
[null,null,null,{"$f":"IF('Fixed Effects'!N58=\"\",\"\",'Fixed Effects'!N58)","v":""},{"$f":"IF('Fixed Effects'!O58=\"\",\"\",'Fixed Effects'!O58)","v":""},{"$f":"IF('Fixed Effects'!Q58=\"\",\"\",'Fixed Effects'!Q58)","v":""},{"$f":"IF(D58=\"\",\"\",IF((INDEX('FE Inconsistency Results'!$H$1:$H$500,MATCH(SUBSTITUTE(D58,\"OR\",\"d\"),'FE Inconsistency Results'!$B$1:$B$500,0),1))-(INDEX('FE Inconsistency Results'!$F$1:$F$500,MATCH(SUBSTITUTE(D58,\"OR\",\"d\"),'FE Inconsistency Results'!$B$1:$B$500,0),1))>50,\"N/A\",EXP(INDEX('FE Inconsistency Results'!$G$1:$G$500,MATCH(SUBSTITUTE(D58,\"OR\",\"d\"),'FE Inconsistency Results'!$B$1:$B$500,0),1))))","v":""},null,{"$f":"IF(INDIRECT(CONCATENATE(\"'\",'Inconsistency Data'!$I$4,\"'!N58\"))=\"\",\"\",INDIRECT(CONCATENATE(\"'\",'Inconsistency Data'!$I$4,\"'!N58\")))","v":""},{"$f":"IF(INDIRECT(CONCATENATE(\"'\",'Inconsistency Data'!$I$4,\"'!O58\"))=\"\",\"\",INDIRECT(CONCATENATE(\"'\",'Inconsistency Data'!$I$4,\"'!O58\")))","v":""},{"$f":"IF(INDIRECT(CONCATENATE(\"'\",'Inconsistency Data'!$I$4,\"'!Q58\"))=\"\",\"\",INDIRECT(CONCATENATE(\"'\",'Inconsistency Data'!$I$4,\"'!Q58\")))","v":""},{"$f":"IF(D58=\"\",\"\",IF((INDEX('RE Inconsistency Results'!$H$1:$H$500,MATCH(SUBSTITUTE(D58,\"OR\",\"d\"),'RE Inconsistency Results'!$B$1:$B$500,0),1))-(INDEX('RE Inconsistency Results'!$F$1:$F$500,MATCH(SUBSTITUTE(D58,\"OR\",\"d\"),'RE Inconsistency Results'!$B$1:$B$500,0),1))>50,\"N/A\",EXP(INDEX('RE Inconsistency Results'!$G$1:$G$500,MATCH(SUBSTITUTE(D58,\"OR\",\"d\"),'RE Inconsistency Results'!$B$1:$B$500,0),1))))","v":""}]
[null,null,null,{"$f":"IF('Fixed Effects'!N59=\"\",\"\",'Fixed Effects'!N59)","v":""},{"$f":"IF('Fixed Effects'!O59=\"\",\"\",'Fixed Effects'!O59)","v":""},{"$f":"IF('Fixed Effects'!Q59=\"\",\"\",'Fixed Effects'!Q59)","v":""},{"$f":"IF(D59=\"\",\"\",IF((INDEX('FE Inconsistency Results'!$H$1:$H$500,MATCH(SUBSTITUTE(D59,\"OR\",\"d\"),'FE Inconsistency Results'!$B$1:$B$500,0),1))-(INDEX('FE Inconsistency Results'!$F$1:$F$500,MATCH(SUBSTITUTE(D59,\"OR\",\"d\"),'FE Inconsistency Results'!$B$1:$B$500,0),1))>50,\"N/A\",EXP(INDEX('FE Inconsistency Results'!$G$1:$G$500,MATCH(SUBSTITUTE(D59,\"OR\",\"d\"),'FE Inconsistency Results'!$B$1:$B$500,0),1))))","v":""},null,{"$f":"IF(INDIRECT(CONCATENATE(\"'\",'Inconsistency Data'!$I$4,\"'!N59\"))=\"\",\"\",INDIRECT(CONCATENATE(\"'\",'Inconsistency Data'!$I$4,\"'!N59\")))","v":""},{"$f":"IF(INDIRECT(CONCATENATE(\"'\",'Inconsistency Data'!$I$4,\"'!O59\"))=\"\",\"\",INDIRECT(CONCATENATE(\"'\",'Inconsistency Data'!$I$4,\"'!O59\")))","v":""},{"$f":"IF(INDIRECT(CONCATENATE(\"'\",'Inconsistency Data'!$I$4,\"'!Q59\"))=\"\",\"\",INDIRECT(CONCATENATE(\"'\",'Inconsistency Data'!$I$4,\"'!Q59\")))","v":""},{"$f":"IF(D59=\"\",\"\",IF((INDEX('RE Inconsistency Results'!$H$1:$H$500,MATCH(SUBSTITUTE(D59,\"OR\",\"d\"),'RE Inconsistency Results'!$B$1:$B$500,0),1))-(INDEX('RE Inconsistency Results'!$F$1:$F$500,MATCH(SUBSTITUTE(D59,\"OR\",\"d\"),'RE Inconsistency Results'!$B$1:$B$500,0),1))>50,\"N/A\",EXP(INDEX('RE Inconsistency Results'!$G$1:$G$500,MATCH(SUBSTITUTE(D59,\"OR\",\"d\"),'RE Inconsistency Results'!$B$1:$B$500,0),1))))","v":""}]
[null,null,null,{"$f":"IF('Fixed Effects'!N60=\"\",\"\",'Fixed Effects'!N60)","v":""},{"$f":"IF('Fixed Effects'!O60=\"\",\"\",'Fixed Effects'!O60)","v":""},{"$f":"IF('Fixed Effects'!Q60=\"\",\"\",'Fixed Effects'!Q60)","v":""},{"$f":"IF(D60=\"\",\"\",IF((INDEX('FE Inconsistency Results'!$H$1:$H$500,MATCH(SUBSTITUTE(D60,\"OR\",\"d\"),'FE Inconsistency Results'!$B$1:$B$500,0),1))-(INDEX('FE Inconsistency Results'!$F$1:$F$500,MATCH(SUBSTITUTE(D60,\"OR\",\"d\"),'FE Inconsistency Results'!$B$1:$B$500,0),1))>50,\"N/A\",EXP(INDEX('FE Inconsistency Results'!$G$1:$G$500,MATCH(SUBSTITUTE(D60,\"OR\",\"d\"),'FE Inconsistency Results'!$B$1:$B$500,0),1))))","v":""},null,{"$f":"IF(INDIRECT(CONCATENATE(\"'\",'Inconsistency Data'!$I$4,\"'!N60\"))=\"\",\"\",INDIRECT(CONCATENATE(\"'\",'Inconsistency Data'!$I$4,\"'!N60\")))","v":""},{"$f":"IF(INDIRECT(CONCATENATE(\"'\",'Inconsistency Data'!$I$4,\"'!O60\"))=\"\",\"\",INDIRECT(CONCATENATE(\"'\",'Inconsistency Data'!$I$4,\"'!O60\")))","v":""},{"$f":"IF(INDIRECT(CONCATENATE(\"'\",'Inconsistency Data'!$I$4,\"'!Q60\"))=\"\",\"\",INDIRECT(CONCATENATE(\"'\",'Inconsistency Data'!$I$4,\"'!Q60\")))","v":""},{"$f":"IF(D60=\"\",\"\",IF((INDEX('RE Inconsistency Results'!$H$1:$H$500,MATCH(SUBSTITUTE(D60,\"OR\",\"d\"),'RE Inconsistency Results'!$B$1:$B$500,0),1))-(INDEX('RE Inconsistency Results'!$F$1:$F$500,MATCH(SUBSTITUTE(D60,\"OR\",\"d\"),'RE Inconsistency Results'!$B$1:$B$500,0),1))>50,\"N/A\",EXP(INDEX('RE Inconsistency Results'!$G$1:$G$500,MATCH(SUBSTITUTE(D60,\"OR\",\"d\"),'RE Inconsistency Results'!$B$1:$B$500,0),1))))","v":""}]
[null,null,null,{"$f":"IF('Fixed Effects'!N61=\"\",\"\",'Fixed Effects'!N61)","v":""},{"$f":"IF('Fixed Effects'!O61=\"\",\"\",'Fixed Effects'!O61)","v":""},{"$f":"IF('Fixed Effects'!Q61=\"\",\"\",'Fixed Effects'!Q61)","v":""},{"$f":"IF(D61=\"\",\"\",IF((INDEX('FE Inconsistency Results'!$H$1:$H$500,MATCH(SUBSTITUTE(D61,\"OR\",\"d\"),'FE Inconsistency Results'!$B$1:$B$500,0),1))-(INDEX('FE Inconsistency Results'!$F$1:$F$500,MATCH(SUBSTITUTE(D61,\"OR\",\"d\"),'FE Inconsistency Results'!$B$1:$B$500,0),1))>50,\"N/A\",EXP(INDEX('FE Inconsistency Results'!$G$1:$G$500,MATCH(SUBSTITUTE(D61,\"OR\",\"d\"),'FE Inconsistency Results'!$B$1:$B$500,0),1))))","v":""},null,{"$f":"IF(INDIRECT(CONCATENATE(\"'\",'Inconsistency Data'!$I$4,\"'!N61\"))=\"\",\"\",INDIRECT(CONCATENATE(\"'\",'Inconsistency Data'!$I$4,\"'!N61\")))","v":""},{"$f":"IF(INDIRECT(CONCATENATE(\"'\",'Inconsistency Data'!$I$4,\"'!O61\"))=\"\",\"\",INDIRECT(CONCATENATE(\"'\",'Inconsistency Data'!$I$4,\"'!O61\")))","v":""},{"$f":"IF(INDIRECT(CONCATENATE(\"'\",'Inconsistency Data'!$I$4,\"'!Q61\"))=\"\",\"\",INDIRECT(CONCATENATE(\"'\",'Inconsistency Data'!$I$4,\"'!Q61\")))","v":""},{"$f":"IF(D61=\"\",\"\",IF((INDEX('RE Inconsistency Results'!$H$1:$H$500,MATCH(SUBSTITUTE(D61,\"OR\",\"d\"),'RE Inconsistency Results'!$B$1:$B$500,0),1))-(INDEX('RE Inconsistency Results'!$F$1:$F$500,MATCH(SUBSTITUTE(D61,\"OR\",\"d\"),'RE Inconsistency Results'!$B$1:$B$500,0),1))>50,\"N/A\",EXP(INDEX('RE Inconsistency Results'!$G$1:$G$500,MATCH(SUBSTITUTE(D61,\"OR\",\"d\"),'RE Inconsistency Results'!$B$1:$B$500,0),1))))","v":""}]
[null,null,null,{"$f":"IF('Fixed Effects'!N62=\"\",\"\",'Fixed Effects'!N62)","v":""},{"$f":"IF('Fixed Effects'!O62=\"\",\"\",'Fixed Effects'!O62)","v":""},{"$f":"IF('Fixed Effects'!Q62=\"\",\"\",'Fixed Effects'!Q62)","v":""},{"$f":"IF(D62=\"\",\"\",IF((INDEX('FE Inconsistency Results'!$H$1:$H$500,MATCH(SUBSTITUTE(D62,\"OR\",\"d\"),'FE Inconsistency Results'!$B$1:$B$500,0),1))-(INDEX('FE Inconsistency Results'!$F$1:$F$500,MATCH(SUBSTITUTE(D62,\"OR\",\"d\"),'FE Inconsistency Results'!$B$1:$B$500,0),1))>50,\"N/A\",EXP(INDEX('FE Inconsistency Results'!$G$1:$G$500,MATCH(SUBSTITUTE(D62,\"OR\",\"d\"),'FE Inconsistency Results'!$B$1:$B$500,0),1))))","v":""},null,{"$f":"IF(INDIRECT(CONCATENATE(\"'\",'Inconsistency Data'!$I$4,\"'!N62\"))=\"\",\"\",INDIRECT(CONCATENATE(\"'\",'Inconsistency Data'!$I$4,\"'!N62\")))","v":""},{"$f":"IF(INDIRECT(CONCATENATE(\"'\",'Inconsistency Data'!$I$4,\"'!O62\"))=\"\",\"\",INDIRECT(CONCATENATE(\"'\",'Inconsistency Data'!$I$4,\"'!O62\")))","v":""},{"$f":"IF(INDIRECT(CONCATENATE(\"'\",'Inconsistency Data'!$I$4,\"'!Q62\"))=\"\",\"\",INDIRECT(CONCATENATE(\"'\",'Inconsistency Data'!$I$4,\"'!Q62\")))","v":""},{"$f":"IF(D62=\"\",\"\",IF((INDEX('RE Inconsistency Results'!$H$1:$H$500,MATCH(SUBSTITUTE(D62,\"OR\",\"d\"),'RE Inconsistency Results'!$B$1:$B$500,0),1))-(INDEX('RE Inconsistency Results'!$F$1:$F$500,MATCH(SUBSTITUTE(D62,\"OR\",\"d\"),'RE Inconsistency Results'!$B$1:$B$500,0),1))>50,\"N/A\",EXP(INDEX('RE Inconsistency Results'!$G$1:$G$500,MATCH(SUBSTITUTE(D62,\"OR\",\"d\"),'RE Inconsistency Results'!$B$1:$B$500,0),1))))","v":""}]
[null,null,null,{"$f":"IF('Fixed Effects'!N63=\"\",\"\",'Fixed Effects'!N63)","v":""},{"$f":"IF('Fixed Effects'!O63=\"\",\"\",'Fixed Effects'!O63)","v":""},{"$f":"IF('Fixed Effects'!Q63=\"\",\"\",'Fixed Effects'!Q63)","v":""},{"$f":"IF(D63=\"\",\"\",IF((INDEX('FE Inconsistency Results'!$H$1:$H$500,MATCH(SUBSTITUTE(D63,\"OR\",\"d\"),'FE Inconsistency Results'!$B$1:$B$500,0),1))-(INDEX('FE Inconsistency Results'!$F$1:$F$500,MATCH(SUBSTITUTE(D63,\"OR\",\"d\"),'FE Inconsistency Results'!$B$1:$B$500,0),1))>50,\"N/A\",EXP(INDEX('FE Inconsistency Results'!$G$1:$G$500,MATCH(SUBSTITUTE(D63,\"OR\",\"d\"),'FE Inconsistency Results'!$B$1:$B$500,0),1))))","v":""},null,{"$f":"IF(INDIRECT(CONCATENATE(\"'\",'Inconsistency Data'!$I$4,\"'!N63\"))=\"\",\"\",INDIRECT(CONCATENATE(\"'\",'Inconsistency Data'!$I$4,\"'!N63\")))","v":""},{"$f":"IF(INDIRECT(CONCATENATE(\"'\",'Inconsistency Data'!$I$4,\"'!O63\"))=\"\",\"\",INDIRECT(CONCATENATE(\"'\",'Inconsistency Data'!$I$4,\"'!O63\")))","v":""},{"$f":"IF(INDIRECT(CONCATENATE(\"'\",'Inconsistency Data'!$I$4,\"'!Q63\"))=\"\",\"\",INDIRECT(CONCATENATE(\"'\",'Inconsistency Data'!$I$4,\"'!Q63\")))","v":""},{"$f":"IF(D63=\"\",\"\",IF((INDEX('RE Inconsistency Results'!$H$1:$H$500,MATCH(SUBSTITUTE(D63,\"OR\",\"d\"),'RE Inconsistency Results'!$B$1:$B$500,0),1))-(INDEX('RE Inconsistency Results'!$F$1:$F$500,MATCH(SUBSTITUTE(D63,\"OR\",\"d\"),'RE Inconsistency Results'!$B$1:$B$500,0),1))>50,\"N/A\",EXP(INDEX('RE Inconsistency Results'!$G$1:$G$500,MATCH(SUBSTITUTE(D63,\"OR\",\"d\"),'RE Inconsistency Results'!$B$1:$B$500,0),1))))","v":""}]
[null,null,null,{"$f":"IF('Fixed Effects'!N64=\"\",\"\",'Fixed Effects'!N64)","v":""},{"$f":"IF('Fixed Effects'!O64=\"\",\"\",'Fixed Effects'!O64)","v":""},{"$f":"IF('Fixed Effects'!Q64=\"\",\"\",'Fixed Effects'!Q64)","v":""},{"$f":"IF(D64=\"\",\"\",IF((INDEX('FE Inconsistency Results'!$H$1:$H$500,MATCH(SUBSTITUTE(D64,\"OR\",\"d\"),'FE Inconsistency Results'!$B$1:$B$500,0),1))-(INDEX('FE Inconsistency Results'!$F$1:$F$500,MATCH(SUBSTITUTE(D64,\"OR\",\"d\"),'FE Inconsistency Results'!$B$1:$B$500,0),1))>50,\"N/A\",EXP(INDEX('FE Inconsistency Results'!$G$1:$G$500,MATCH(SUBSTITUTE(D64,\"OR\",\"d\"),'FE Inconsistency Results'!$B$1:$B$500,0),1))))","v":""},null,{"$f":"IF(INDIRECT(CONCATENATE(\"'\",'Inconsistency Data'!$I$4,\"'!N64\"))=\"\",\"\",INDIRECT(CONCATENATE(\"'\",'Inconsistency Data'!$I$4,\"'!N64\")))","v":""},{"$f":"IF(INDIRECT(CONCATENATE(\"'\",'Inconsistency Data'!$I$4,\"'!O64\"))=\"\",\"\",INDIRECT(CONCATENATE(\"'\",'Inconsistency Data'!$I$4,\"'!O64\")))","v":""},{"$f":"IF(INDIRECT(CONCATENATE(\"'\",'Inconsistency Data'!$I$4,\"'!Q64\"))=\"\",\"\",INDIRECT(CONCATENATE(\"'\",'Inconsistency Data'!$I$4,\"'!Q64\")))","v":""},{"$f":"IF(D64=\"\",\"\",IF((INDEX('RE Inconsistency Results'!$H$1:$H$500,MATCH(SUBSTITUTE(D64,\"OR\",\"d\"),'RE Inconsistency Results'!$B$1:$B$500,0),1))-(INDEX('RE Inconsistency Results'!$F$1:$F$500,MATCH(SUBSTITUTE(D64,\"OR\",\"d\"),'RE Inconsistency Results'!$B$1:$B$500,0),1))>50,\"N/A\",EXP(INDEX('RE Inconsistency Results'!$G$1:$G$500,MATCH(SUBSTITUTE(D64,\"OR\",\"d\"),'RE Inconsistency Results'!$B$1:$B$500,0),1))))","v":""}]
[null,null,null,{"$f":"IF('Fixed Effects'!N65=\"\",\"\",'Fixed Effects'!N65)","v":""},{"$f":"IF('Fixed Effects'!O65=\"\",\"\",'Fixed Effects'!O65)","v":""},{"$f":"IF('Fixed Effects'!Q65=\"\",\"\",'Fixed Effects'!Q65)","v":""},{"$f":"IF(D65=\"\",\"\",IF((INDEX('FE Inconsistency Results'!$H$1:$H$500,MATCH(SUBSTITUTE(D65,\"OR\",\"d\"),'FE Inconsistency Results'!$B$1:$B$500,0),1))-(INDEX('FE Inconsistency Results'!$F$1:$F$500,MATCH(SUBSTITUTE(D65,\"OR\",\"d\"),'FE Inconsistency Results'!$B$1:$B$500,0),1))>50,\"N/A\",EXP(INDEX('FE Inconsistency Results'!$G$1:$G$500,MATCH(SUBSTITUTE(D65,\"OR\",\"d\"),'FE Inconsistency Results'!$B$1:$B$500,0),1))))","v":""},null,{"$f":"IF(INDIRECT(CONCATENATE(\"'\",'Inconsistency Data'!$I$4,\"'!N65\"))=\"\",\"\",INDIRECT(CONCATENATE(\"'\",'Inconsistency Data'!$I$4,\"'!N65\")))","v":""},{"$f":"IF(INDIRECT(CONCATENATE(\"'\",'Inconsistency Data'!$I$4,\"'!O65\"))=\"\",\"\",INDIRECT(CONCATENATE(\"'\",'Inconsistency Data'!$I$4,\"'!O65\")))","v":""},{"$f":"IF(INDIRECT(CONCATENATE(\"'\",'Inconsistency Data'!$I$4,\"'!Q65\"))=\"\",\"\",INDIRECT(CONCATENATE(\"'\",'Inconsistency Data'!$I$4,\"'!Q65\")))","v":""},{"$f":"IF(D65=\"\",\"\",IF((INDEX('RE Inconsistency Results'!$H$1:$H$500,MATCH(SUBSTITUTE(D65,\"OR\",\"d\"),'RE Inconsistency Results'!$B$1:$B$500,0),1))-(INDEX('RE Inconsistency Results'!$F$1:$F$500,MATCH(SUBSTITUTE(D65,\"OR\",\"d\"),'RE Inconsistency Results'!$B$1:$B$500,0),1))>50,\"N/A\",EXP(INDEX('RE Inconsistency Results'!$G$1:$G$500,MATCH(SUBSTITUTE(D65,\"OR\",\"d\"),'RE Inconsistency Results'!$B$1:$B$500,0),1))))","v":""}]
[null,null,null,{"$f":"IF('Fixed Effects'!N66=\"\",\"\",'Fixed Effects'!N66)","v":""},{"$f":"IF('Fixed Effects'!O66=\"\",\"\",'Fixed Effects'!O66)","v":""},{"$f":"IF('Fixed Effects'!Q66=\"\",\"\",'Fixed Effects'!Q66)","v":""},{"$f":"IF(D66=\"\",\"\",IF((INDEX('FE Inconsistency Results'!$H$1:$H$500,MATCH(SUBSTITUTE(D66,\"OR\",\"d\"),'FE Inconsistency Results'!$B$1:$B$500,0),1))-(INDEX('FE Inconsistency Results'!$F$1:$F$500,MATCH(SUBSTITUTE(D66,\"OR\",\"d\"),'FE Inconsistency Results'!$B$1:$B$500,0),1))>50,\"N/A\",EXP(INDEX('FE Inconsistency Results'!$G$1:$G$500,MATCH(SUBSTITUTE(D66,\"OR\",\"d\"),'FE Inconsistency Results'!$B$1:$B$500,0),1))))","v":""},null,{"$f":"IF(INDIRECT(CONCATENATE(\"'\",'Inconsistency Data'!$I$4,\"'!N66\"))=\"\",\"\",INDIRECT(CONCATENATE(\"'\",'Inconsistency Data'!$I$4,\"'!N66\")))","v":""},{"$f":"IF(INDIRECT(CONCATENATE(\"'\",'Inconsistency Data'!$I$4,\"'!O66\"))=\"\",\"\",INDIRECT(CONCATENATE(\"'\",'Inconsistency Data'!$I$4,\"'!O66\")))","v":""},{"$f":"IF(INDIRECT(CONCATENATE(\"'\",'Inconsistency Data'!$I$4,\"'!Q66\"))=\"\",\"\",INDIRECT(CONCATENATE(\"'\",'Inconsistency Data'!$I$4,\"'!Q66\")))","v":""},{"$f":"IF(D66=\"\",\"\",IF((INDEX('RE Inconsistency Results'!$H$1:$H$500,MATCH(SUBSTITUTE(D66,\"OR\",\"d\"),'RE Inconsistency Results'!$B$1:$B$500,0),1))-(INDEX('RE Inconsistency Results'!$F$1:$F$500,MATCH(SUBSTITUTE(D66,\"OR\",\"d\"),'RE Inconsistency Results'!$B$1:$B$500,0),1))>50,\"N/A\",EXP(INDEX('RE Inconsistency Results'!$G$1:$G$500,MATCH(SUBSTITUTE(D66,\"OR\",\"d\"),'RE Inconsistency Results'!$B$1:$B$500,0),1))))","v":""}]
[null,null,null,{"$f":"IF('Fixed Effects'!N67=\"\",\"\",'Fixed Effects'!N67)","v":""},{"$f":"IF('Fixed Effects'!O67=\"\",\"\",'Fixed Effects'!O67)","v":""},{"$f":"IF('Fixed Effects'!Q67=\"\",\"\",'Fixed Effects'!Q67)","v":""},{"$f":"IF(D67=\"\",\"\",IF((INDEX('FE Inconsistency Results'!$H$1:$H$500,MATCH(SUBSTITUTE(D67,\"OR\",\"d\"),'FE Inconsistency Results'!$B$1:$B$500,0),1))-(INDEX('FE Inconsistency Results'!$F$1:$F$500,MATCH(SUBSTITUTE(D67,\"OR\",\"d\"),'FE Inconsistency Results'!$B$1:$B$500,0),1))>50,\"N/A\",EXP(INDEX('FE Inconsistency Results'!$G$1:$G$500,MATCH(SUBSTITUTE(D67,\"OR\",\"d\"),'FE Inconsistency Results'!$B$1:$B$500,0),1))))","v":""},null,{"$f":"IF(INDIRECT(CONCATENATE(\"'\",'Inconsistency Data'!$I$4,\"'!N67\"))=\"\",\"\",INDIRECT(CONCATENATE(\"'\",'Inconsistency Data'!$I$4,\"'!N67\")))","v":""},{"$f":"IF(INDIRECT(CONCATENATE(\"'\",'Inconsistency Data'!$I$4,\"'!O67\"))=\"\",\"\",INDIRECT(CONCATENATE(\"'\",'Inconsistency Data'!$I$4,\"'!O67\")))","v":""},{"$f":"IF(INDIRECT(CONCATENATE(\"'\",'Inconsistency Data'!$I$4,\"'!Q67\"))=\"\",\"\",INDIRECT(CONCATENATE(\"'\",'Inconsistency Data'!$I$4,\"'!Q67\")))","v":""},{"$f":"IF(D67=\"\",\"\",IF((INDEX('RE Inconsistency Results'!$H$1:$H$500,MATCH(SUBSTITUTE(D67,\"OR\",\"d\"),'RE Inconsistency Results'!$B$1:$B$500,0),1))-(INDEX('RE Inconsistency Results'!$F$1:$F$500,MATCH(SUBSTITUTE(D67,\"OR\",\"d\"),'RE Inconsistency Results'!$B$1:$B$500,0),1))>50,\"N/A\",EXP(INDEX('RE Inconsistency Results'!$G$1:$G$500,MATCH(SUBSTITUTE(D67,\"OR\",\"d\"),'RE Inconsistency Results'!$B$1:$B$500,0),1))))","v":""}]
[null,null,null,{"$f":"IF('Fixed Effects'!N68=\"\",\"\",'Fixed Effects'!N68)","v":""},{"$f":"IF('Fixed Effects'!O68=\"\",\"\",'Fixed Effects'!O68)","v":""},{"$f":"IF('Fixed Effects'!Q68=\"\",\"\",'Fixed Effects'!Q68)","v":""},{"$f":"IF(D68=\"\",\"\",IF((INDEX('FE Inconsistency Results'!$H$1:$H$500,MATCH(SUBSTITUTE(D68,\"OR\",\"d\"),'FE Inconsistency Results'!$B$1:$B$500,0),1))-(INDEX('FE Inconsistency Results'!$F$1:$F$500,MATCH(SUBSTITUTE(D68,\"OR\",\"d\"),'FE Inconsistency Results'!$B$1:$B$500,0),1))>50,\"N/A\",EXP(INDEX('FE Inconsistency Results'!$G$1:$G$500,MATCH(SUBSTITUTE(D68,\"OR\",\"d\"),'FE Inconsistency Results'!$B$1:$B$500,0),1))))","v":""},null,{"$f":"IF(INDIRECT(CONCATENATE(\"'\",'Inconsistency Data'!$I$4,\"'!N68\"))=\"\",\"\",INDIRECT(CONCATENATE(\"'\",'Inconsistency Data'!$I$4,\"'!N68\")))","v":""},{"$f":"IF(INDIRECT(CONCATENATE(\"'\",'Inconsistency Data'!$I$4,\"'!O68\"))=\"\",\"\",INDIRECT(CONCATENATE(\"'\",'Inconsistency Data'!$I$4,\"'!O68\")))","v":""},{"$f":"IF(INDIRECT(CONCATENATE(\"'\",'Inconsistency Data'!$I$4,\"'!Q68\"))=\"\",\"\",INDIRECT(CONCATENATE(\"'\",'Inconsistency Data'!$I$4,\"'!Q68\")))","v":""},{"$f":"IF(D68=\"\",\"\",IF((INDEX('RE Inconsistency Results'!$H$1:$H$500,MATCH(SUBSTITUTE(D68,\"OR\",\"d\"),'RE Inconsistency Results'!$B$1:$B$500,0),1))-(INDEX('RE Inconsistency Results'!$F$1:$F$500,MATCH(SUBSTITUTE(D68,\"OR\",\"d\"),'RE Inconsistency Results'!$B$1:$B$500,0),1))>50,\"N/A\",EXP(INDEX('RE Inconsistency Results'!$G$1:$G$500,MATCH(SUBSTITUTE(D68,\"OR\",\"d\"),'RE Inconsistency Results'!$B$1:$B$500,0),1))))","v":""}]
[null,null,null,{"$f":"IF('Fixed Effects'!N69=\"\",\"\",'Fixed Effects'!N69)","v":""},{"$f":"IF('Fixed Effects'!O69=\"\",\"\",'Fixed Effects'!O69)","v":""},{"$f":"IF('Fixed Effects'!Q69=\"\",\"\",'Fixed Effects'!Q69)","v":""},{"$f":"IF(D69=\"\",\"\",IF((INDEX('FE Inconsistency Results'!$H$1:$H$500,MATCH(SUBSTITUTE(D69,\"OR\",\"d\"),'FE Inconsistency Results'!$B$1:$B$500,0),1))-(INDEX('FE Inconsistency Results'!$F$1:$F$500,MATCH(SUBSTITUTE(D69,\"OR\",\"d\"),'FE Inconsistency Results'!$B$1:$B$500,0),1))>50,\"N/A\",EXP(INDEX('FE Inconsistency Results'!$G$1:$G$500,MATCH(SUBSTITUTE(D69,\"OR\",\"d\"),'FE Inconsistency Results'!$B$1:$B$500,0),1))))","v":""},null,{"$f":"IF(INDIRECT(CONCATENATE(\"'\",'Inconsistency Data'!$I$4,\"'!N69\"))=\"\",\"\",INDIRECT(CONCATENATE(\"'\",'Inconsistency Data'!$I$4,\"'!N69\")))","v":""},{"$f":"IF(INDIRECT(CONCATENATE(\"'\",'Inconsistency Data'!$I$4,\"'!O69\"))=\"\",\"\",INDIRECT(CONCATENATE(\"'\",'Inconsistency Data'!$I$4,\"'!O69\")))","v":""},{"$f":"IF(INDIRECT(CONCATENATE(\"'\",'Inconsistency Data'!$I$4,\"'!Q69\"))=\"\",\"\",INDIRECT(CONCATENATE(\"'\",'Inconsistency Data'!$I$4,\"'!Q69\")))","v":""},{"$f":"IF(D69=\"\",\"\",IF((INDEX('RE Inconsistency Results'!$H$1:$H$500,MATCH(SUBSTITUTE(D69,\"OR\",\"d\"),'RE Inconsistency Results'!$B$1:$B$500,0),1))-(INDEX('RE Inconsistency Results'!$F$1:$F$500,MATCH(SUBSTITUTE(D69,\"OR\",\"d\"),'RE Inconsistency Results'!$B$1:$B$500,0),1))>50,\"N/A\",EXP(INDEX('RE Inconsistency Results'!$G$1:$G$500,MATCH(SUBSTITUTE(D69,\"OR\",\"d\"),'RE Inconsistency Results'!$B$1:$B$500,0),1))))","v":""}]
[null,null,null,{"$f":"IF('Fixed Effects'!N70=\"\",\"\",'Fixed Effects'!N70)","v":""},{"$f":"IF('Fixed Effects'!O70=\"\",\"\",'Fixed Effects'!O70)","v":""},{"$f":"IF('Fixed Effects'!Q70=\"\",\"\",'Fixed Effects'!Q70)","v":""},{"$f":"IF(D70=\"\",\"\",IF((INDEX('FE Inconsistency Results'!$H$1:$H$500,MATCH(SUBSTITUTE(D70,\"OR\",\"d\"),'FE Inconsistency Results'!$B$1:$B$500,0),1))-(INDEX('FE Inconsistency Results'!$F$1:$F$500,MATCH(SUBSTITUTE(D70,\"OR\",\"d\"),'FE Inconsistency Results'!$B$1:$B$500,0),1))>50,\"N/A\",EXP(INDEX('FE Inconsistency Results'!$G$1:$G$500,MATCH(SUBSTITUTE(D70,\"OR\",\"d\"),'FE Inconsistency Results'!$B$1:$B$500,0),1))))","v":""},null,{"$f":"IF(INDIRECT(CONCATENATE(\"'\",'Inconsistency Data'!$I$4,\"'!N70\"))=\"\",\"\",INDIRECT(CONCATENATE(\"'\",'Inconsistency Data'!$I$4,\"'!N70\")))","v":""},{"$f":"IF(INDIRECT(CONCATENATE(\"'\",'Inconsistency Data'!$I$4,\"'!O70\"))=\"\",\"\",INDIRECT(CONCATENATE(\"'\",'Inconsistency Data'!$I$4,\"'!O70\")))","v":""},{"$f":"IF(INDIRECT(CONCATENATE(\"'\",'Inconsistency Data'!$I$4,\"'!Q70\"))=\"\",\"\",INDIRECT(CONCATENATE(\"'\",'Inconsistency Data'!$I$4,\"'!Q70\")))","v":""},{"$f":"IF(D70=\"\",\"\",IF((INDEX('RE Inconsistency Results'!$H$1:$H$500,MATCH(SUBSTITUTE(D70,\"OR\",\"d\"),'RE Inconsistency Results'!$B$1:$B$500,0),1))-(INDEX('RE Inconsistency Results'!$F$1:$F$500,MATCH(SUBSTITUTE(D70,\"OR\",\"d\"),'RE Inconsistency Results'!$B$1:$B$500,0),1))>50,\"N/A\",EXP(INDEX('RE Inconsistency Results'!$G$1:$G$500,MATCH(SUBSTITUTE(D70,\"OR\",\"d\"),'RE Inconsistency Results'!$B$1:$B$500,0),1))))","v":""}]
[null,null,null,{"$f":"IF('Fixed Effects'!N71=\"\",\"\",'Fixed Effects'!N71)","v":""},{"$f":"IF('Fixed Effects'!O71=\"\",\"\",'Fixed Effects'!O71)","v":""},{"$f":"IF('Fixed Effects'!Q71=\"\",\"\",'Fixed Effects'!Q71)","v":""},{"$f":"IF(D71=\"\",\"\",IF((INDEX('FE Inconsistency Results'!$H$1:$H$500,MATCH(SUBSTITUTE(D71,\"OR\",\"d\"),'FE Inconsistency Results'!$B$1:$B$500,0),1))-(INDEX('FE Inconsistency Results'!$F$1:$F$500,MATCH(SUBSTITUTE(D71,\"OR\",\"d\"),'FE Inconsistency Results'!$B$1:$B$500,0),1))>50,\"N/A\",EXP(INDEX('FE Inconsistency Results'!$G$1:$G$500,MATCH(SUBSTITUTE(D71,\"OR\",\"d\"),'FE Inconsistency Results'!$B$1:$B$500,0),1))))","v":""},null,{"$f":"IF(INDIRECT(CONCATENATE(\"'\",'Inconsistency Data'!$I$4,\"'!N71\"))=\"\",\"\",INDIRECT(CONCATENATE(\"'\",'Inconsistency Data'!$I$4,\"'!N71\")))","v":""},{"$f":"IF(INDIRECT(CONCATENATE(\"'\",'Inconsistency Data'!$I$4,\"'!O71\"))=\"\",\"\",INDIRECT(CONCATENATE(\"'\",'Inconsistency Data'!$I$4,\"'!O71\")))","v":""},{"$f":"IF(INDIRECT(CONCATENATE(\"'\",'Inconsistency Data'!$I$4,\"'!Q71\"))=\"\",\"\",INDIRECT(CONCATENATE(\"'\",'Inconsistency Data'!$I$4,\"'!Q71\")))","v":""},{"$f":"IF(D71=\"\",\"\",IF((INDEX('RE Inconsistency Results'!$H$1:$H$500,MATCH(SUBSTITUTE(D71,\"OR\",\"d\"),'RE Inconsistency Results'!$B$1:$B$500,0),1))-(INDEX('RE Inconsistency Results'!$F$1:$F$500,MATCH(SUBSTITUTE(D71,\"OR\",\"d\"),'RE Inconsistency Results'!$B$1:$B$500,0),1))>50,\"N/A\",EXP(INDEX('RE Inconsistency Results'!$G$1:$G$500,MATCH(SUBSTITUTE(D71,\"OR\",\"d\"),'RE Inconsistency Results'!$B$1:$B$500,0),1))))","v":""}]
[null,null,null,{"$f":"IF('Fixed Effects'!N72=\"\",\"\",'Fixed Effects'!N72)","v":""},{"$f":"IF('Fixed Effects'!O72=\"\",\"\",'Fixed Effects'!O72)","v":""},{"$f":"IF('Fixed Effects'!Q72=\"\",\"\",'Fixed Effects'!Q72)","v":""},{"$f":"IF(D72=\"\",\"\",IF((INDEX('FE Inconsistency Results'!$H$1:$H$500,MATCH(SUBSTITUTE(D72,\"OR\",\"d\"),'FE Inconsistency Results'!$B$1:$B$500,0),1))-(INDEX('FE Inconsistency Results'!$F$1:$F$500,MATCH(SUBSTITUTE(D72,\"OR\",\"d\"),'FE Inconsistency Results'!$B$1:$B$500,0),1))>50,\"N/A\",EXP(INDEX('FE Inconsistency Results'!$G$1:$G$500,MATCH(SUBSTITUTE(D72,\"OR\",\"d\"),'FE Inconsistency Results'!$B$1:$B$500,0),1))))","v":""},null,{"$f":"IF(INDIRECT(CONCATENATE(\"'\",'Inconsistency Data'!$I$4,\"'!N72\"))=\"\",\"\",INDIRECT(CONCATENATE(\"'\",'Inconsistency Data'!$I$4,\"'!N72\")))","v":""},{"$f":"IF(INDIRECT(CONCATENATE(\"'\",'Inconsistency Data'!$I$4,\"'!O72\"))=\"\",\"\",INDIRECT(CONCATENATE(\"'\",'Inconsistency Data'!$I$4,\"'!O72\")))","v":""},{"$f":"IF(INDIRECT(CONCATENATE(\"'\",'Inconsistency Data'!$I$4,\"'!Q72\"))=\"\",\"\",INDIRECT(CONCATENATE(\"'\",'Inconsistency Data'!$I$4,\"'!Q72\")))","v":""},{"$f":"IF(D72=\"\",\"\",IF((INDEX('RE Inconsistency Results'!$H$1:$H$500,MATCH(SUBSTITUTE(D72,\"OR\",\"d\"),'RE Inconsistency Results'!$B$1:$B$500,0),1))-(INDEX('RE Inconsistency Results'!$F$1:$F$500,MATCH(SUBSTITUTE(D72,\"OR\",\"d\"),'RE Inconsistency Results'!$B$1:$B$500,0),1))>50,\"N/A\",EXP(INDEX('RE Inconsistency Results'!$G$1:$G$500,MATCH(SUBSTITUTE(D72,\"OR\",\"d\"),'RE Inconsistency Results'!$B$1:$B$500,0),1))))","v":""}]
[null,null,null,{"$f":"IF('Fixed Effects'!N73=\"\",\"\",'Fixed Effects'!N73)","v":""},{"$f":"IF('Fixed Effects'!O73=\"\",\"\",'Fixed Effects'!O73)","v":""},{"$f":"IF('Fixed Effects'!Q73=\"\",\"\",'Fixed Effects'!Q73)","v":""},{"$f":"IF(D73=\"\",\"\",IF((INDEX('FE Inconsistency Results'!$H$1:$H$500,MATCH(SUBSTITUTE(D73,\"OR\",\"d\"),'FE Inconsistency Results'!$B$1:$B$500,0),1))-(INDEX('FE Inconsistency Results'!$F$1:$F$500,MATCH(SUBSTITUTE(D73,\"OR\",\"d\"),'FE Inconsistency Results'!$B$1:$B$500,0),1))>50,\"N/A\",EXP(INDEX('FE Inconsistency Results'!$G$1:$G$500,MATCH(SUBSTITUTE(D73,\"OR\",\"d\"),'FE Inconsistency Results'!$B$1:$B$500,0),1))))","v":""},null,{"$f":"IF(INDIRECT(CONCATENATE(\"'\",'Inconsistency Data'!$I$4,\"'!N73\"))=\"\",\"\",INDIRECT(CONCATENATE(\"'\",'Inconsistency Data'!$I$4,\"'!N73\")))","v":""},{"$f":"IF(INDIRECT(CONCATENATE(\"'\",'Inconsistency Data'!$I$4,\"'!O73\"))=\"\",\"\",INDIRECT(CONCATENATE(\"'\",'Inconsistency Data'!$I$4,\"'!O73\")))","v":""},{"$f":"IF(INDIRECT(CONCATENATE(\"'\",'Inconsistency Data'!$I$4,\"'!Q73\"))=\"\",\"\",INDIRECT(CONCATENATE(\"'\",'Inconsistency Data'!$I$4,\"'!Q73\")))","v":""},{"$f":"IF(D73=\"\",\"\",IF((INDEX('RE Inconsistency Results'!$H$1:$H$500,MATCH(SUBSTITUTE(D73,\"OR\",\"d\"),'RE Inconsistency Results'!$B$1:$B$500,0),1))-(INDEX('RE Inconsistency Results'!$F$1:$F$500,MATCH(SUBSTITUTE(D73,\"OR\",\"d\"),'RE Inconsistency Results'!$B$1:$B$500,0),1))>50,\"N/A\",EXP(INDEX('RE Inconsistency Results'!$G$1:$G$500,MATCH(SUBSTITUTE(D73,\"OR\",\"d\"),'RE Inconsistency Results'!$B$1:$B$500,0),1))))","v":""}]
[null,null,null,{"$f":"IF('Fixed Effects'!N74=\"\",\"\",'Fixed Effects'!N74)","v":""},{"$f":"IF('Fixed Effects'!O74=\"\",\"\",'Fixed Effects'!O74)","v":""},{"$f":"IF('Fixed Effects'!Q74=\"\",\"\",'Fixed Effects'!Q74)","v":""},{"$f":"IF(D74=\"\",\"\",IF((INDEX('FE Inconsistency Results'!$H$1:$H$500,MATCH(SUBSTITUTE(D74,\"OR\",\"d\"),'FE Inconsistency Results'!$B$1:$B$500,0),1))-(INDEX('FE Inconsistency Results'!$F$1:$F$500,MATCH(SUBSTITUTE(D74,\"OR\",\"d\"),'FE Inconsistency Results'!$B$1:$B$500,0),1))>50,\"N/A\",EXP(INDEX('FE Inconsistency Results'!$G$1:$G$500,MATCH(SUBSTITUTE(D74,\"OR\",\"d\"),'FE Inconsistency Results'!$B$1:$B$500,0),1))))","v":""},null,{"$f":"IF(INDIRECT(CONCATENATE(\"'\",'Inconsistency Data'!$I$4,\"'!N74\"))=\"\",\"\",INDIRECT(CONCATENATE(\"'\",'Inconsistency Data'!$I$4,\"'!N74\")))","v":""},{"$f":"IF(INDIRECT(CONCATENATE(\"'\",'Inconsistency Data'!$I$4,\"'!O74\"))=\"\",\"\",INDIRECT(CONCATENATE(\"'\",'Inconsistency Data'!$I$4,\"'!O74\")))","v":""},{"$f":"IF(INDIRECT(CONCATENATE(\"'\",'Inconsistency Data'!$I$4,\"'!Q74\"))=\"\",\"\",INDIRECT(CONCATENATE(\"'\",'Inconsistency Data'!$I$4,\"'!Q74\")))","v":""},{"$f":"IF(D74=\"\",\"\",IF((INDEX('RE Inconsistency Results'!$H$1:$H$500,MATCH(SUBSTITUTE(D74,\"OR\",\"d\"),'RE Inconsistency Results'!$B$1:$B$500,0),1))-(INDEX('RE Inconsistency Results'!$F$1:$F$500,MATCH(SUBSTITUTE(D74,\"OR\",\"d\"),'RE Inconsistency Results'!$B$1:$B$500,0),1))>50,\"N/A\",EXP(INDEX('RE Inconsistency Results'!$G$1:$G$500,MATCH(SUBSTITUTE(D74,\"OR\",\"d\"),'RE Inconsistency Results'!$B$1:$B$500,0),1))))","v":""}]
[null,null,null,{"$f":"IF('Fixed Effects'!N75=\"\",\"\",'Fixed Effects'!N75)","v":""},{"$f":"IF('Fixed Effects'!O75=\"\",\"\",'Fixed Effects'!O75)","v":""},{"$f":"IF('Fixed Effects'!Q75=\"\",\"\",'Fixed Effects'!Q75)","v":""},{"$f":"IF(D75=\"\",\"\",IF((INDEX('FE Inconsistency Results'!$H$1:$H$500,MATCH(SUBSTITUTE(D75,\"OR\",\"d\"),'FE Inconsistency Results'!$B$1:$B$500,0),1))-(INDEX('FE Inconsistency Results'!$F$1:$F$500,MATCH(SUBSTITUTE(D75,\"OR\",\"d\"),'FE Inconsistency Results'!$B$1:$B$500,0),1))>50,\"N/A\",EXP(INDEX('FE Inconsistency Results'!$G$1:$G$500,MATCH(SUBSTITUTE(D75,\"OR\",\"d\"),'FE Inconsistency Results'!$B$1:$B$500,0),1))))","v":""},null,{"$f":"IF(INDIRECT(CONCATENATE(\"'\",'Inconsistency Data'!$I$4,\"'!N75\"))=\"\",\"\",INDIRECT(CONCATENATE(\"'\",'Inconsistency Data'!$I$4,\"'!N75\")))","v":""},{"$f":"IF(INDIRECT(CONCATENATE(\"'\",'Inconsistency Data'!$I$4,\"'!O75\"))=\"\",\"\",INDIRECT(CONCATENATE(\"'\",'Inconsistency Data'!$I$4,\"'!O75\")))","v":""},{"$f":"IF(INDIRECT(CONCATENATE(\"'\",'Inconsistency Data'!$I$4,\"'!Q75\"))=\"\",\"\",INDIRECT(CONCATENATE(\"'\",'Inconsistency Data'!$I$4,\"'!Q75\")))","v":""},{"$f":"IF(D75=\"\",\"\",IF((INDEX('RE Inconsistency Results'!$H$1:$H$500,MATCH(SUBSTITUTE(D75,\"OR\",\"d\"),'RE Inconsistency Results'!$B$1:$B$500,0),1))-(INDEX('RE Inconsistency Results'!$F$1:$F$500,MATCH(SUBSTITUTE(D75,\"OR\",\"d\"),'RE Inconsistency Results'!$B$1:$B$500,0),1))>50,\"N/A\",EXP(INDEX('RE Inconsistency Results'!$G$1:$G$500,MATCH(SUBSTITUTE(D75,\"OR\",\"d\"),'RE Inconsistency Results'!$B$1:$B$500,0),1))))","v":""}]
[null,null,null,{"$f":"IF('Fixed Effects'!N76=\"\",\"\",'Fixed Effects'!N76)","v":""},{"$f":"IF('Fixed Effects'!O76=\"\",\"\",'Fixed Effects'!O76)","v":""},{"$f":"IF('Fixed Effects'!Q76=\"\",\"\",'Fixed Effects'!Q76)","v":""},{"$f":"IF(D76=\"\",\"\",IF((INDEX('FE Inconsistency Results'!$H$1:$H$500,MATCH(SUBSTITUTE(D76,\"OR\",\"d\"),'FE Inconsistency Results'!$B$1:$B$500,0),1))-(INDEX('FE Inconsistency Results'!$F$1:$F$500,MATCH(SUBSTITUTE(D76,\"OR\",\"d\"),'FE Inconsistency Results'!$B$1:$B$500,0),1))>50,\"N/A\",EXP(INDEX('FE Inconsistency Results'!$G$1:$G$500,MATCH(SUBSTITUTE(D76,\"OR\",\"d\"),'FE Inconsistency Results'!$B$1:$B$500,0),1))))","v":""},null,{"$f":"IF(INDIRECT(CONCATENATE(\"'\",'Inconsistency Data'!$I$4,\"'!N76\"))=\"\",\"\",INDIRECT(CONCATENATE(\"'\",'Inconsistency Data'!$I$4,\"'!N76\")))","v":""},{"$f":"IF(INDIRECT(CONCATENATE(\"'\",'Inconsistency Data'!$I$4,\"'!O76\"))=\"\",\"\",INDIRECT(CONCATENATE(\"'\",'Inconsistency Data'!$I$4,\"'!O76\")))","v":""},{"$f":"IF(INDIRECT(CONCATENATE(\"'\",'Inconsistency Data'!$I$4,\"'!Q76\"))=\"\",\"\",INDIRECT(CONCATENATE(\"'\",'Inconsistency Data'!$I$4,\"'!Q76\")))","v":""},{"$f":"IF(D76=\"\",\"\",IF((INDEX('RE Inconsistency Results'!$H$1:$H$500,MATCH(SUBSTITUTE(D76,\"OR\",\"d\"),'RE Inconsistency Results'!$B$1:$B$500,0),1))-(INDEX('RE Inconsistency Results'!$F$1:$F$500,MATCH(SUBSTITUTE(D76,\"OR\",\"d\"),'RE Inconsistency Results'!$B$1:$B$500,0),1))>50,\"N/A\",EXP(INDEX('RE Inconsistency Results'!$G$1:$G$500,MATCH(SUBSTITUTE(D76,\"OR\",\"d\"),'RE Inconsistency Results'!$B$1:$B$500,0),1))))","v":""}]
[null,null,null,{"$f":"IF('Fixed Effects'!N77=\"\",\"\",'Fixed Effects'!N77)","v":""},{"$f":"IF('Fixed Effects'!O77=\"\",\"\",'Fixed Effects'!O77)","v":""},{"$f":"IF('Fixed Effects'!Q77=\"\",\"\",'Fixed Effects'!Q77)","v":""},{"$f":"IF(D77=\"\",\"\",IF((INDEX('FE Inconsistency Results'!$H$1:$H$500,MATCH(SUBSTITUTE(D77,\"OR\",\"d\"),'FE Inconsistency Results'!$B$1:$B$500,0),1))-(INDEX('FE Inconsistency Results'!$F$1:$F$500,MATCH(SUBSTITUTE(D77,\"OR\",\"d\"),'FE Inconsistency Results'!$B$1:$B$500,0),1))>50,\"N/A\",EXP(INDEX('FE Inconsistency Results'!$G$1:$G$500,MATCH(SUBSTITUTE(D77,\"OR\",\"d\"),'FE Inconsistency Results'!$B$1:$B$500,0),1))))","v":""},null,{"$f":"IF(INDIRECT(CONCATENATE(\"'\",'Inconsistency Data'!$I$4,\"'!N77\"))=\"\",\"\",INDIRECT(CONCATENATE(\"'\",'Inconsistency Data'!$I$4,\"'!N77\")))","v":""},{"$f":"IF(INDIRECT(CONCATENATE(\"'\",'Inconsistency Data'!$I$4,\"'!O77\"))=\"\",\"\",INDIRECT(CONCATENATE(\"'\",'Inconsistency Data'!$I$4,\"'!O77\")))","v":""},{"$f":"IF(INDIRECT(CONCATENATE(\"'\",'Inconsistency Data'!$I$4,\"'!Q77\"))=\"\",\"\",INDIRECT(CONCATENATE(\"'\",'Inconsistency Data'!$I$4,\"'!Q77\")))","v":""},{"$f":"IF(D77=\"\",\"\",IF((INDEX('RE Inconsistency Results'!$H$1:$H$500,MATCH(SUBSTITUTE(D77,\"OR\",\"d\"),'RE Inconsistency Results'!$B$1:$B$500,0),1))-(INDEX('RE Inconsistency Results'!$F$1:$F$500,MATCH(SUBSTITUTE(D77,\"OR\",\"d\"),'RE Inconsistency Results'!$B$1:$B$500,0),1))>50,\"N/A\",EXP(INDEX('RE Inconsistency Results'!$G$1:$G$500,MATCH(SUBSTITUTE(D77,\"OR\",\"d\"),'RE Inconsistency Results'!$B$1:$B$500,0),1))))","v":""}]
[null,null,null,{"$f":"IF('Fixed Effects'!N78=\"\",\"\",'Fixed Effects'!N78)","v":""},{"$f":"IF('Fixed Effects'!O78=\"\",\"\",'Fixed Effects'!O78)","v":""},{"$f":"IF('Fixed Effects'!Q78=\"\",\"\",'Fixed Effects'!Q78)","v":""},{"$f":"IF(D78=\"\",\"\",IF((INDEX('FE Inconsistency Results'!$H$1:$H$500,MATCH(SUBSTITUTE(D78,\"OR\",\"d\"),'FE Inconsistency Results'!$B$1:$B$500,0),1))-(INDEX('FE Inconsistency Results'!$F$1:$F$500,MATCH(SUBSTITUTE(D78,\"OR\",\"d\"),'FE Inconsistency Results'!$B$1:$B$500,0),1))>50,\"N/A\",EXP(INDEX('FE Inconsistency Results'!$G$1:$G$500,MATCH(SUBSTITUTE(D78,\"OR\",\"d\"),'FE Inconsistency Results'!$B$1:$B$500,0),1))))","v":""},null,{"$f":"IF(INDIRECT(CONCATENATE(\"'\",'Inconsistency Data'!$I$4,\"'!N78\"))=\"\",\"\",INDIRECT(CONCATENATE(\"'\",'Inconsistency Data'!$I$4,\"'!N78\")))","v":""},{"$f":"IF(INDIRECT(CONCATENATE(\"'\",'Inconsistency Data'!$I$4,\"'!O78\"))=\"\",\"\",INDIRECT(CONCATENATE(\"'\",'Inconsistency Data'!$I$4,\"'!O78\")))","v":""},{"$f":"IF(INDIRECT(CONCATENATE(\"'\",'Inconsistency Data'!$I$4,\"'!Q78\"))=\"\",\"\",INDIRECT(CONCATENATE(\"'\",'Inconsistency Data'!$I$4,\"'!Q78\")))","v":""},{"$f":"IF(D78=\"\",\"\",IF((INDEX('RE Inconsistency Results'!$H$1:$H$500,MATCH(SUBSTITUTE(D78,\"OR\",\"d\"),'RE Inconsistency Results'!$B$1:$B$500,0),1))-(INDEX('RE Inconsistency Results'!$F$1:$F$500,MATCH(SUBSTITUTE(D78,\"OR\",\"d\"),'RE Inconsistency Results'!$B$1:$B$500,0),1))>50,\"N/A\",EXP(INDEX('RE Inconsistency Results'!$G$1:$G$500,MATCH(SUBSTITUTE(D78,\"OR\",\"d\"),'RE Inconsistency Results'!$B$1:$B$500,0),1))))","v":""}]
[null,null,null,{"$f":"IF('Fixed Effects'!N79=\"\",\"\",'Fixed Effects'!N79)","v":""},{"$f":"IF('Fixed Effects'!O79=\"\",\"\",'Fixed Effects'!O79)","v":""},{"$f":"IF('Fixed Effects'!Q79=\"\",\"\",'Fixed Effects'!Q79)","v":""},{"$f":"IF(D79=\"\",\"\",IF((INDEX('FE Inconsistency Results'!$H$1:$H$500,MATCH(SUBSTITUTE(D79,\"OR\",\"d\"),'FE Inconsistency Results'!$B$1:$B$500,0),1))-(INDEX('FE Inconsistency Results'!$F$1:$F$500,MATCH(SUBSTITUTE(D79,\"OR\",\"d\"),'FE Inconsistency Results'!$B$1:$B$500,0),1))>50,\"N/A\",EXP(INDEX('FE Inconsistency Results'!$G$1:$G$500,MATCH(SUBSTITUTE(D79,\"OR\",\"d\"),'FE Inconsistency Results'!$B$1:$B$500,0),1))))","v":""},null,{"$f":"IF(INDIRECT(CONCATENATE(\"'\",'Inconsistency Data'!$I$4,\"'!N79\"))=\"\",\"\",INDIRECT(CONCATENATE(\"'\",'Inconsistency Data'!$I$4,\"'!N79\")))","v":""},{"$f":"IF(INDIRECT(CONCATENATE(\"'\",'Inconsistency Data'!$I$4,\"'!O79\"))=\"\",\"\",INDIRECT(CONCATENATE(\"'\",'Inconsistency Data'!$I$4,\"'!O79\")))","v":""},{"$f":"IF(INDIRECT(CONCATENATE(\"'\",'Inconsistency Data'!$I$4,\"'!Q79\"))=\"\",\"\",INDIRECT(CONCATENATE(\"'\",'Inconsistency Data'!$I$4,\"'!Q79\")))","v":""},{"$f":"IF(D79=\"\",\"\",IF((INDEX('RE Inconsistency Results'!$H$1:$H$500,MATCH(SUBSTITUTE(D79,\"OR\",\"d\"),'RE Inconsistency Results'!$B$1:$B$500,0),1))-(INDEX('RE Inconsistency Results'!$F$1:$F$500,MATCH(SUBSTITUTE(D79,\"OR\",\"d\"),'RE Inconsistency Results'!$B$1:$B$500,0),1))>50,\"N/A\",EXP(INDEX('RE Inconsistency Results'!$G$1:$G$500,MATCH(SUBSTITUTE(D79,\"OR\",\"d\"),'RE Inconsistency Results'!$B$1:$B$500,0),1))))","v":""}]
[null,null,null,{"$f":"IF('Fixed Effects'!N80=\"\",\"\",'Fixed Effects'!N80)","v":""},{"$f":"IF('Fixed Effects'!O80=\"\",\"\",'Fixed Effects'!O80)","v":""},{"$f":"IF('Fixed Effects'!Q80=\"\",\"\",'Fixed Effects'!Q80)","v":""},{"$f":"IF(D80=\"\",\"\",IF((INDEX('FE Inconsistency Results'!$H$1:$H$500,MATCH(SUBSTITUTE(D80,\"OR\",\"d\"),'FE Inconsistency Results'!$B$1:$B$500,0),1))-(INDEX('FE Inconsistency Results'!$F$1:$F$500,MATCH(SUBSTITUTE(D80,\"OR\",\"d\"),'FE Inconsistency Results'!$B$1:$B$500,0),1))>50,\"N/A\",EXP(INDEX('FE Inconsistency Results'!$G$1:$G$500,MATCH(SUBSTITUTE(D80,\"OR\",\"d\"),'FE Inconsistency Results'!$B$1:$B$500,0),1))))","v":""},null,{"$f":"IF(INDIRECT(CONCATENATE(\"'\",'Inconsistency Data'!$I$4,\"'!N80\"))=\"\",\"\",INDIRECT(CONCATENATE(\"'\",'Inconsistency Data'!$I$4,\"'!N80\")))","v":""},{"$f":"IF(INDIRECT(CONCATENATE(\"'\",'Inconsistency Data'!$I$4,\"'!O80\"))=\"\",\"\",INDIRECT(CONCATENATE(\"'\",'Inconsistency Data'!$I$4,\"'!O80\")))","v":""},{"$f":"IF(INDIRECT(CONCATENATE(\"'\",'Inconsistency Data'!$I$4,\"'!Q80\"))=\"\",\"\",INDIRECT(CONCATENATE(\"'\",'Inconsistency Data'!$I$4,\"'!Q80\")))","v":""},{"$f":"IF(D80=\"\",\"\",IF((INDEX('RE Inconsistency Results'!$H$1:$H$500,MATCH(SUBSTITUTE(D80,\"OR\",\"d\"),'RE Inconsistency Results'!$B$1:$B$500,0),1))-(INDEX('RE Inconsistency Results'!$F$1:$F$500,MATCH(SUBSTITUTE(D80,\"OR\",\"d\"),'RE Inconsistency Results'!$B$1:$B$500,0),1))>50,\"N/A\",EXP(INDEX('RE Inconsistency Results'!$G$1:$G$500,MATCH(SUBSTITUTE(D80,\"OR\",\"d\"),'RE Inconsistency Results'!$B$1:$B$500,0),1))))","v":""}]
[null,null,null,{"$f":"IF('Fixed Effects'!N81=\"\",\"\",'Fixed Effects'!N81)","v":""},{"$f":"IF('Fixed Effects'!O81=\"\",\"\",'Fixed Effects'!O81)","v":""},{"$f":"IF('Fixed Effects'!Q81=\"\",\"\",'Fixed Effects'!Q81)","v":""},{"$f":"IF(D81=\"\",\"\",IF((INDEX('FE Inconsistency Results'!$H$1:$H$500,MATCH(SUBSTITUTE(D81,\"OR\",\"d\"),'FE Inconsistency Results'!$B$1:$B$500,0),1))-(INDEX('FE Inconsistency Results'!$F$1:$F$500,MATCH(SUBSTITUTE(D81,\"OR\",\"d\"),'FE Inconsistency Results'!$B$1:$B$500,0),1))>50,\"N/A\",EXP(INDEX('FE Inconsistency Results'!$G$1:$G$500,MATCH(SUBSTITUTE(D81,\"OR\",\"d\"),'FE Inconsistency Results'!$B$1:$B$500,0),1))))","v":""},null,{"$f":"IF(INDIRECT(CONCATENATE(\"'\",'Inconsistency Data'!$I$4,\"'!N81\"))=\"\",\"\",INDIRECT(CONCATENATE(\"'\",'Inconsistency Data'!$I$4,\"'!N81\")))","v":""},{"$f":"IF(INDIRECT(CONCATENATE(\"'\",'Inconsistency Data'!$I$4,\"'!O81\"))=\"\",\"\",INDIRECT(CONCATENATE(\"'\",'Inconsistency Data'!$I$4,\"'!O81\")))","v":""},{"$f":"IF(INDIRECT(CONCATENATE(\"'\",'Inconsistency Data'!$I$4,\"'!Q81\"))=\"\",\"\",INDIRECT(CONCATENATE(\"'\",'Inconsistency Data'!$I$4,\"'!Q81\")))","v":""},{"$f":"IF(D81=\"\",\"\",IF((INDEX('RE Inconsistency Results'!$H$1:$H$500,MATCH(SUBSTITUTE(D81,\"OR\",\"d\"),'RE Inconsistency Results'!$B$1:$B$500,0),1))-(INDEX('RE Inconsistency Results'!$F$1:$F$500,MATCH(SUBSTITUTE(D81,\"OR\",\"d\"),'RE Inconsistency Results'!$B$1:$B$500,0),1))>50,\"N/A\",EXP(INDEX('RE Inconsistency Results'!$G$1:$G$500,MATCH(SUBSTITUTE(D81,\"OR\",\"d\"),'RE Inconsistency Results'!$B$1:$B$500,0),1))))","v":""}]
[null,null,null,{"$f":"IF('Fixed Effects'!N82=\"\",\"\",'Fixed Effects'!N82)","v":""},{"$f":"IF('Fixed Effects'!O82=\"\",\"\",'Fixed Effects'!O82)","v":""},{"$f":"IF('Fixed Effects'!Q82=\"\",\"\",'Fixed Effects'!Q82)","v":""},{"$f":"IF(D82=\"\",\"\",IF((INDEX('FE Inconsistency Results'!$H$1:$H$500,MATCH(SUBSTITUTE(D82,\"OR\",\"d\"),'FE Inconsistency Results'!$B$1:$B$500,0),1))-(INDEX('FE Inconsistency Results'!$F$1:$F$500,MATCH(SUBSTITUTE(D82,\"OR\",\"d\"),'FE Inconsistency Results'!$B$1:$B$500,0),1))>50,\"N/A\",EXP(INDEX('FE Inconsistency Results'!$G$1:$G$500,MATCH(SUBSTITUTE(D82,\"OR\",\"d\"),'FE Inconsistency Results'!$B$1:$B$500,0),1))))","v":""},null,{"$f":"IF(INDIRECT(CONCATENATE(\"'\",'Inconsistency Data'!$I$4,\"'!N82\"))=\"\",\"\",INDIRECT(CONCATENATE(\"'\",'Inconsistency Data'!$I$4,\"'!N82\")))","v":""},{"$f":"IF(INDIRECT(CONCATENATE(\"'\",'Inconsistency Data'!$I$4,\"'!O82\"))=\"\",\"\",INDIRECT(CONCATENATE(\"'\",'Inconsistency Data'!$I$4,\"'!O82\")))","v":""},{"$f":"IF(INDIRECT(CONCATENATE(\"'\",'Inconsistency Data'!$I$4,\"'!Q82\"))=\"\",\"\",INDIRECT(CONCATENATE(\"'\",'Inconsistency Data'!$I$4,\"'!Q82\")))","v":""},{"$f":"IF(D82=\"\",\"\",IF((INDEX('RE Inconsistency Results'!$H$1:$H$500,MATCH(SUBSTITUTE(D82,\"OR\",\"d\"),'RE Inconsistency Results'!$B$1:$B$500,0),1))-(INDEX('RE Inconsistency Results'!$F$1:$F$500,MATCH(SUBSTITUTE(D82,\"OR\",\"d\"),'RE Inconsistency Results'!$B$1:$B$500,0),1))>50,\"N/A\",EXP(INDEX('RE Inconsistency Results'!$G$1:$G$500,MATCH(SUBSTITUTE(D82,\"OR\",\"d\"),'RE Inconsistency Results'!$B$1:$B$500,0),1))))","v":""}]
[null,null,null,{"$f":"IF('Fixed Effects'!N83=\"\",\"\",'Fixed Effects'!N83)","v":""},{"$f":"IF('Fixed Effects'!O83=\"\",\"\",'Fixed Effects'!O83)","v":""},{"$f":"IF('Fixed Effects'!Q83=\"\",\"\",'Fixed Effects'!Q83)","v":""},{"$f":"IF(D83=\"\",\"\",IF((INDEX('FE Inconsistency Results'!$H$1:$H$500,MATCH(SUBSTITUTE(D83,\"OR\",\"d\"),'FE Inconsistency Results'!$B$1:$B$500,0),1))-(INDEX('FE Inconsistency Results'!$F$1:$F$500,MATCH(SUBSTITUTE(D83,\"OR\",\"d\"),'FE Inconsistency Results'!$B$1:$B$500,0),1))>50,\"N/A\",EXP(INDEX('FE Inconsistency Results'!$G$1:$G$500,MATCH(SUBSTITUTE(D83,\"OR\",\"d\"),'FE Inconsistency Results'!$B$1:$B$500,0),1))))","v":""},null,{"$f":"IF(INDIRECT(CONCATENATE(\"'\",'Inconsistency Data'!$I$4,\"'!N83\"))=\"\",\"\",INDIRECT(CONCATENATE(\"'\",'Inconsistency Data'!$I$4,\"'!N83\")))","v":""},{"$f":"IF(INDIRECT(CONCATENATE(\"'\",'Inconsistency Data'!$I$4,\"'!O83\"))=\"\",\"\",INDIRECT(CONCATENATE(\"'\",'Inconsistency Data'!$I$4,\"'!O83\")))","v":""},{"$f":"IF(INDIRECT(CONCATENATE(\"'\",'Inconsistency Data'!$I$4,\"'!Q83\"))=\"\",\"\",INDIRECT(CONCATENATE(\"'\",'Inconsistency Data'!$I$4,\"'!Q83\")))","v":""},{"$f":"IF(D83=\"\",\"\",IF((INDEX('RE Inconsistency Results'!$H$1:$H$500,MATCH(SUBSTITUTE(D83,\"OR\",\"d\"),'RE Inconsistency Results'!$B$1:$B$500,0),1))-(INDEX('RE Inconsistency Results'!$F$1:$F$500,MATCH(SUBSTITUTE(D83,\"OR\",\"d\"),'RE Inconsistency Results'!$B$1:$B$500,0),1))>50,\"N/A\",EXP(INDEX('RE Inconsistency Results'!$G$1:$G$500,MATCH(SUBSTITUTE(D83,\"OR\",\"d\"),'RE Inconsistency Results'!$B$1:$B$500,0),1))))","v":""}]
[null,null,null,{"$f":"IF('Fixed Effects'!N84=\"\",\"\",'Fixed Effects'!N84)","v":""},{"$f":"IF('Fixed Effects'!O84=\"\",\"\",'Fixed Effects'!O84)","v":""},{"$f":"IF('Fixed Effects'!Q84=\"\",\"\",'Fixed Effects'!Q84)","v":""},{"$f":"IF(D84=\"\",\"\",IF((INDEX('FE Inconsistency Results'!$H$1:$H$500,MATCH(SUBSTITUTE(D84,\"OR\",\"d\"),'FE Inconsistency Results'!$B$1:$B$500,0),1))-(INDEX('FE Inconsistency Results'!$F$1:$F$500,MATCH(SUBSTITUTE(D84,\"OR\",\"d\"),'FE Inconsistency Results'!$B$1:$B$500,0),1))>50,\"N/A\",EXP(INDEX('FE Inconsistency Results'!$G$1:$G$500,MATCH(SUBSTITUTE(D84,\"OR\",\"d\"),'FE Inconsistency Results'!$B$1:$B$500,0),1))))","v":""},null,{"$f":"IF(INDIRECT(CONCATENATE(\"'\",'Inconsistency Data'!$I$4,\"'!N84\"))=\"\",\"\",INDIRECT(CONCATENATE(\"'\",'Inconsistency Data'!$I$4,\"'!N84\")))","v":""},{"$f":"IF(INDIRECT(CONCATENATE(\"'\",'Inconsistency Data'!$I$4,\"'!O84\"))=\"\",\"\",INDIRECT(CONCATENATE(\"'\",'Inconsistency Data'!$I$4,\"'!O84\")))","v":""},{"$f":"IF(INDIRECT(CONCATENATE(\"'\",'Inconsistency Data'!$I$4,\"'!Q84\"))=\"\",\"\",INDIRECT(CONCATENATE(\"'\",'Inconsistency Data'!$I$4,\"'!Q84\")))","v":""},{"$f":"IF(D84=\"\",\"\",IF((INDEX('RE Inconsistency Results'!$H$1:$H$500,MATCH(SUBSTITUTE(D84,\"OR\",\"d\"),'RE Inconsistency Results'!$B$1:$B$500,0),1))-(INDEX('RE Inconsistency Results'!$F$1:$F$500,MATCH(SUBSTITUTE(D84,\"OR\",\"d\"),'RE Inconsistency Results'!$B$1:$B$500,0),1))>50,\"N/A\",EXP(INDEX('RE Inconsistency Results'!$G$1:$G$500,MATCH(SUBSTITUTE(D84,\"OR\",\"d\"),'RE Inconsistency Results'!$B$1:$B$500,0),1))))","v":""}]
[null,null,null,{"$f":"IF('Fixed Effects'!N85=\"\",\"\",'Fixed Effects'!N85)","v":""},{"$f":"IF('Fixed Effects'!O85=\"\",\"\",'Fixed Effects'!O85)","v":""},{"$f":"IF('Fixed Effects'!Q85=\"\",\"\",'Fixed Effects'!Q85)","v":""},{"$f":"IF(D85=\"\",\"\",IF((INDEX('FE Inconsistency Results'!$H$1:$H$500,MATCH(SUBSTITUTE(D85,\"OR\",\"d\"),'FE Inconsistency Results'!$B$1:$B$500,0),1))-(INDEX('FE Inconsistency Results'!$F$1:$F$500,MATCH(SUBSTITUTE(D85,\"OR\",\"d\"),'FE Inconsistency Results'!$B$1:$B$500,0),1))>50,\"N/A\",EXP(INDEX('FE Inconsistency Results'!$G$1:$G$500,MATCH(SUBSTITUTE(D85,\"OR\",\"d\"),'FE Inconsistency Results'!$B$1:$B$500,0),1))))","v":""},null,{"$f":"IF(INDIRECT(CONCATENATE(\"'\",'Inconsistency Data'!$I$4,\"'!N85\"))=\"\",\"\",INDIRECT(CONCATENATE(\"'\",'Inconsistency Data'!$I$4,\"'!N85\")))","v":""},{"$f":"IF(INDIRECT(CONCATENATE(\"'\",'Inconsistency Data'!$I$4,\"'!O85\"))=\"\",\"\",INDIRECT(CONCATENATE(\"'\",'Inconsistency Data'!$I$4,\"'!O85\")))","v":""},{"$f":"IF(INDIRECT(CONCATENATE(\"'\",'Inconsistency Data'!$I$4,\"'!Q85\"))=\"\",\"\",INDIRECT(CONCATENATE(\"'\",'Inconsistency Data'!$I$4,\"'!Q85\")))","v":""},{"$f":"IF(D85=\"\",\"\",IF((INDEX('RE Inconsistency Results'!$H$1:$H$500,MATCH(SUBSTITUTE(D85,\"OR\",\"d\"),'RE Inconsistency Results'!$B$1:$B$500,0),1))-(INDEX('RE Inconsistency Results'!$F$1:$F$500,MATCH(SUBSTITUTE(D85,\"OR\",\"d\"),'RE Inconsistency Results'!$B$1:$B$500,0),1))>50,\"N/A\",EXP(INDEX('RE Inconsistency Results'!$G$1:$G$500,MATCH(SUBSTITUTE(D85,\"OR\",\"d\"),'RE Inconsistency Results'!$B$1:$B$500,0),1))))","v":""}]
[null,null,null,{"$f":"IF('Fixed Effects'!N86=\"\",\"\",'Fixed Effects'!N86)","v":""},{"$f":"IF('Fixed Effects'!O86=\"\",\"\",'Fixed Effects'!O86)","v":""},{"$f":"IF('Fixed Effects'!Q86=\"\",\"\",'Fixed Effects'!Q86)","v":""},{"$f":"IF(D86=\"\",\"\",IF((INDEX('FE Inconsistency Results'!$H$1:$H$500,MATCH(SUBSTITUTE(D86,\"OR\",\"d\"),'FE Inconsistency Results'!$B$1:$B$500,0),1))-(INDEX('FE Inconsistency Results'!$F$1:$F$500,MATCH(SUBSTITUTE(D86,\"OR\",\"d\"),'FE Inconsistency Results'!$B$1:$B$500,0),1))>50,\"N/A\",EXP(INDEX('FE Inconsistency Results'!$G$1:$G$500,MATCH(SUBSTITUTE(D86,\"OR\",\"d\"),'FE Inconsistency Results'!$B$1:$B$500,0),1))))","v":""},null,{"$f":"IF(INDIRECT(CONCATENATE(\"'\",'Inconsistency Data'!$I$4,\"'!N86\"))=\"\",\"\",INDIRECT(CONCATENATE(\"'\",'Inconsistency Data'!$I$4,\"'!N86\")))","v":""},{"$f":"IF(INDIRECT(CONCATENATE(\"'\",'Inconsistency Data'!$I$4,\"'!O86\"))=\"\",\"\",INDIRECT(CONCATENATE(\"'\",'Inconsistency Data'!$I$4,\"'!O86\")))","v":""},{"$f":"IF(INDIRECT(CONCATENATE(\"'\",'Inconsistency Data'!$I$4,\"'!Q86\"))=\"\",\"\",INDIRECT(CONCATENATE(\"'\",'Inconsistency Data'!$I$4,\"'!Q86\")))","v":""},{"$f":"IF(D86=\"\",\"\",IF((INDEX('RE Inconsistency Results'!$H$1:$H$500,MATCH(SUBSTITUTE(D86,\"OR\",\"d\"),'RE Inconsistency Results'!$B$1:$B$500,0),1))-(INDEX('RE Inconsistency Results'!$F$1:$F$500,MATCH(SUBSTITUTE(D86,\"OR\",\"d\"),'RE Inconsistency Results'!$B$1:$B$500,0),1))>50,\"N/A\",EXP(INDEX('RE Inconsistency Results'!$G$1:$G$500,MATCH(SUBSTITUTE(D86,\"OR\",\"d\"),'RE Inconsistency Results'!$B$1:$B$500,0),1))))","v":""}]
[null,null,null,{"$f":"IF('Fixed Effects'!N87=\"\",\"\",'Fixed Effects'!N87)","v":""},{"$f":"IF('Fixed Effects'!O87=\"\",\"\",'Fixed Effects'!O87)","v":""},{"$f":"IF('Fixed Effects'!Q87=\"\",\"\",'Fixed Effects'!Q87)","v":""},{"$f":"IF(D87=\"\",\"\",IF((INDEX('FE Inconsistency Results'!$H$1:$H$500,MATCH(SUBSTITUTE(D87,\"OR\",\"d\"),'FE Inconsistency Results'!$B$1:$B$500,0),1))-(INDEX('FE Inconsistency Results'!$F$1:$F$500,MATCH(SUBSTITUTE(D87,\"OR\",\"d\"),'FE Inconsistency Results'!$B$1:$B$500,0),1))>50,\"N/A\",EXP(INDEX('FE Inconsistency Results'!$G$1:$G$500,MATCH(SUBSTITUTE(D87,\"OR\",\"d\"),'FE Inconsistency Results'!$B$1:$B$500,0),1))))","v":""},null,{"$f":"IF(INDIRECT(CONCATENATE(\"'\",'Inconsistency Data'!$I$4,\"'!N87\"))=\"\",\"\",INDIRECT(CONCATENATE(\"'\",'Inconsistency Data'!$I$4,\"'!N87\")))","v":""},{"$f":"IF(INDIRECT(CONCATENATE(\"'\",'Inconsistency Data'!$I$4,\"'!O87\"))=\"\",\"\",INDIRECT(CONCATENATE(\"'\",'Inconsistency Data'!$I$4,\"'!O87\")))","v":""},{"$f":"IF(INDIRECT(CONCATENATE(\"'\",'Inconsistency Data'!$I$4,\"'!Q87\"))=\"\",\"\",INDIRECT(CONCATENATE(\"'\",'Inconsistency Data'!$I$4,\"'!Q87\")))","v":""},{"$f":"IF(D87=\"\",\"\",IF((INDEX('RE Inconsistency Results'!$H$1:$H$500,MATCH(SUBSTITUTE(D87,\"OR\",\"d\"),'RE Inconsistency Results'!$B$1:$B$500,0),1))-(INDEX('RE Inconsistency Results'!$F$1:$F$500,MATCH(SUBSTITUTE(D87,\"OR\",\"d\"),'RE Inconsistency Results'!$B$1:$B$500,0),1))>50,\"N/A\",EXP(INDEX('RE Inconsistency Results'!$G$1:$G$500,MATCH(SUBSTITUTE(D87,\"OR\",\"d\"),'RE Inconsistency Results'!$B$1:$B$500,0),1))))","v":""}]
[null,null,null,{"$f":"IF('Fixed Effects'!N88=\"\",\"\",'Fixed Effects'!N88)","v":""},{"$f":"IF('Fixed Effects'!O88=\"\",\"\",'Fixed Effects'!O88)","v":""},{"$f":"IF('Fixed Effects'!Q88=\"\",\"\",'Fixed Effects'!Q88)","v":""},{"$f":"IF(D88=\"\",\"\",IF((INDEX('FE Inconsistency Results'!$H$1:$H$500,MATCH(SUBSTITUTE(D88,\"OR\",\"d\"),'FE Inconsistency Results'!$B$1:$B$500,0),1))-(INDEX('FE Inconsistency Results'!$F$1:$F$500,MATCH(SUBSTITUTE(D88,\"OR\",\"d\"),'FE Inconsistency Results'!$B$1:$B$500,0),1))>50,\"N/A\",EXP(INDEX('FE Inconsistency Results'!$G$1:$G$500,MATCH(SUBSTITUTE(D88,\"OR\",\"d\"),'FE Inconsistency Results'!$B$1:$B$500,0),1))))","v":""},null,{"$f":"IF(INDIRECT(CONCATENATE(\"'\",'Inconsistency Data'!$I$4,\"'!N88\"))=\"\",\"\",INDIRECT(CONCATENATE(\"'\",'Inconsistency Data'!$I$4,\"'!N88\")))","v":""},{"$f":"IF(INDIRECT(CONCATENATE(\"'\",'Inconsistency Data'!$I$4,\"'!O88\"))=\"\",\"\",INDIRECT(CONCATENATE(\"'\",'Inconsistency Data'!$I$4,\"'!O88\")))","v":""},{"$f":"IF(INDIRECT(CONCATENATE(\"'\",'Inconsistency Data'!$I$4,\"'!Q88\"))=\"\",\"\",INDIRECT(CONCATENATE(\"'\",'Inconsistency Data'!$I$4,\"'!Q88\")))","v":""},{"$f":"IF(D88=\"\",\"\",IF((INDEX('RE Inconsistency Results'!$H$1:$H$500,MATCH(SUBSTITUTE(D88,\"OR\",\"d\"),'RE Inconsistency Results'!$B$1:$B$500,0),1))-(INDEX('RE Inconsistency Results'!$F$1:$F$500,MATCH(SUBSTITUTE(D88,\"OR\",\"d\"),'RE Inconsistency Results'!$B$1:$B$500,0),1))>50,\"N/A\",EXP(INDEX('RE Inconsistency Results'!$G$1:$G$500,MATCH(SUBSTITUTE(D88,\"OR\",\"d\"),'RE Inconsistency Results'!$B$1:$B$500,0),1))))","v":""}]
[null,null,null,{"$f":"IF('Fixed Effects'!N89=\"\",\"\",'Fixed Effects'!N89)","v":""},{"$f":"IF('Fixed Effects'!O89=\"\",\"\",'Fixed Effects'!O89)","v":""},{"$f":"IF('Fixed Effects'!Q89=\"\",\"\",'Fixed Effects'!Q89)","v":""},{"$f":"IF(D89=\"\",\"\",IF((INDEX('FE Inconsistency Results'!$H$1:$H$500,MATCH(SUBSTITUTE(D89,\"OR\",\"d\"),'FE Inconsistency Results'!$B$1:$B$500,0),1))-(INDEX('FE Inconsistency Results'!$F$1:$F$500,MATCH(SUBSTITUTE(D89,\"OR\",\"d\"),'FE Inconsistency Results'!$B$1:$B$500,0),1))>50,\"N/A\",EXP(INDEX('FE Inconsistency Results'!$G$1:$G$500,MATCH(SUBSTITUTE(D89,\"OR\",\"d\"),'FE Inconsistency Results'!$B$1:$B$500,0),1))))","v":""},null,{"$f":"IF(INDIRECT(CONCATENATE(\"'\",'Inconsistency Data'!$I$4,\"'!N89\"))=\"\",\"\",INDIRECT(CONCATENATE(\"'\",'Inconsistency Data'!$I$4,\"'!N89\")))","v":""},{"$f":"IF(INDIRECT(CONCATENATE(\"'\",'Inconsistency Data'!$I$4,\"'!O89\"))=\"\",\"\",INDIRECT(CONCATENATE(\"'\",'Inconsistency Data'!$I$4,\"'!O89\")))","v":""},{"$f":"IF(INDIRECT(CONCATENATE(\"'\",'Inconsistency Data'!$I$4,\"'!Q89\"))=\"\",\"\",INDIRECT(CONCATENATE(\"'\",'Inconsistency Data'!$I$4,\"'!Q89\")))","v":""},{"$f":"IF(D89=\"\",\"\",IF((INDEX('RE Inconsistency Results'!$H$1:$H$500,MATCH(SUBSTITUTE(D89,\"OR\",\"d\"),'RE Inconsistency Results'!$B$1:$B$500,0),1))-(INDEX('RE Inconsistency Results'!$F$1:$F$500,MATCH(SUBSTITUTE(D89,\"OR\",\"d\"),'RE Inconsistency Results'!$B$1:$B$500,0),1))>50,\"N/A\",EXP(INDEX('RE Inconsistency Results'!$G$1:$G$500,MATCH(SUBSTITUTE(D89,\"OR\",\"d\"),'RE Inconsistency Results'!$B$1:$B$500,0),1))))","v":""}]
[null,null,null,{"$f":"IF('Fixed Effects'!N90=\"\",\"\",'Fixed Effects'!N90)","v":""},{"$f":"IF('Fixed Effects'!O90=\"\",\"\",'Fixed Effects'!O90)","v":""},{"$f":"IF('Fixed Effects'!Q90=\"\",\"\",'Fixed Effects'!Q90)","v":""},{"$f":"IF(D90=\"\",\"\",IF((INDEX('FE Inconsistency Results'!$H$1:$H$500,MATCH(SUBSTITUTE(D90,\"OR\",\"d\"),'FE Inconsistency Results'!$B$1:$B$500,0),1))-(INDEX('FE Inconsistency Results'!$F$1:$F$500,MATCH(SUBSTITUTE(D90,\"OR\",\"d\"),'FE Inconsistency Results'!$B$1:$B$500,0),1))>50,\"N/A\",EXP(INDEX('FE Inconsistency Results'!$G$1:$G$500,MATCH(SUBSTITUTE(D90,\"OR\",\"d\"),'FE Inconsistency Results'!$B$1:$B$500,0),1))))","v":""},null,{"$f":"IF(INDIRECT(CONCATENATE(\"'\",'Inconsistency Data'!$I$4,\"'!N90\"))=\"\",\"\",INDIRECT(CONCATENATE(\"'\",'Inconsistency Data'!$I$4,\"'!N90\")))","v":""},{"$f":"IF(INDIRECT(CONCATENATE(\"'\",'Inconsistency Data'!$I$4,\"'!O90\"))=\"\",\"\",INDIRECT(CONCATENATE(\"'\",'Inconsistency Data'!$I$4,\"'!O90\")))","v":""},{"$f":"IF(INDIRECT(CONCATENATE(\"'\",'Inconsistency Data'!$I$4,\"'!Q90\"))=\"\",\"\",INDIRECT(CONCATENATE(\"'\",'Inconsistency Data'!$I$4,\"'!Q90\")))","v":""},{"$f":"IF(D90=\"\",\"\",IF((INDEX('RE Inconsistency Results'!$H$1:$H$500,MATCH(SUBSTITUTE(D90,\"OR\",\"d\"),'RE Inconsistency Results'!$B$1:$B$500,0),1))-(INDEX('RE Inconsistency Results'!$F$1:$F$500,MATCH(SUBSTITUTE(D90,\"OR\",\"d\"),'RE Inconsistency Results'!$B$1:$B$500,0),1))>50,\"N/A\",EXP(INDEX('RE Inconsistency Results'!$G$1:$G$500,MATCH(SUBSTITUTE(D90,\"OR\",\"d\"),'RE Inconsistency Results'!$B$1:$B$500,0),1))))","v":""}]
[null,null,null,{"$f":"IF('Fixed Effects'!N91=\"\",\"\",'Fixed Effects'!N91)","v":""},{"$f":"IF('Fixed Effects'!O91=\"\",\"\",'Fixed Effects'!O91)","v":""},{"$f":"IF('Fixed Effects'!Q91=\"\",\"\",'Fixed Effects'!Q91)","v":""},{"$f":"IF(D91=\"\",\"\",IF((INDEX('FE Inconsistency Results'!$H$1:$H$500,MATCH(SUBSTITUTE(D91,\"OR\",\"d\"),'FE Inconsistency Results'!$B$1:$B$500,0),1))-(INDEX('FE Inconsistency Results'!$F$1:$F$500,MATCH(SUBSTITUTE(D91,\"OR\",\"d\"),'FE Inconsistency Results'!$B$1:$B$500,0),1))>50,\"N/A\",EXP(INDEX('FE Inconsistency Results'!$G$1:$G$500,MATCH(SUBSTITUTE(D91,\"OR\",\"d\"),'FE Inconsistency Results'!$B$1:$B$500,0),1))))","v":""},null,{"$f":"IF(INDIRECT(CONCATENATE(\"'\",'Inconsistency Data'!$I$4,\"'!N91\"))=\"\",\"\",INDIRECT(CONCATENATE(\"'\",'Inconsistency Data'!$I$4,\"'!N91\")))","v":""},{"$f":"IF(INDIRECT(CONCATENATE(\"'\",'Inconsistency Data'!$I$4,\"'!O91\"))=\"\",\"\",INDIRECT(CONCATENATE(\"'\",'Inconsistency Data'!$I$4,\"'!O91\")))","v":""},{"$f":"IF(INDIRECT(CONCATENATE(\"'\",'Inconsistency Data'!$I$4,\"'!Q91\"))=\"\",\"\",INDIRECT(CONCATENATE(\"'\",'Inconsistency Data'!$I$4,\"'!Q91\")))","v":""},{"$f":"IF(D91=\"\",\"\",IF((INDEX('RE Inconsistency Results'!$H$1:$H$500,MATCH(SUBSTITUTE(D91,\"OR\",\"d\"),'RE Inconsistency Results'!$B$1:$B$500,0),1))-(INDEX('RE Inconsistency Results'!$F$1:$F$500,MATCH(SUBSTITUTE(D91,\"OR\",\"d\"),'RE Inconsistency Results'!$B$1:$B$500,0),1))>50,\"N/A\",EXP(INDEX('RE Inconsistency Results'!$G$1:$G$500,MATCH(SUBSTITUTE(D91,\"OR\",\"d\"),'RE Inconsistency Results'!$B$1:$B$500,0),1))))","v":""}]
[null,null,null,{"$f":"IF('Fixed Effects'!N92=\"\",\"\",'Fixed Effects'!N92)","v":""},{"$f":"IF('Fixed Effects'!O92=\"\",\"\",'Fixed Effects'!O92)","v":""},{"$f":"IF('Fixed Effects'!Q92=\"\",\"\",'Fixed Effects'!Q92)","v":""},{"$f":"IF(D92=\"\",\"\",IF((INDEX('FE Inconsistency Results'!$H$1:$H$500,MATCH(SUBSTITUTE(D92,\"OR\",\"d\"),'FE Inconsistency Results'!$B$1:$B$500,0),1))-(INDEX('FE Inconsistency Results'!$F$1:$F$500,MATCH(SUBSTITUTE(D92,\"OR\",\"d\"),'FE Inconsistency Results'!$B$1:$B$500,0),1))>50,\"N/A\",EXP(INDEX('FE Inconsistency Results'!$G$1:$G$500,MATCH(SUBSTITUTE(D92,\"OR\",\"d\"),'FE Inconsistency Results'!$B$1:$B$500,0),1))))","v":""},null,{"$f":"IF(INDIRECT(CONCATENATE(\"'\",'Inconsistency Data'!$I$4,\"'!N92\"))=\"\",\"\",INDIRECT(CONCATENATE(\"'\",'Inconsistency Data'!$I$4,\"'!N92\")))","v":""},{"$f":"IF(INDIRECT(CONCATENATE(\"'\",'Inconsistency Data'!$I$4,\"'!O92\"))=\"\",\"\",INDIRECT(CONCATENATE(\"'\",'Inconsistency Data'!$I$4,\"'!O92\")))","v":""},{"$f":"IF(INDIRECT(CONCATENATE(\"'\",'Inconsistency Data'!$I$4,\"'!Q92\"))=\"\",\"\",INDIRECT(CONCATENATE(\"'\",'Inconsistency Data'!$I$4,\"'!Q92\")))","v":""},{"$f":"IF(D92=\"\",\"\",IF((INDEX('RE Inconsistency Results'!$H$1:$H$500,MATCH(SUBSTITUTE(D92,\"OR\",\"d\"),'RE Inconsistency Results'!$B$1:$B$500,0),1))-(INDEX('RE Inconsistency Results'!$F$1:$F$500,MATCH(SUBSTITUTE(D92,\"OR\",\"d\"),'RE Inconsistency Results'!$B$1:$B$500,0),1))>50,\"N/A\",EXP(INDEX('RE Inconsistency Results'!$G$1:$G$500,MATCH(SUBSTITUTE(D92,\"OR\",\"d\"),'RE Inconsistency Results'!$B$1:$B$500,0),1))))","v":""}]
[null,null,null,{"$f":"IF('Fixed Effects'!N93=\"\",\"\",'Fixed Effects'!N93)","v":""},{"$f":"IF('Fixed Effects'!O93=\"\",\"\",'Fixed Effects'!O93)","v":""},{"$f":"IF('Fixed Effects'!Q93=\"\",\"\",'Fixed Effects'!Q93)","v":""},{"$f":"IF(D93=\"\",\"\",IF((INDEX('FE Inconsistency Results'!$H$1:$H$500,MATCH(SUBSTITUTE(D93,\"OR\",\"d\"),'FE Inconsistency Results'!$B$1:$B$500,0),1))-(INDEX('FE Inconsistency Results'!$F$1:$F$500,MATCH(SUBSTITUTE(D93,\"OR\",\"d\"),'FE Inconsistency Results'!$B$1:$B$500,0),1))>50,\"N/A\",EXP(INDEX('FE Inconsistency Results'!$G$1:$G$500,MATCH(SUBSTITUTE(D93,\"OR\",\"d\"),'FE Inconsistency Results'!$B$1:$B$500,0),1))))","v":""},null,{"$f":"IF(INDIRECT(CONCATENATE(\"'\",'Inconsistency Data'!$I$4,\"'!N93\"))=\"\",\"\",INDIRECT(CONCATENATE(\"'\",'Inconsistency Data'!$I$4,\"'!N93\")))","v":""},{"$f":"IF(INDIRECT(CONCATENATE(\"'\",'Inconsistency Data'!$I$4,\"'!O93\"))=\"\",\"\",INDIRECT(CONCATENATE(\"'\",'Inconsistency Data'!$I$4,\"'!O93\")))","v":""},{"$f":"IF(INDIRECT(CONCATENATE(\"'\",'Inconsistency Data'!$I$4,\"'!Q93\"))=\"\",\"\",INDIRECT(CONCATENATE(\"'\",'Inconsistency Data'!$I$4,\"'!Q93\")))","v":""},{"$f":"IF(D93=\"\",\"\",IF((INDEX('RE Inconsistency Results'!$H$1:$H$500,MATCH(SUBSTITUTE(D93,\"OR\",\"d\"),'RE Inconsistency Results'!$B$1:$B$500,0),1))-(INDEX('RE Inconsistency Results'!$F$1:$F$500,MATCH(SUBSTITUTE(D93,\"OR\",\"d\"),'RE Inconsistency Results'!$B$1:$B$500,0),1))>50,\"N/A\",EXP(INDEX('RE Inconsistency Results'!$G$1:$G$500,MATCH(SUBSTITUTE(D93,\"OR\",\"d\"),'RE Inconsistency Results'!$B$1:$B$500,0),1))))","v":""}]
[null,null,null,{"$f":"IF('Fixed Effects'!N94=\"\",\"\",'Fixed Effects'!N94)","v":""},{"$f":"IF('Fixed Effects'!O94=\"\",\"\",'Fixed Effects'!O94)","v":""},{"$f":"IF('Fixed Effects'!Q94=\"\",\"\",'Fixed Effects'!Q94)","v":""},{"$f":"IF(D94=\"\",\"\",IF((INDEX('FE Inconsistency Results'!$H$1:$H$500,MATCH(SUBSTITUTE(D94,\"OR\",\"d\"),'FE Inconsistency Results'!$B$1:$B$500,0),1))-(INDEX('FE Inconsistency Results'!$F$1:$F$500,MATCH(SUBSTITUTE(D94,\"OR\",\"d\"),'FE Inconsistency Results'!$B$1:$B$500,0),1))>50,\"N/A\",EXP(INDEX('FE Inconsistency Results'!$G$1:$G$500,MATCH(SUBSTITUTE(D94,\"OR\",\"d\"),'FE Inconsistency Results'!$B$1:$B$500,0),1))))","v":""},null,{"$f":"IF(INDIRECT(CONCATENATE(\"'\",'Inconsistency Data'!$I$4,\"'!N94\"))=\"\",\"\",INDIRECT(CONCATENATE(\"'\",'Inconsistency Data'!$I$4,\"'!N94\")))","v":""},{"$f":"IF(INDIRECT(CONCATENATE(\"'\",'Inconsistency Data'!$I$4,\"'!O94\"))=\"\",\"\",INDIRECT(CONCATENATE(\"'\",'Inconsistency Data'!$I$4,\"'!O94\")))","v":""},{"$f":"IF(INDIRECT(CONCATENATE(\"'\",'Inconsistency Data'!$I$4,\"'!Q94\"))=\"\",\"\",INDIRECT(CONCATENATE(\"'\",'Inconsistency Data'!$I$4,\"'!Q94\")))","v":""},{"$f":"IF(D94=\"\",\"\",IF((INDEX('RE Inconsistency Results'!$H$1:$H$500,MATCH(SUBSTITUTE(D94,\"OR\",\"d\"),'RE Inconsistency Results'!$B$1:$B$500,0),1))-(INDEX('RE Inconsistency Results'!$F$1:$F$500,MATCH(SUBSTITUTE(D94,\"OR\",\"d\"),'RE Inconsistency Results'!$B$1:$B$500,0),1))>50,\"N/A\",EXP(INDEX('RE Inconsistency Results'!$G$1:$G$500,MATCH(SUBSTITUTE(D94,\"OR\",\"d\"),'RE Inconsistency Results'!$B$1:$B$500,0),1))))","v":""}]
[null,null,null,{"$f":"IF('Fixed Effects'!N95=\"\",\"\",'Fixed Effects'!N95)","v":""},{"$f":"IF('Fixed Effects'!O95=\"\",\"\",'Fixed Effects'!O95)","v":""},{"$f":"IF('Fixed Effects'!Q95=\"\",\"\",'Fixed Effects'!Q95)","v":""},{"$f":"IF(D95=\"\",\"\",IF((INDEX('FE Inconsistency Results'!$H$1:$H$500,MATCH(SUBSTITUTE(D95,\"OR\",\"d\"),'FE Inconsistency Results'!$B$1:$B$500,0),1))-(INDEX('FE Inconsistency Results'!$F$1:$F$500,MATCH(SUBSTITUTE(D95,\"OR\",\"d\"),'FE Inconsistency Results'!$B$1:$B$500,0),1))>50,\"N/A\",EXP(INDEX('FE Inconsistency Results'!$G$1:$G$500,MATCH(SUBSTITUTE(D95,\"OR\",\"d\"),'FE Inconsistency Results'!$B$1:$B$500,0),1))))","v":""},null,{"$f":"IF(INDIRECT(CONCATENATE(\"'\",'Inconsistency Data'!$I$4,\"'!N95\"))=\"\",\"\",INDIRECT(CONCATENATE(\"'\",'Inconsistency Data'!$I$4,\"'!N95\")))","v":""},{"$f":"IF(INDIRECT(CONCATENATE(\"'\",'Inconsistency Data'!$I$4,\"'!O95\"))=\"\",\"\",INDIRECT(CONCATENATE(\"'\",'Inconsistency Data'!$I$4,\"'!O95\")))","v":""},{"$f":"IF(INDIRECT(CONCATENATE(\"'\",'Inconsistency Data'!$I$4,\"'!Q95\"))=\"\",\"\",INDIRECT(CONCATENATE(\"'\",'Inconsistency Data'!$I$4,\"'!Q95\")))","v":""},{"$f":"IF(D95=\"\",\"\",IF((INDEX('RE Inconsistency Results'!$H$1:$H$500,MATCH(SUBSTITUTE(D95,\"OR\",\"d\"),'RE Inconsistency Results'!$B$1:$B$500,0),1))-(INDEX('RE Inconsistency Results'!$F$1:$F$500,MATCH(SUBSTITUTE(D95,\"OR\",\"d\"),'RE Inconsistency Results'!$B$1:$B$500,0),1))>50,\"N/A\",EXP(INDEX('RE Inconsistency Results'!$G$1:$G$500,MATCH(SUBSTITUTE(D95,\"OR\",\"d\"),'RE Inconsistency Results'!$B$1:$B$500,0),1))))","v":""}]
[null,null,null,{"$f":"IF('Fixed Effects'!N96=\"\",\"\",'Fixed Effects'!N96)","v":""},{"$f":"IF('Fixed Effects'!O96=\"\",\"\",'Fixed Effects'!O96)","v":""},{"$f":"IF('Fixed Effects'!Q96=\"\",\"\",'Fixed Effects'!Q96)","v":""},{"$f":"IF(D96=\"\",\"\",IF((INDEX('FE Inconsistency Results'!$H$1:$H$500,MATCH(SUBSTITUTE(D96,\"OR\",\"d\"),'FE Inconsistency Results'!$B$1:$B$500,0),1))-(INDEX('FE Inconsistency Results'!$F$1:$F$500,MATCH(SUBSTITUTE(D96,\"OR\",\"d\"),'FE Inconsistency Results'!$B$1:$B$500,0),1))>50,\"N/A\",EXP(INDEX('FE Inconsistency Results'!$G$1:$G$500,MATCH(SUBSTITUTE(D96,\"OR\",\"d\"),'FE Inconsistency Results'!$B$1:$B$500,0),1))))","v":""},null,{"$f":"IF(INDIRECT(CONCATENATE(\"'\",'Inconsistency Data'!$I$4,\"'!N96\"))=\"\",\"\",INDIRECT(CONCATENATE(\"'\",'Inconsistency Data'!$I$4,\"'!N96\")))","v":""},{"$f":"IF(INDIRECT(CONCATENATE(\"'\",'Inconsistency Data'!$I$4,\"'!O96\"))=\"\",\"\",INDIRECT(CONCATENATE(\"'\",'Inconsistency Data'!$I$4,\"'!O96\")))","v":""},{"$f":"IF(INDIRECT(CONCATENATE(\"'\",'Inconsistency Data'!$I$4,\"'!Q96\"))=\"\",\"\",INDIRECT(CONCATENATE(\"'\",'Inconsistency Data'!$I$4,\"'!Q96\")))","v":""},{"$f":"IF(D96=\"\",\"\",IF((INDEX('RE Inconsistency Results'!$H$1:$H$500,MATCH(SUBSTITUTE(D96,\"OR\",\"d\"),'RE Inconsistency Results'!$B$1:$B$500,0),1))-(INDEX('RE Inconsistency Results'!$F$1:$F$500,MATCH(SUBSTITUTE(D96,\"OR\",\"d\"),'RE Inconsistency Results'!$B$1:$B$500,0),1))>50,\"N/A\",EXP(INDEX('RE Inconsistency Results'!$G$1:$G$500,MATCH(SUBSTITUTE(D96,\"OR\",\"d\"),'RE Inconsistency Results'!$B$1:$B$500,0),1))))","v":""}]
[null,null,null,{"$f":"IF('Fixed Effects'!N97=\"\",\"\",'Fixed Effects'!N97)","v":""},{"$f":"IF('Fixed Effects'!O97=\"\",\"\",'Fixed Effects'!O97)","v":""},{"$f":"IF('Fixed Effects'!Q97=\"\",\"\",'Fixed Effects'!Q97)","v":""},{"$f":"IF(D97=\"\",\"\",IF((INDEX('FE Inconsistency Results'!$H$1:$H$500,MATCH(SUBSTITUTE(D97,\"OR\",\"d\"),'FE Inconsistency Results'!$B$1:$B$500,0),1))-(INDEX('FE Inconsistency Results'!$F$1:$F$500,MATCH(SUBSTITUTE(D97,\"OR\",\"d\"),'FE Inconsistency Results'!$B$1:$B$500,0),1))>50,\"N/A\",EXP(INDEX('FE Inconsistency Results'!$G$1:$G$500,MATCH(SUBSTITUTE(D97,\"OR\",\"d\"),'FE Inconsistency Results'!$B$1:$B$500,0),1))))","v":""},null,{"$f":"IF(INDIRECT(CONCATENATE(\"'\",'Inconsistency Data'!$I$4,\"'!N97\"))=\"\",\"\",INDIRECT(CONCATENATE(\"'\",'Inconsistency Data'!$I$4,\"'!N97\")))","v":""},{"$f":"IF(INDIRECT(CONCATENATE(\"'\",'Inconsistency Data'!$I$4,\"'!O97\"))=\"\",\"\",INDIRECT(CONCATENATE(\"'\",'Inconsistency Data'!$I$4,\"'!O97\")))","v":""},{"$f":"IF(INDIRECT(CONCATENATE(\"'\",'Inconsistency Data'!$I$4,\"'!Q97\"))=\"\",\"\",INDIRECT(CONCATENATE(\"'\",'Inconsistency Data'!$I$4,\"'!Q97\")))","v":""},{"$f":"IF(D97=\"\",\"\",IF((INDEX('RE Inconsistency Results'!$H$1:$H$500,MATCH(SUBSTITUTE(D97,\"OR\",\"d\"),'RE Inconsistency Results'!$B$1:$B$500,0),1))-(INDEX('RE Inconsistency Results'!$F$1:$F$500,MATCH(SUBSTITUTE(D97,\"OR\",\"d\"),'RE Inconsistency Results'!$B$1:$B$500,0),1))>50,\"N/A\",EXP(INDEX('RE Inconsistency Results'!$G$1:$G$500,MATCH(SUBSTITUTE(D97,\"OR\",\"d\"),'RE Inconsistency Results'!$B$1:$B$500,0),1))))","v":""}]
[null,null,null,{"$f":"IF('Fixed Effects'!N98=\"\",\"\",'Fixed Effects'!N98)","v":""},{"$f":"IF('Fixed Effects'!O98=\"\",\"\",'Fixed Effects'!O98)","v":""},{"$f":"IF('Fixed Effects'!Q98=\"\",\"\",'Fixed Effects'!Q98)","v":""},{"$f":"IF(D98=\"\",\"\",IF((INDEX('FE Inconsistency Results'!$H$1:$H$500,MATCH(SUBSTITUTE(D98,\"OR\",\"d\"),'FE Inconsistency Results'!$B$1:$B$500,0),1))-(INDEX('FE Inconsistency Results'!$F$1:$F$500,MATCH(SUBSTITUTE(D98,\"OR\",\"d\"),'FE Inconsistency Results'!$B$1:$B$500,0),1))>50,\"N/A\",EXP(INDEX('FE Inconsistency Results'!$G$1:$G$500,MATCH(SUBSTITUTE(D98,\"OR\",\"d\"),'FE Inconsistency Results'!$B$1:$B$500,0),1))))","v":""},null,{"$f":"IF(INDIRECT(CONCATENATE(\"'\",'Inconsistency Data'!$I$4,\"'!N98\"))=\"\",\"\",INDIRECT(CONCATENATE(\"'\",'Inconsistency Data'!$I$4,\"'!N98\")))","v":""},{"$f":"IF(INDIRECT(CONCATENATE(\"'\",'Inconsistency Data'!$I$4,\"'!O98\"))=\"\",\"\",INDIRECT(CONCATENATE(\"'\",'Inconsistency Data'!$I$4,\"'!O98\")))","v":""},{"$f":"IF(INDIRECT(CONCATENATE(\"'\",'Inconsistency Data'!$I$4,\"'!Q98\"))=\"\",\"\",INDIRECT(CONCATENATE(\"'\",'Inconsistency Data'!$I$4,\"'!Q98\")))","v":""},{"$f":"IF(D98=\"\",\"\",IF((INDEX('RE Inconsistency Results'!$H$1:$H$500,MATCH(SUBSTITUTE(D98,\"OR\",\"d\"),'RE Inconsistency Results'!$B$1:$B$500,0),1))-(INDEX('RE Inconsistency Results'!$F$1:$F$500,MATCH(SUBSTITUTE(D98,\"OR\",\"d\"),'RE Inconsistency Results'!$B$1:$B$500,0),1))>50,\"N/A\",EXP(INDEX('RE Inconsistency Results'!$G$1:$G$500,MATCH(SUBSTITUTE(D98,\"OR\",\"d\"),'RE Inconsistency Results'!$B$1:$B$500,0),1))))","v":""}]
[null,null,null,{"$f":"IF('Fixed Effects'!N99=\"\",\"\",'Fixed Effects'!N99)","v":""},{"$f":"IF('Fixed Effects'!O99=\"\",\"\",'Fixed Effects'!O99)","v":""},{"$f":"IF('Fixed Effects'!Q99=\"\",\"\",'Fixed Effects'!Q99)","v":""},{"$f":"IF(D99=\"\",\"\",IF((INDEX('FE Inconsistency Results'!$H$1:$H$500,MATCH(SUBSTITUTE(D99,\"OR\",\"d\"),'FE Inconsistency Results'!$B$1:$B$500,0),1))-(INDEX('FE Inconsistency Results'!$F$1:$F$500,MATCH(SUBSTITUTE(D99,\"OR\",\"d\"),'FE Inconsistency Results'!$B$1:$B$500,0),1))>50,\"N/A\",EXP(INDEX('FE Inconsistency Results'!$G$1:$G$500,MATCH(SUBSTITUTE(D99,\"OR\",\"d\"),'FE Inconsistency Results'!$B$1:$B$500,0),1))))","v":""},null,{"$f":"IF(INDIRECT(CONCATENATE(\"'\",'Inconsistency Data'!$I$4,\"'!N99\"))=\"\",\"\",INDIRECT(CONCATENATE(\"'\",'Inconsistency Data'!$I$4,\"'!N99\")))","v":""},{"$f":"IF(INDIRECT(CONCATENATE(\"'\",'Inconsistency Data'!$I$4,\"'!O99\"))=\"\",\"\",INDIRECT(CONCATENATE(\"'\",'Inconsistency Data'!$I$4,\"'!O99\")))","v":""},{"$f":"IF(INDIRECT(CONCATENATE(\"'\",'Inconsistency Data'!$I$4,\"'!Q99\"))=\"\",\"\",INDIRECT(CONCATENATE(\"'\",'Inconsistency Data'!$I$4,\"'!Q99\")))","v":""},{"$f":"IF(D99=\"\",\"\",IF((INDEX('RE Inconsistency Results'!$H$1:$H$500,MATCH(SUBSTITUTE(D99,\"OR\",\"d\"),'RE Inconsistency Results'!$B$1:$B$500,0),1))-(INDEX('RE Inconsistency Results'!$F$1:$F$500,MATCH(SUBSTITUTE(D99,\"OR\",\"d\"),'RE Inconsistency Results'!$B$1:$B$500,0),1))>50,\"N/A\",EXP(INDEX('RE Inconsistency Results'!$G$1:$G$500,MATCH(SUBSTITUTE(D99,\"OR\",\"d\"),'RE Inconsistency Results'!$B$1:$B$500,0),1))))","v":""}]
[null,null,null,{"$f":"IF('Fixed Effects'!N100=\"\",\"\",'Fixed Effects'!N100)","v":""},{"$f":"IF('Fixed Effects'!O100=\"\",\"\",'Fixed Effects'!O100)","v":""},{"$f":"IF('Fixed Effects'!Q100=\"\",\"\",'Fixed Effects'!Q100)","v":""},{"$f":"IF(D100=\"\",\"\",IF((INDEX('FE Inconsistency Results'!$H$1:$H$500,MATCH(SUBSTITUTE(D100,\"OR\",\"d\"),'FE Inconsistency Results'!$B$1:$B$500,0),1))-(INDEX('FE Inconsistency Results'!$F$1:$F$500,MATCH(SUBSTITUTE(D100,\"OR\",\"d\"),'FE Inconsistency Results'!$B$1:$B$500,0),1))>50,\"N/A\",EXP(INDEX('FE Inconsistency Results'!$G$1:$G$500,MATCH(SUBSTITUTE(D100,\"OR\",\"d\"),'FE Inconsistency Results'!$B$1:$B$500,0),1))))","v":""},null,{"$f":"IF(INDIRECT(CONCATENATE(\"'\",'Inconsistency Data'!$I$4,\"'!N100\"))=\"\",\"\",INDIRECT(CONCATENATE(\"'\",'Inconsistency Data'!$I$4,\"'!N100\")))","v":""},{"$f":"IF(INDIRECT(CONCATENATE(\"'\",'Inconsistency Data'!$I$4,\"'!O100\"))=\"\",\"\",INDIRECT(CONCATENATE(\"'\",'Inconsistency Data'!$I$4,\"'!O100\")))","v":""},{"$f":"IF(INDIRECT(CONCATENATE(\"'\",'Inconsistency Data'!$I$4,\"'!Q100\"))=\"\",\"\",INDIRECT(CONCATENATE(\"'\",'Inconsistency Data'!$I$4,\"'!Q100\")))","v":""},{"$f":"IF(D100=\"\",\"\",IF((INDEX('RE Inconsistency Results'!$H$1:$H$500,MATCH(SUBSTITUTE(D100,\"OR\",\"d\"),'RE Inconsistency Results'!$B$1:$B$500,0),1))-(INDEX('RE Inconsistency Results'!$F$1:$F$500,MATCH(SUBSTITUTE(D100,\"OR\",\"d\"),'RE Inconsistency Results'!$B$1:$B$500,0),1))>50,\"N/A\",EXP(INDEX('RE Inconsistency Results'!$G$1:$G$500,MATCH(SUBSTITUTE(D100,\"OR\",\"d\"),'RE Inconsistency Results'!$B$1:$B$500,0),1))))","v":""}]
[null,null,null,{"$f":"IF('Fixed Effects'!N101=\"\",\"\",'Fixed Effects'!N101)","v":""},{"$f":"IF('Fixed Effects'!O101=\"\",\"\",'Fixed Effects'!O101)","v":""},{"$f":"IF('Fixed Effects'!Q101=\"\",\"\",'Fixed Effects'!Q101)","v":""},{"$f":"IF(D101=\"\",\"\",IF((INDEX('FE Inconsistency Results'!$H$1:$H$500,MATCH(SUBSTITUTE(D101,\"OR\",\"d\"),'FE Inconsistency Results'!$B$1:$B$500,0),1))-(INDEX('FE Inconsistency Results'!$F$1:$F$500,MATCH(SUBSTITUTE(D101,\"OR\",\"d\"),'FE Inconsistency Results'!$B$1:$B$500,0),1))>50,\"N/A\",EXP(INDEX('FE Inconsistency Results'!$G$1:$G$500,MATCH(SUBSTITUTE(D101,\"OR\",\"d\"),'FE Inconsistency Results'!$B$1:$B$500,0),1))))","v":""},null,{"$f":"IF(INDIRECT(CONCATENATE(\"'\",'Inconsistency Data'!$I$4,\"'!N101\"))=\"\",\"\",INDIRECT(CONCATENATE(\"'\",'Inconsistency Data'!$I$4,\"'!N101\")))","v":""},{"$f":"IF(INDIRECT(CONCATENATE(\"'\",'Inconsistency Data'!$I$4,\"'!O101\"))=\"\",\"\",INDIRECT(CONCATENATE(\"'\",'Inconsistency Data'!$I$4,\"'!O101\")))","v":""},{"$f":"IF(INDIRECT(CONCATENATE(\"'\",'Inconsistency Data'!$I$4,\"'!Q101\"))=\"\",\"\",INDIRECT(CONCATENATE(\"'\",'Inconsistency Data'!$I$4,\"'!Q101\")))","v":""},{"$f":"IF(D101=\"\",\"\",IF((INDEX('RE Inconsistency Results'!$H$1:$H$500,MATCH(SUBSTITUTE(D101,\"OR\",\"d\"),'RE Inconsistency Results'!$B$1:$B$500,0),1))-(INDEX('RE Inconsistency Results'!$F$1:$F$500,MATCH(SUBSTITUTE(D101,\"OR\",\"d\"),'RE Inconsistency Results'!$B$1:$B$500,0),1))>50,\"N/A\",EXP(INDEX('RE Inconsistency Results'!$G$1:$G$500,MATCH(SUBSTITUTE(D101,\"OR\",\"d\"),'RE Inconsistency Results'!$B$1:$B$500,0),1))))","v":""}]
[null,null,null,{"$f":"IF('Fixed Effects'!N102=\"\",\"\",'Fixed Effects'!N102)","v":""},{"$f":"IF('Fixed Effects'!O102=\"\",\"\",'Fixed Effects'!O102)","v":""},{"$f":"IF('Fixed Effects'!Q102=\"\",\"\",'Fixed Effects'!Q102)","v":""},{"$f":"IF(D102=\"\",\"\",IF((INDEX('FE Inconsistency Results'!$H$1:$H$500,MATCH(SUBSTITUTE(D102,\"OR\",\"d\"),'FE Inconsistency Results'!$B$1:$B$500,0),1))-(INDEX('FE Inconsistency Results'!$F$1:$F$500,MATCH(SUBSTITUTE(D102,\"OR\",\"d\"),'FE Inconsistency Results'!$B$1:$B$500,0),1))>50,\"N/A\",EXP(INDEX('FE Inconsistency Results'!$G$1:$G$500,MATCH(SUBSTITUTE(D102,\"OR\",\"d\"),'FE Inconsistency Results'!$B$1:$B$500,0),1))))","v":""},null,{"$f":"IF(INDIRECT(CONCATENATE(\"'\",'Inconsistency Data'!$I$4,\"'!N102\"))=\"\",\"\",INDIRECT(CONCATENATE(\"'\",'Inconsistency Data'!$I$4,\"'!N102\")))","v":""},{"$f":"IF(INDIRECT(CONCATENATE(\"'\",'Inconsistency Data'!$I$4,\"'!O102\"))=\"\",\"\",INDIRECT(CONCATENATE(\"'\",'Inconsistency Data'!$I$4,\"'!O102\")))","v":""},{"$f":"IF(INDIRECT(CONCATENATE(\"'\",'Inconsistency Data'!$I$4,\"'!Q102\"))=\"\",\"\",INDIRECT(CONCATENATE(\"'\",'Inconsistency Data'!$I$4,\"'!Q102\")))","v":""},{"$f":"IF(D102=\"\",\"\",IF((INDEX('RE Inconsistency Results'!$H$1:$H$500,MATCH(SUBSTITUTE(D102,\"OR\",\"d\"),'RE Inconsistency Results'!$B$1:$B$500,0),1))-(INDEX('RE Inconsistency Results'!$F$1:$F$500,MATCH(SUBSTITUTE(D102,\"OR\",\"d\"),'RE Inconsistency Results'!$B$1:$B$500,0),1))>50,\"N/A\",EXP(INDEX('RE Inconsistency Results'!$G$1:$G$500,MATCH(SUBSTITUTE(D102,\"OR\",\"d\"),'RE Inconsistency Results'!$B$1:$B$500,0),1))))","v":""}]
[null,null,null,{"$f":"IF('Fixed Effects'!N103=\"\",\"\",'Fixed Effects'!N103)","v":""},{"$f":"IF('Fixed Effects'!O103=\"\",\"\",'Fixed Effects'!O103)","v":""},{"$f":"IF('Fixed Effects'!Q103=\"\",\"\",'Fixed Effects'!Q103)","v":""},{"$f":"IF(D103=\"\",\"\",IF((INDEX('FE Inconsistency Results'!$H$1:$H$500,MATCH(SUBSTITUTE(D103,\"OR\",\"d\"),'FE Inconsistency Results'!$B$1:$B$500,0),1))-(INDEX('FE Inconsistency Results'!$F$1:$F$500,MATCH(SUBSTITUTE(D103,\"OR\",\"d\"),'FE Inconsistency Results'!$B$1:$B$500,0),1))>50,\"N/A\",EXP(INDEX('FE Inconsistency Results'!$G$1:$G$500,MATCH(SUBSTITUTE(D103,\"OR\",\"d\"),'FE Inconsistency Results'!$B$1:$B$500,0),1))))","v":""},null,{"$f":"IF(INDIRECT(CONCATENATE(\"'\",'Inconsistency Data'!$I$4,\"'!N103\"))=\"\",\"\",INDIRECT(CONCATENATE(\"'\",'Inconsistency Data'!$I$4,\"'!N103\")))","v":""},{"$f":"IF(INDIRECT(CONCATENATE(\"'\",'Inconsistency Data'!$I$4,\"'!O103\"))=\"\",\"\",INDIRECT(CONCATENATE(\"'\",'Inconsistency Data'!$I$4,\"'!O103\")))","v":""},{"$f":"IF(INDIRECT(CONCATENATE(\"'\",'Inconsistency Data'!$I$4,\"'!Q103\"))=\"\",\"\",INDIRECT(CONCATENATE(\"'\",'Inconsistency Data'!$I$4,\"'!Q103\")))","v":""},{"$f":"IF(D103=\"\",\"\",IF((INDEX('RE Inconsistency Results'!$H$1:$H$500,MATCH(SUBSTITUTE(D103,\"OR\",\"d\"),'RE Inconsistency Results'!$B$1:$B$500,0),1))-(INDEX('RE Inconsistency Results'!$F$1:$F$500,MATCH(SUBSTITUTE(D103,\"OR\",\"d\"),'RE Inconsistency Results'!$B$1:$B$500,0),1))>50,\"N/A\",EXP(INDEX('RE Inconsistency Results'!$G$1:$G$500,MATCH(SUBSTITUTE(D103,\"OR\",\"d\"),'RE Inconsistency Results'!$B$1:$B$500,0),1))))","v":""}]
[null,null,null,{"$f":"IF('Fixed Effects'!N104=\"\",\"\",'Fixed Effects'!N104)","v":""},{"$f":"IF('Fixed Effects'!O104=\"\",\"\",'Fixed Effects'!O104)","v":""},{"$f":"IF('Fixed Effects'!Q104=\"\",\"\",'Fixed Effects'!Q104)","v":""},{"$f":"IF(D104=\"\",\"\",IF((INDEX('FE Inconsistency Results'!$H$1:$H$500,MATCH(SUBSTITUTE(D104,\"OR\",\"d\"),'FE Inconsistency Results'!$B$1:$B$500,0),1))-(INDEX('FE Inconsistency Results'!$F$1:$F$500,MATCH(SUBSTITUTE(D104,\"OR\",\"d\"),'FE Inconsistency Results'!$B$1:$B$500,0),1))>50,\"N/A\",EXP(INDEX('FE Inconsistency Results'!$G$1:$G$500,MATCH(SUBSTITUTE(D104,\"OR\",\"d\"),'FE Inconsistency Results'!$B$1:$B$500,0),1))))","v":""},null,{"$f":"IF(INDIRECT(CONCATENATE(\"'\",'Inconsistency Data'!$I$4,\"'!N104\"))=\"\",\"\",INDIRECT(CONCATENATE(\"'\",'Inconsistency Data'!$I$4,\"'!N104\")))","v":""},{"$f":"IF(INDIRECT(CONCATENATE(\"'\",'Inconsistency Data'!$I$4,\"'!O104\"))=\"\",\"\",INDIRECT(CONCATENATE(\"'\",'Inconsistency Data'!$I$4,\"'!O104\")))","v":""},{"$f":"IF(INDIRECT(CONCATENATE(\"'\",'Inconsistency Data'!$I$4,\"'!Q104\"))=\"\",\"\",INDIRECT(CONCATENATE(\"'\",'Inconsistency Data'!$I$4,\"'!Q104\")))","v":""},{"$f":"IF(D104=\"\",\"\",IF((INDEX('RE Inconsistency Results'!$H$1:$H$500,MATCH(SUBSTITUTE(D104,\"OR\",\"d\"),'RE Inconsistency Results'!$B$1:$B$500,0),1))-(INDEX('RE Inconsistency Results'!$F$1:$F$500,MATCH(SUBSTITUTE(D104,\"OR\",\"d\"),'RE Inconsistency Results'!$B$1:$B$500,0),1))>50,\"N/A\",EXP(INDEX('RE Inconsistency Results'!$G$1:$G$500,MATCH(SUBSTITUTE(D104,\"OR\",\"d\"),'RE Inconsistency Results'!$B$1:$B$500,0),1))))","v":""}]
[null,null,null,{"$f":"IF('Fixed Effects'!N105=\"\",\"\",'Fixed Effects'!N105)","v":""},{"$f":"IF('Fixed Effects'!O105=\"\",\"\",'Fixed Effects'!O105)","v":""},{"$f":"IF('Fixed Effects'!Q105=\"\",\"\",'Fixed Effects'!Q105)","v":""},{"$f":"IF(D105=\"\",\"\",IF((INDEX('FE Inconsistency Results'!$H$1:$H$500,MATCH(SUBSTITUTE(D105,\"OR\",\"d\"),'FE Inconsistency Results'!$B$1:$B$500,0),1))-(INDEX('FE Inconsistency Results'!$F$1:$F$500,MATCH(SUBSTITUTE(D105,\"OR\",\"d\"),'FE Inconsistency Results'!$B$1:$B$500,0),1))>50,\"N/A\",EXP(INDEX('FE Inconsistency Results'!$G$1:$G$500,MATCH(SUBSTITUTE(D105,\"OR\",\"d\"),'FE Inconsistency Results'!$B$1:$B$500,0),1))))","v":""},null,{"$f":"IF(INDIRECT(CONCATENATE(\"'\",'Inconsistency Data'!$I$4,\"'!N105\"))=\"\",\"\",INDIRECT(CONCATENATE(\"'\",'Inconsistency Data'!$I$4,\"'!N105\")))","v":""},{"$f":"IF(INDIRECT(CONCATENATE(\"'\",'Inconsistency Data'!$I$4,\"'!O105\"))=\"\",\"\",INDIRECT(CONCATENATE(\"'\",'Inconsistency Data'!$I$4,\"'!O105\")))","v":""},{"$f":"IF(INDIRECT(CONCATENATE(\"'\",'Inconsistency Data'!$I$4,\"'!Q105\"))=\"\",\"\",INDIRECT(CONCATENATE(\"'\",'Inconsistency Data'!$I$4,\"'!Q105\")))","v":""},{"$f":"IF(D105=\"\",\"\",IF((INDEX('RE Inconsistency Results'!$H$1:$H$500,MATCH(SUBSTITUTE(D105,\"OR\",\"d\"),'RE Inconsistency Results'!$B$1:$B$500,0),1))-(INDEX('RE Inconsistency Results'!$F$1:$F$500,MATCH(SUBSTITUTE(D105,\"OR\",\"d\"),'RE Inconsistency Results'!$B$1:$B$500,0),1))>50,\"N/A\",EXP(INDEX('RE Inconsistency Results'!$G$1:$G$500,MATCH(SUBSTITUTE(D105,\"OR\",\"d\"),'RE Inconsistency Results'!$B$1:$B$500,0),1))))","v":""}]
[null,null,null,{"$f":"IF('Fixed Effects'!N106=\"\",\"\",'Fixed Effects'!N106)","v":""},{"$f":"IF('Fixed Effects'!O106=\"\",\"\",'Fixed Effects'!O106)","v":""},{"$f":"IF('Fixed Effects'!Q106=\"\",\"\",'Fixed Effects'!Q106)","v":""},{"$f":"IF(D106=\"\",\"\",IF((INDEX('FE Inconsistency Results'!$H$1:$H$500,MATCH(SUBSTITUTE(D106,\"OR\",\"d\"),'FE Inconsistency Results'!$B$1:$B$500,0),1))-(INDEX('FE Inconsistency Results'!$F$1:$F$500,MATCH(SUBSTITUTE(D106,\"OR\",\"d\"),'FE Inconsistency Results'!$B$1:$B$500,0),1))>50,\"N/A\",EXP(INDEX('FE Inconsistency Results'!$G$1:$G$500,MATCH(SUBSTITUTE(D106,\"OR\",\"d\"),'FE Inconsistency Results'!$B$1:$B$500,0),1))))","v":""},null,{"$f":"IF(INDIRECT(CONCATENATE(\"'\",'Inconsistency Data'!$I$4,\"'!N106\"))=\"\",\"\",INDIRECT(CONCATENATE(\"'\",'Inconsistency Data'!$I$4,\"'!N106\")))","v":""},{"$f":"IF(INDIRECT(CONCATENATE(\"'\",'Inconsistency Data'!$I$4,\"'!O106\"))=\"\",\"\",INDIRECT(CONCATENATE(\"'\",'Inconsistency Data'!$I$4,\"'!O106\")))","v":""},{"$f":"IF(INDIRECT(CONCATENATE(\"'\",'Inconsistency Data'!$I$4,\"'!Q106\"))=\"\",\"\",INDIRECT(CONCATENATE(\"'\",'Inconsistency Data'!$I$4,\"'!Q106\")))","v":""},{"$f":"IF(D106=\"\",\"\",IF((INDEX('RE Inconsistency Results'!$H$1:$H$500,MATCH(SUBSTITUTE(D106,\"OR\",\"d\"),'RE Inconsistency Results'!$B$1:$B$500,0),1))-(INDEX('RE Inconsistency Results'!$F$1:$F$500,MATCH(SUBSTITUTE(D106,\"OR\",\"d\"),'RE Inconsistency Results'!$B$1:$B$500,0),1))>50,\"N/A\",EXP(INDEX('RE Inconsistency Results'!$G$1:$G$500,MATCH(SUBSTITUTE(D106,\"OR\",\"d\"),'RE Inconsistency Results'!$B$1:$B$500,0),1))))","v":""}]
[null,null,null,{"$f":"IF('Fixed Effects'!N107=\"\",\"\",'Fixed Effects'!N107)","v":""},{"$f":"IF('Fixed Effects'!O107=\"\",\"\",'Fixed Effects'!O107)","v":""},{"$f":"IF('Fixed Effects'!Q107=\"\",\"\",'Fixed Effects'!Q107)","v":""},{"$f":"IF(D107=\"\",\"\",IF((INDEX('FE Inconsistency Results'!$H$1:$H$500,MATCH(SUBSTITUTE(D107,\"OR\",\"d\"),'FE Inconsistency Results'!$B$1:$B$500,0),1))-(INDEX('FE Inconsistency Results'!$F$1:$F$500,MATCH(SUBSTITUTE(D107,\"OR\",\"d\"),'FE Inconsistency Results'!$B$1:$B$500,0),1))>50,\"N/A\",EXP(INDEX('FE Inconsistency Results'!$G$1:$G$500,MATCH(SUBSTITUTE(D107,\"OR\",\"d\"),'FE Inconsistency Results'!$B$1:$B$500,0),1))))","v":""},null,{"$f":"IF(INDIRECT(CONCATENATE(\"'\",'Inconsistency Data'!$I$4,\"'!N107\"))=\"\",\"\",INDIRECT(CONCATENATE(\"'\",'Inconsistency Data'!$I$4,\"'!N107\")))","v":""},{"$f":"IF(INDIRECT(CONCATENATE(\"'\",'Inconsistency Data'!$I$4,\"'!O107\"))=\"\",\"\",INDIRECT(CONCATENATE(\"'\",'Inconsistency Data'!$I$4,\"'!O107\")))","v":""},{"$f":"IF(INDIRECT(CONCATENATE(\"'\",'Inconsistency Data'!$I$4,\"'!Q107\"))=\"\",\"\",INDIRECT(CONCATENATE(\"'\",'Inconsistency Data'!$I$4,\"'!Q107\")))","v":""},{"$f":"IF(D107=\"\",\"\",IF((INDEX('RE Inconsistency Results'!$H$1:$H$500,MATCH(SUBSTITUTE(D107,\"OR\",\"d\"),'RE Inconsistency Results'!$B$1:$B$500,0),1))-(INDEX('RE Inconsistency Results'!$F$1:$F$500,MATCH(SUBSTITUTE(D107,\"OR\",\"d\"),'RE Inconsistency Results'!$B$1:$B$500,0),1))>50,\"N/A\",EXP(INDEX('RE Inconsistency Results'!$G$1:$G$500,MATCH(SUBSTITUTE(D107,\"OR\",\"d\"),'RE Inconsistency Results'!$B$1:$B$500,0),1))))","v":""}]
[null,null,null,{"$f":"IF('Fixed Effects'!N108=\"\",\"\",'Fixed Effects'!N108)","v":""},{"$f":"IF('Fixed Effects'!O108=\"\",\"\",'Fixed Effects'!O108)","v":""},{"$f":"IF('Fixed Effects'!Q108=\"\",\"\",'Fixed Effects'!Q108)","v":""},{"$f":"IF(D108=\"\",\"\",IF((INDEX('FE Inconsistency Results'!$H$1:$H$500,MATCH(SUBSTITUTE(D108,\"OR\",\"d\"),'FE Inconsistency Results'!$B$1:$B$500,0),1))-(INDEX('FE Inconsistency Results'!$F$1:$F$500,MATCH(SUBSTITUTE(D108,\"OR\",\"d\"),'FE Inconsistency Results'!$B$1:$B$500,0),1))>50,\"N/A\",EXP(INDEX('FE Inconsistency Results'!$G$1:$G$500,MATCH(SUBSTITUTE(D108,\"OR\",\"d\"),'FE Inconsistency Results'!$B$1:$B$500,0),1))))","v":""},null,{"$f":"IF(INDIRECT(CONCATENATE(\"'\",'Inconsistency Data'!$I$4,\"'!N108\"))=\"\",\"\",INDIRECT(CONCATENATE(\"'\",'Inconsistency Data'!$I$4,\"'!N108\")))","v":""},{"$f":"IF(INDIRECT(CONCATENATE(\"'\",'Inconsistency Data'!$I$4,\"'!O108\"))=\"\",\"\",INDIRECT(CONCATENATE(\"'\",'Inconsistency Data'!$I$4,\"'!O108\")))","v":""},{"$f":"IF(INDIRECT(CONCATENATE(\"'\",'Inconsistency Data'!$I$4,\"'!Q108\"))=\"\",\"\",INDIRECT(CONCATENATE(\"'\",'Inconsistency Data'!$I$4,\"'!Q108\")))","v":""},{"$f":"IF(D108=\"\",\"\",IF((INDEX('RE Inconsistency Results'!$H$1:$H$500,MATCH(SUBSTITUTE(D108,\"OR\",\"d\"),'RE Inconsistency Results'!$B$1:$B$500,0),1))-(INDEX('RE Inconsistency Results'!$F$1:$F$500,MATCH(SUBSTITUTE(D108,\"OR\",\"d\"),'RE Inconsistency Results'!$B$1:$B$500,0),1))>50,\"N/A\",EXP(INDEX('RE Inconsistency Results'!$G$1:$G$500,MATCH(SUBSTITUTE(D108,\"OR\",\"d\"),'RE Inconsistency Results'!$B$1:$B$500,0),1))))","v":""}]
[null,null,null,{"$f":"IF('Fixed Effects'!N109=\"\",\"\",'Fixed Effects'!N109)","v":""},{"$f":"IF('Fixed Effects'!O109=\"\",\"\",'Fixed Effects'!O109)","v":""},{"$f":"IF('Fixed Effects'!Q109=\"\",\"\",'Fixed Effects'!Q109)","v":""},{"$f":"IF(D109=\"\",\"\",IF((INDEX('FE Inconsistency Results'!$H$1:$H$500,MATCH(SUBSTITUTE(D109,\"OR\",\"d\"),'FE Inconsistency Results'!$B$1:$B$500,0),1))-(INDEX('FE Inconsistency Results'!$F$1:$F$500,MATCH(SUBSTITUTE(D109,\"OR\",\"d\"),'FE Inconsistency Results'!$B$1:$B$500,0),1))>50,\"N/A\",EXP(INDEX('FE Inconsistency Results'!$G$1:$G$500,MATCH(SUBSTITUTE(D109,\"OR\",\"d\"),'FE Inconsistency Results'!$B$1:$B$500,0),1))))","v":""},null,{"$f":"IF(INDIRECT(CONCATENATE(\"'\",'Inconsistency Data'!$I$4,\"'!N109\"))=\"\",\"\",INDIRECT(CONCATENATE(\"'\",'Inconsistency Data'!$I$4,\"'!N109\")))","v":""},{"$f":"IF(INDIRECT(CONCATENATE(\"'\",'Inconsistency Data'!$I$4,\"'!O109\"))=\"\",\"\",INDIRECT(CONCATENATE(\"'\",'Inconsistency Data'!$I$4,\"'!O109\")))","v":""},{"$f":"IF(INDIRECT(CONCATENATE(\"'\",'Inconsistency Data'!$I$4,\"'!Q109\"))=\"\",\"\",INDIRECT(CONCATENATE(\"'\",'Inconsistency Data'!$I$4,\"'!Q109\")))","v":""},{"$f":"IF(D109=\"\",\"\",IF((INDEX('RE Inconsistency Results'!$H$1:$H$500,MATCH(SUBSTITUTE(D109,\"OR\",\"d\"),'RE Inconsistency Results'!$B$1:$B$500,0),1))-(INDEX('RE Inconsistency Results'!$F$1:$F$500,MATCH(SUBSTITUTE(D109,\"OR\",\"d\"),'RE Inconsistency Results'!$B$1:$B$500,0),1))>50,\"N/A\",EXP(INDEX('RE Inconsistency Results'!$G$1:$G$500,MATCH(SUBSTITUTE(D109,\"OR\",\"d\"),'RE Inconsistency Results'!$B$1:$B$500,0),1))))","v":""}]
[null,null,null,{"$f":"IF('Fixed Effects'!N110=\"\",\"\",'Fixed Effects'!N110)","v":""},{"$f":"IF('Fixed Effects'!O110=\"\",\"\",'Fixed Effects'!O110)","v":""},{"$f":"IF('Fixed Effects'!Q110=\"\",\"\",'Fixed Effects'!Q110)","v":""},{"$f":"IF(D110=\"\",\"\",IF((INDEX('FE Inconsistency Results'!$H$1:$H$500,MATCH(SUBSTITUTE(D110,\"OR\",\"d\"),'FE Inconsistency Results'!$B$1:$B$500,0),1))-(INDEX('FE Inconsistency Results'!$F$1:$F$500,MATCH(SUBSTITUTE(D110,\"OR\",\"d\"),'FE Inconsistency Results'!$B$1:$B$500,0),1))>50,\"N/A\",EXP(INDEX('FE Inconsistency Results'!$G$1:$G$500,MATCH(SUBSTITUTE(D110,\"OR\",\"d\"),'FE Inconsistency Results'!$B$1:$B$500,0),1))))","v":""},null,{"$f":"IF(INDIRECT(CONCATENATE(\"'\",'Inconsistency Data'!$I$4,\"'!N110\"))=\"\",\"\",INDIRECT(CONCATENATE(\"'\",'Inconsistency Data'!$I$4,\"'!N110\")))","v":""},{"$f":"IF(INDIRECT(CONCATENATE(\"'\",'Inconsistency Data'!$I$4,\"'!O110\"))=\"\",\"\",INDIRECT(CONCATENATE(\"'\",'Inconsistency Data'!$I$4,\"'!O110\")))","v":""},{"$f":"IF(INDIRECT(CONCATENATE(\"'\",'Inconsistency Data'!$I$4,\"'!Q110\"))=\"\",\"\",INDIRECT(CONCATENATE(\"'\",'Inconsistency Data'!$I$4,\"'!Q110\")))","v":""},{"$f":"IF(D110=\"\",\"\",IF((INDEX('RE Inconsistency Results'!$H$1:$H$500,MATCH(SUBSTITUTE(D110,\"OR\",\"d\"),'RE Inconsistency Results'!$B$1:$B$500,0),1))-(INDEX('RE Inconsistency Results'!$F$1:$F$500,MATCH(SUBSTITUTE(D110,\"OR\",\"d\"),'RE Inconsistency Results'!$B$1:$B$500,0),1))>50,\"N/A\",EXP(INDEX('RE Inconsistency Results'!$G$1:$G$500,MATCH(SUBSTITUTE(D110,\"OR\",\"d\"),'RE Inconsistency Results'!$B$1:$B$500,0),1))))","v":""}]
[null,null,null,{"$f":"IF('Fixed Effects'!N111=\"\",\"\",'Fixed Effects'!N111)","v":""},{"$f":"IF('Fixed Effects'!O111=\"\",\"\",'Fixed Effects'!O111)","v":""},{"$f":"IF('Fixed Effects'!Q111=\"\",\"\",'Fixed Effects'!Q111)","v":""},{"$f":"IF(D111=\"\",\"\",IF((INDEX('FE Inconsistency Results'!$H$1:$H$500,MATCH(SUBSTITUTE(D111,\"OR\",\"d\"),'FE Inconsistency Results'!$B$1:$B$500,0),1))-(INDEX('FE Inconsistency Results'!$F$1:$F$500,MATCH(SUBSTITUTE(D111,\"OR\",\"d\"),'FE Inconsistency Results'!$B$1:$B$500,0),1))>50,\"N/A\",EXP(INDEX('FE Inconsistency Results'!$G$1:$G$500,MATCH(SUBSTITUTE(D111,\"OR\",\"d\"),'FE Inconsistency Results'!$B$1:$B$500,0),1))))","v":""},null,{"$f":"IF(INDIRECT(CONCATENATE(\"'\",'Inconsistency Data'!$I$4,\"'!N111\"))=\"\",\"\",INDIRECT(CONCATENATE(\"'\",'Inconsistency Data'!$I$4,\"'!N111\")))","v":""},{"$f":"IF(INDIRECT(CONCATENATE(\"'\",'Inconsistency Data'!$I$4,\"'!O111\"))=\"\",\"\",INDIRECT(CONCATENATE(\"'\",'Inconsistency Data'!$I$4,\"'!O111\")))","v":""},{"$f":"IF(INDIRECT(CONCATENATE(\"'\",'Inconsistency Data'!$I$4,\"'!Q111\"))=\"\",\"\",INDIRECT(CONCATENATE(\"'\",'Inconsistency Data'!$I$4,\"'!Q111\")))","v":""},{"$f":"IF(D111=\"\",\"\",IF((INDEX('RE Inconsistency Results'!$H$1:$H$500,MATCH(SUBSTITUTE(D111,\"OR\",\"d\"),'RE Inconsistency Results'!$B$1:$B$500,0),1))-(INDEX('RE Inconsistency Results'!$F$1:$F$500,MATCH(SUBSTITUTE(D111,\"OR\",\"d\"),'RE Inconsistency Results'!$B$1:$B$500,0),1))>50,\"N/A\",EXP(INDEX('RE Inconsistency Results'!$G$1:$G$500,MATCH(SUBSTITUTE(D111,\"OR\",\"d\"),'RE Inconsistency Results'!$B$1:$B$500,0),1))))","v":""}]
[null,null,null,{"$f":"IF('Fixed Effects'!N112=\"\",\"\",'Fixed Effects'!N112)","v":""},{"$f":"IF('Fixed Effects'!O112=\"\",\"\",'Fixed Effects'!O112)","v":""},{"$f":"IF('Fixed Effects'!Q112=\"\",\"\",'Fixed Effects'!Q112)","v":""},{"$f":"IF(D112=\"\",\"\",IF((INDEX('FE Inconsistency Results'!$H$1:$H$500,MATCH(SUBSTITUTE(D112,\"OR\",\"d\"),'FE Inconsistency Results'!$B$1:$B$500,0),1))-(INDEX('FE Inconsistency Results'!$F$1:$F$500,MATCH(SUBSTITUTE(D112,\"OR\",\"d\"),'FE Inconsistency Results'!$B$1:$B$500,0),1))>50,\"N/A\",EXP(INDEX('FE Inconsistency Results'!$G$1:$G$500,MATCH(SUBSTITUTE(D112,\"OR\",\"d\"),'FE Inconsistency Results'!$B$1:$B$500,0),1))))","v":""},null,{"$f":"IF(INDIRECT(CONCATENATE(\"'\",'Inconsistency Data'!$I$4,\"'!N112\"))=\"\",\"\",INDIRECT(CONCATENATE(\"'\",'Inconsistency Data'!$I$4,\"'!N112\")))","v":""},{"$f":"IF(INDIRECT(CONCATENATE(\"'\",'Inconsistency Data'!$I$4,\"'!O112\"))=\"\",\"\",INDIRECT(CONCATENATE(\"'\",'Inconsistency Data'!$I$4,\"'!O112\")))","v":""},{"$f":"IF(INDIRECT(CONCATENATE(\"'\",'Inconsistency Data'!$I$4,\"'!Q112\"))=\"\",\"\",INDIRECT(CONCATENATE(\"'\",'Inconsistency Data'!$I$4,\"'!Q112\")))","v":""},{"$f":"IF(D112=\"\",\"\",IF((INDEX('RE Inconsistency Results'!$H$1:$H$500,MATCH(SUBSTITUTE(D112,\"OR\",\"d\"),'RE Inconsistency Results'!$B$1:$B$500,0),1))-(INDEX('RE Inconsistency Results'!$F$1:$F$500,MATCH(SUBSTITUTE(D112,\"OR\",\"d\"),'RE Inconsistency Results'!$B$1:$B$500,0),1))>50,\"N/A\",EXP(INDEX('RE Inconsistency Results'!$G$1:$G$500,MATCH(SUBSTITUTE(D112,\"OR\",\"d\"),'RE Inconsistency Results'!$B$1:$B$500,0),1))))","v":""}]
[null,null,null,{"$f":"IF('Fixed Effects'!N113=\"\",\"\",'Fixed Effects'!N113)","v":""},{"$f":"IF('Fixed Effects'!O113=\"\",\"\",'Fixed Effects'!O113)","v":""},{"$f":"IF('Fixed Effects'!Q113=\"\",\"\",'Fixed Effects'!Q113)","v":""},{"$f":"IF(D113=\"\",\"\",IF((INDEX('FE Inconsistency Results'!$H$1:$H$500,MATCH(SUBSTITUTE(D113,\"OR\",\"d\"),'FE Inconsistency Results'!$B$1:$B$500,0),1))-(INDEX('FE Inconsistency Results'!$F$1:$F$500,MATCH(SUBSTITUTE(D113,\"OR\",\"d\"),'FE Inconsistency Results'!$B$1:$B$500,0),1))>50,\"N/A\",EXP(INDEX('FE Inconsistency Results'!$G$1:$G$500,MATCH(SUBSTITUTE(D113,\"OR\",\"d\"),'FE Inconsistency Results'!$B$1:$B$500,0),1))))","v":""},null,{"$f":"IF(INDIRECT(CONCATENATE(\"'\",'Inconsistency Data'!$I$4,\"'!N113\"))=\"\",\"\",INDIRECT(CONCATENATE(\"'\",'Inconsistency Data'!$I$4,\"'!N113\")))","v":""},{"$f":"IF(INDIRECT(CONCATENATE(\"'\",'Inconsistency Data'!$I$4,\"'!O113\"))=\"\",\"\",INDIRECT(CONCATENATE(\"'\",'Inconsistency Data'!$I$4,\"'!O113\")))","v":""},{"$f":"IF(INDIRECT(CONCATENATE(\"'\",'Inconsistency Data'!$I$4,\"'!Q113\"))=\"\",\"\",INDIRECT(CONCATENATE(\"'\",'Inconsistency Data'!$I$4,\"'!Q113\")))","v":""},{"$f":"IF(D113=\"\",\"\",IF((INDEX('RE Inconsistency Results'!$H$1:$H$500,MATCH(SUBSTITUTE(D113,\"OR\",\"d\"),'RE Inconsistency Results'!$B$1:$B$500,0),1))-(INDEX('RE Inconsistency Results'!$F$1:$F$500,MATCH(SUBSTITUTE(D113,\"OR\",\"d\"),'RE Inconsistency Results'!$B$1:$B$500,0),1))>50,\"N/A\",EXP(INDEX('RE Inconsistency Results'!$G$1:$G$500,MATCH(SUBSTITUTE(D113,\"OR\",\"d\"),'RE Inconsistency Results'!$B$1:$B$500,0),1))))","v":""}]
[null,null,null,{"$f":"IF('Fixed Effects'!N114=\"\",\"\",'Fixed Effects'!N114)","v":""},{"$f":"IF('Fixed Effects'!O114=\"\",\"\",'Fixed Effects'!O114)","v":""},{"$f":"IF('Fixed Effects'!Q114=\"\",\"\",'Fixed Effects'!Q114)","v":""},{"$f":"IF(D114=\"\",\"\",IF((INDEX('FE Inconsistency Results'!$H$1:$H$500,MATCH(SUBSTITUTE(D114,\"OR\",\"d\"),'FE Inconsistency Results'!$B$1:$B$500,0),1))-(INDEX('FE Inconsistency Results'!$F$1:$F$500,MATCH(SUBSTITUTE(D114,\"OR\",\"d\"),'FE Inconsistency Results'!$B$1:$B$500,0),1))>50,\"N/A\",EXP(INDEX('FE Inconsistency Results'!$G$1:$G$500,MATCH(SUBSTITUTE(D114,\"OR\",\"d\"),'FE Inconsistency Results'!$B$1:$B$500,0),1))))","v":""},null,{"$f":"IF(INDIRECT(CONCATENATE(\"'\",'Inconsistency Data'!$I$4,\"'!N114\"))=\"\",\"\",INDIRECT(CONCATENATE(\"'\",'Inconsistency Data'!$I$4,\"'!N114\")))","v":""},{"$f":"IF(INDIRECT(CONCATENATE(\"'\",'Inconsistency Data'!$I$4,\"'!O114\"))=\"\",\"\",INDIRECT(CONCATENATE(\"'\",'Inconsistency Data'!$I$4,\"'!O114\")))","v":""},{"$f":"IF(INDIRECT(CONCATENATE(\"'\",'Inconsistency Data'!$I$4,\"'!Q114\"))=\"\",\"\",INDIRECT(CONCATENATE(\"'\",'Inconsistency Data'!$I$4,\"'!Q114\")))","v":""},{"$f":"IF(D114=\"\",\"\",IF((INDEX('RE Inconsistency Results'!$H$1:$H$500,MATCH(SUBSTITUTE(D114,\"OR\",\"d\"),'RE Inconsistency Results'!$B$1:$B$500,0),1))-(INDEX('RE Inconsistency Results'!$F$1:$F$500,MATCH(SUBSTITUTE(D114,\"OR\",\"d\"),'RE Inconsistency Results'!$B$1:$B$500,0),1))>50,\"N/A\",EXP(INDEX('RE Inconsistency Results'!$G$1:$G$500,MATCH(SUBSTITUTE(D114,\"OR\",\"d\"),'RE Inconsistency Results'!$B$1:$B$500,0),1))))","v":""}]
[null,null,null,{"$f":"IF('Fixed Effects'!N115=\"\",\"\",'Fixed Effects'!N115)","v":""},{"$f":"IF('Fixed Effects'!O115=\"\",\"\",'Fixed Effects'!O115)","v":""},{"$f":"IF('Fixed Effects'!Q115=\"\",\"\",'Fixed Effects'!Q115)","v":""},{"$f":"IF(D115=\"\",\"\",IF((INDEX('FE Inconsistency Results'!$H$1:$H$500,MATCH(SUBSTITUTE(D115,\"OR\",\"d\"),'FE Inconsistency Results'!$B$1:$B$500,0),1))-(INDEX('FE Inconsistency Results'!$F$1:$F$500,MATCH(SUBSTITUTE(D115,\"OR\",\"d\"),'FE Inconsistency Results'!$B$1:$B$500,0),1))>50,\"N/A\",EXP(INDEX('FE Inconsistency Results'!$G$1:$G$500,MATCH(SUBSTITUTE(D115,\"OR\",\"d\"),'FE Inconsistency Results'!$B$1:$B$500,0),1))))","v":""},null,{"$f":"IF(INDIRECT(CONCATENATE(\"'\",'Inconsistency Data'!$I$4,\"'!N115\"))=\"\",\"\",INDIRECT(CONCATENATE(\"'\",'Inconsistency Data'!$I$4,\"'!N115\")))","v":""},{"$f":"IF(INDIRECT(CONCATENATE(\"'\",'Inconsistency Data'!$I$4,\"'!O115\"))=\"\",\"\",INDIRECT(CONCATENATE(\"'\",'Inconsistency Data'!$I$4,\"'!O115\")))","v":""},{"$f":"IF(INDIRECT(CONCATENATE(\"'\",'Inconsistency Data'!$I$4,\"'!Q115\"))=\"\",\"\",INDIRECT(CONCATENATE(\"'\",'Inconsistency Data'!$I$4,\"'!Q115\")))","v":""},{"$f":"IF(D115=\"\",\"\",IF((INDEX('RE Inconsistency Results'!$H$1:$H$500,MATCH(SUBSTITUTE(D115,\"OR\",\"d\"),'RE Inconsistency Results'!$B$1:$B$500,0),1))-(INDEX('RE Inconsistency Results'!$F$1:$F$500,MATCH(SUBSTITUTE(D115,\"OR\",\"d\"),'RE Inconsistency Results'!$B$1:$B$500,0),1))>50,\"N/A\",EXP(INDEX('RE Inconsistency Results'!$G$1:$G$500,MATCH(SUBSTITUTE(D115,\"OR\",\"d\"),'RE Inconsistency Results'!$B$1:$B$500,0),1))))","v":""}]
[null,null,null,{"$f":"IF('Fixed Effects'!N116=\"\",\"\",'Fixed Effects'!N116)","v":""},{"$f":"IF('Fixed Effects'!O116=\"\",\"\",'Fixed Effects'!O116)","v":""},{"$f":"IF('Fixed Effects'!Q116=\"\",\"\",'Fixed Effects'!Q116)","v":""},{"$f":"IF(D116=\"\",\"\",IF((INDEX('FE Inconsistency Results'!$H$1:$H$500,MATCH(SUBSTITUTE(D116,\"OR\",\"d\"),'FE Inconsistency Results'!$B$1:$B$500,0),1))-(INDEX('FE Inconsistency Results'!$F$1:$F$500,MATCH(SUBSTITUTE(D116,\"OR\",\"d\"),'FE Inconsistency Results'!$B$1:$B$500,0),1))>50,\"N/A\",EXP(INDEX('FE Inconsistency Results'!$G$1:$G$500,MATCH(SUBSTITUTE(D116,\"OR\",\"d\"),'FE Inconsistency Results'!$B$1:$B$500,0),1))))","v":""},null,{"$f":"IF(INDIRECT(CONCATENATE(\"'\",'Inconsistency Data'!$I$4,\"'!N116\"))=\"\",\"\",INDIRECT(CONCATENATE(\"'\",'Inconsistency Data'!$I$4,\"'!N116\")))","v":""},{"$f":"IF(INDIRECT(CONCATENATE(\"'\",'Inconsistency Data'!$I$4,\"'!O116\"))=\"\",\"\",INDIRECT(CONCATENATE(\"'\",'Inconsistency Data'!$I$4,\"'!O116\")))","v":""},{"$f":"IF(INDIRECT(CONCATENATE(\"'\",'Inconsistency Data'!$I$4,\"'!Q116\"))=\"\",\"\",INDIRECT(CONCATENATE(\"'\",'Inconsistency Data'!$I$4,\"'!Q116\")))","v":""},{"$f":"IF(D116=\"\",\"\",IF((INDEX('RE Inconsistency Results'!$H$1:$H$500,MATCH(SUBSTITUTE(D116,\"OR\",\"d\"),'RE Inconsistency Results'!$B$1:$B$500,0),1))-(INDEX('RE Inconsistency Results'!$F$1:$F$500,MATCH(SUBSTITUTE(D116,\"OR\",\"d\"),'RE Inconsistency Results'!$B$1:$B$500,0),1))>50,\"N/A\",EXP(INDEX('RE Inconsistency Results'!$G$1:$G$500,MATCH(SUBSTITUTE(D116,\"OR\",\"d\"),'RE Inconsistency Results'!$B$1:$B$500,0),1))))","v":""}]
[null,null,null,{"$f":"IF('Fixed Effects'!N117=\"\",\"\",'Fixed Effects'!N117)","v":""},{"$f":"IF('Fixed Effects'!O117=\"\",\"\",'Fixed Effects'!O117)","v":""},{"$f":"IF('Fixed Effects'!Q117=\"\",\"\",'Fixed Effects'!Q117)","v":""},{"$f":"IF(D117=\"\",\"\",IF((INDEX('FE Inconsistency Results'!$H$1:$H$500,MATCH(SUBSTITUTE(D117,\"OR\",\"d\"),'FE Inconsistency Results'!$B$1:$B$500,0),1))-(INDEX('FE Inconsistency Results'!$F$1:$F$500,MATCH(SUBSTITUTE(D117,\"OR\",\"d\"),'FE Inconsistency Results'!$B$1:$B$500,0),1))>50,\"N/A\",EXP(INDEX('FE Inconsistency Results'!$G$1:$G$500,MATCH(SUBSTITUTE(D117,\"OR\",\"d\"),'FE Inconsistency Results'!$B$1:$B$500,0),1))))","v":""},null,{"$f":"IF(INDIRECT(CONCATENATE(\"'\",'Inconsistency Data'!$I$4,\"'!N117\"))=\"\",\"\",INDIRECT(CONCATENATE(\"'\",'Inconsistency Data'!$I$4,\"'!N117\")))","v":""},{"$f":"IF(INDIRECT(CONCATENATE(\"'\",'Inconsistency Data'!$I$4,\"'!O117\"))=\"\",\"\",INDIRECT(CONCATENATE(\"'\",'Inconsistency Data'!$I$4,\"'!O117\")))","v":""},{"$f":"IF(INDIRECT(CONCATENATE(\"'\",'Inconsistency Data'!$I$4,\"'!Q117\"))=\"\",\"\",INDIRECT(CONCATENATE(\"'\",'Inconsistency Data'!$I$4,\"'!Q117\")))","v":""},{"$f":"IF(D117=\"\",\"\",IF((INDEX('RE Inconsistency Results'!$H$1:$H$500,MATCH(SUBSTITUTE(D117,\"OR\",\"d\"),'RE Inconsistency Results'!$B$1:$B$500,0),1))-(INDEX('RE Inconsistency Results'!$F$1:$F$500,MATCH(SUBSTITUTE(D117,\"OR\",\"d\"),'RE Inconsistency Results'!$B$1:$B$500,0),1))>50,\"N/A\",EXP(INDEX('RE Inconsistency Results'!$G$1:$G$500,MATCH(SUBSTITUTE(D117,\"OR\",\"d\"),'RE Inconsistency Results'!$B$1:$B$500,0),1))))","v":""}]
[null,null,null,{"$f":"IF('Fixed Effects'!N118=\"\",\"\",'Fixed Effects'!N118)","v":""},{"$f":"IF('Fixed Effects'!O118=\"\",\"\",'Fixed Effects'!O118)","v":""},{"$f":"IF('Fixed Effects'!Q118=\"\",\"\",'Fixed Effects'!Q118)","v":""},{"$f":"IF(D118=\"\",\"\",IF((INDEX('FE Inconsistency Results'!$H$1:$H$500,MATCH(SUBSTITUTE(D118,\"OR\",\"d\"),'FE Inconsistency Results'!$B$1:$B$500,0),1))-(INDEX('FE Inconsistency Results'!$F$1:$F$500,MATCH(SUBSTITUTE(D118,\"OR\",\"d\"),'FE Inconsistency Results'!$B$1:$B$500,0),1))>50,\"N/A\",EXP(INDEX('FE Inconsistency Results'!$G$1:$G$500,MATCH(SUBSTITUTE(D118,\"OR\",\"d\"),'FE Inconsistency Results'!$B$1:$B$500,0),1))))","v":""},null,{"$f":"IF(INDIRECT(CONCATENATE(\"'\",'Inconsistency Data'!$I$4,\"'!N118\"))=\"\",\"\",INDIRECT(CONCATENATE(\"'\",'Inconsistency Data'!$I$4,\"'!N118\")))","v":""},{"$f":"IF(INDIRECT(CONCATENATE(\"'\",'Inconsistency Data'!$I$4,\"'!O118\"))=\"\",\"\",INDIRECT(CONCATENATE(\"'\",'Inconsistency Data'!$I$4,\"'!O118\")))","v":""},{"$f":"IF(INDIRECT(CONCATENATE(\"'\",'Inconsistency Data'!$I$4,\"'!Q118\"))=\"\",\"\",INDIRECT(CONCATENATE(\"'\",'Inconsistency Data'!$I$4,\"'!Q118\")))","v":""},{"$f":"IF(D118=\"\",\"\",IF((INDEX('RE Inconsistency Results'!$H$1:$H$500,MATCH(SUBSTITUTE(D118,\"OR\",\"d\"),'RE Inconsistency Results'!$B$1:$B$500,0),1))-(INDEX('RE Inconsistency Results'!$F$1:$F$500,MATCH(SUBSTITUTE(D118,\"OR\",\"d\"),'RE Inconsistency Results'!$B$1:$B$500,0),1))>50,\"N/A\",EXP(INDEX('RE Inconsistency Results'!$G$1:$G$500,MATCH(SUBSTITUTE(D118,\"OR\",\"d\"),'RE Inconsistency Results'!$B$1:$B$500,0),1))))","v":""}]
[null,null,null,{"$f":"IF('Fixed Effects'!N119=\"\",\"\",'Fixed Effects'!N119)","v":""},{"$f":"IF('Fixed Effects'!O119=\"\",\"\",'Fixed Effects'!O119)","v":""},{"$f":"IF('Fixed Effects'!Q119=\"\",\"\",'Fixed Effects'!Q119)","v":""},{"$f":"IF(D119=\"\",\"\",IF((INDEX('FE Inconsistency Results'!$H$1:$H$500,MATCH(SUBSTITUTE(D119,\"OR\",\"d\"),'FE Inconsistency Results'!$B$1:$B$500,0),1))-(INDEX('FE Inconsistency Results'!$F$1:$F$500,MATCH(SUBSTITUTE(D119,\"OR\",\"d\"),'FE Inconsistency Results'!$B$1:$B$500,0),1))>50,\"N/A\",EXP(INDEX('FE Inconsistency Results'!$G$1:$G$500,MATCH(SUBSTITUTE(D119,\"OR\",\"d\"),'FE Inconsistency Results'!$B$1:$B$500,0),1))))","v":""},null,{"$f":"IF(INDIRECT(CONCATENATE(\"'\",'Inconsistency Data'!$I$4,\"'!N119\"))=\"\",\"\",INDIRECT(CONCATENATE(\"'\",'Inconsistency Data'!$I$4,\"'!N119\")))","v":""},{"$f":"IF(INDIRECT(CONCATENATE(\"'\",'Inconsistency Data'!$I$4,\"'!O119\"))=\"\",\"\",INDIRECT(CONCATENATE(\"'\",'Inconsistency Data'!$I$4,\"'!O119\")))","v":""},{"$f":"IF(INDIRECT(CONCATENATE(\"'\",'Inconsistency Data'!$I$4,\"'!Q119\"))=\"\",\"\",INDIRECT(CONCATENATE(\"'\",'Inconsistency Data'!$I$4,\"'!Q119\")))","v":""},{"$f":"IF(D119=\"\",\"\",IF((INDEX('RE Inconsistency Results'!$H$1:$H$500,MATCH(SUBSTITUTE(D119,\"OR\",\"d\"),'RE Inconsistency Results'!$B$1:$B$500,0),1))-(INDEX('RE Inconsistency Results'!$F$1:$F$500,MATCH(SUBSTITUTE(D119,\"OR\",\"d\"),'RE Inconsistency Results'!$B$1:$B$500,0),1))>50,\"N/A\",EXP(INDEX('RE Inconsistency Results'!$G$1:$G$500,MATCH(SUBSTITUTE(D119,\"OR\",\"d\"),'RE Inconsistency Results'!$B$1:$B$500,0),1))))","v":""}]
[null,null,null,{"$f":"IF('Fixed Effects'!N120=\"\",\"\",'Fixed Effects'!N120)","v":""},{"$f":"IF('Fixed Effects'!O120=\"\",\"\",'Fixed Effects'!O120)","v":""},{"$f":"IF('Fixed Effects'!Q120=\"\",\"\",'Fixed Effects'!Q120)","v":""},{"$f":"IF(D120=\"\",\"\",IF((INDEX('FE Inconsistency Results'!$H$1:$H$500,MATCH(SUBSTITUTE(D120,\"OR\",\"d\"),'FE Inconsistency Results'!$B$1:$B$500,0),1))-(INDEX('FE Inconsistency Results'!$F$1:$F$500,MATCH(SUBSTITUTE(D120,\"OR\",\"d\"),'FE Inconsistency Results'!$B$1:$B$500,0),1))>50,\"N/A\",EXP(INDEX('FE Inconsistency Results'!$G$1:$G$500,MATCH(SUBSTITUTE(D120,\"OR\",\"d\"),'FE Inconsistency Results'!$B$1:$B$500,0),1))))","v":""},null,{"$f":"IF(INDIRECT(CONCATENATE(\"'\",'Inconsistency Data'!$I$4,\"'!N120\"))=\"\",\"\",INDIRECT(CONCATENATE(\"'\",'Inconsistency Data'!$I$4,\"'!N120\")))","v":""},{"$f":"IF(INDIRECT(CONCATENATE(\"'\",'Inconsistency Data'!$I$4,\"'!O120\"))=\"\",\"\",INDIRECT(CONCATENATE(\"'\",'Inconsistency Data'!$I$4,\"'!O120\")))","v":""},{"$f":"IF(INDIRECT(CONCATENATE(\"'\",'Inconsistency Data'!$I$4,\"'!Q120\"))=\"\",\"\",INDIRECT(CONCATENATE(\"'\",'Inconsistency Data'!$I$4,\"'!Q120\")))","v":""},{"$f":"IF(D120=\"\",\"\",IF((INDEX('RE Inconsistency Results'!$H$1:$H$500,MATCH(SUBSTITUTE(D120,\"OR\",\"d\"),'RE Inconsistency Results'!$B$1:$B$500,0),1))-(INDEX('RE Inconsistency Results'!$F$1:$F$500,MATCH(SUBSTITUTE(D120,\"OR\",\"d\"),'RE Inconsistency Results'!$B$1:$B$500,0),1))>50,\"N/A\",EXP(INDEX('RE Inconsistency Results'!$G$1:$G$500,MATCH(SUBSTITUTE(D120,\"OR\",\"d\"),'RE Inconsistency Results'!$B$1:$B$500,0),1))))","v":""}]
[null,null,null,{"$f":"IF('Fixed Effects'!N121=\"\",\"\",'Fixed Effects'!N121)","v":""},{"$f":"IF('Fixed Effects'!O121=\"\",\"\",'Fixed Effects'!O121)","v":""},{"$f":"IF('Fixed Effects'!Q121=\"\",\"\",'Fixed Effects'!Q121)","v":""},{"$f":"IF(D121=\"\",\"\",IF((INDEX('FE Inconsistency Results'!$H$1:$H$500,MATCH(SUBSTITUTE(D121,\"OR\",\"d\"),'FE Inconsistency Results'!$B$1:$B$500,0),1))-(INDEX('FE Inconsistency Results'!$F$1:$F$500,MATCH(SUBSTITUTE(D121,\"OR\",\"d\"),'FE Inconsistency Results'!$B$1:$B$500,0),1))>50,\"N/A\",EXP(INDEX('FE Inconsistency Results'!$G$1:$G$500,MATCH(SUBSTITUTE(D121,\"OR\",\"d\"),'FE Inconsistency Results'!$B$1:$B$500,0),1))))","v":""},null,{"$f":"IF(INDIRECT(CONCATENATE(\"'\",'Inconsistency Data'!$I$4,\"'!N121\"))=\"\",\"\",INDIRECT(CONCATENATE(\"'\",'Inconsistency Data'!$I$4,\"'!N121\")))","v":""},{"$f":"IF(INDIRECT(CONCATENATE(\"'\",'Inconsistency Data'!$I$4,\"'!O121\"))=\"\",\"\",INDIRECT(CONCATENATE(\"'\",'Inconsistency Data'!$I$4,\"'!O121\")))","v":""},{"$f":"IF(INDIRECT(CONCATENATE(\"'\",'Inconsistency Data'!$I$4,\"'!Q121\"))=\"\",\"\",INDIRECT(CONCATENATE(\"'\",'Inconsistency Data'!$I$4,\"'!Q121\")))","v":""},{"$f":"IF(D121=\"\",\"\",IF((INDEX('RE Inconsistency Results'!$H$1:$H$500,MATCH(SUBSTITUTE(D121,\"OR\",\"d\"),'RE Inconsistency Results'!$B$1:$B$500,0),1))-(INDEX('RE Inconsistency Results'!$F$1:$F$500,MATCH(SUBSTITUTE(D121,\"OR\",\"d\"),'RE Inconsistency Results'!$B$1:$B$500,0),1))>50,\"N/A\",EXP(INDEX('RE Inconsistency Results'!$G$1:$G$500,MATCH(SUBSTITUTE(D121,\"OR\",\"d\"),'RE Inconsistency Results'!$B$1:$B$500,0),1))))","v":""}]
[null,null,null,{"$f":"IF('Fixed Effects'!N122=\"\",\"\",'Fixed Effects'!N122)","v":""},{"$f":"IF('Fixed Effects'!O122=\"\",\"\",'Fixed Effects'!O122)","v":""},{"$f":"IF('Fixed Effects'!Q122=\"\",\"\",'Fixed Effects'!Q122)","v":""},{"$f":"IF(D122=\"\",\"\",IF((INDEX('FE Inconsistency Results'!$H$1:$H$500,MATCH(SUBSTITUTE(D122,\"OR\",\"d\"),'FE Inconsistency Results'!$B$1:$B$500,0),1))-(INDEX('FE Inconsistency Results'!$F$1:$F$500,MATCH(SUBSTITUTE(D122,\"OR\",\"d\"),'FE Inconsistency Results'!$B$1:$B$500,0),1))>50,\"N/A\",EXP(INDEX('FE Inconsistency Results'!$G$1:$G$500,MATCH(SUBSTITUTE(D122,\"OR\",\"d\"),'FE Inconsistency Results'!$B$1:$B$500,0),1))))","v":""},null,{"$f":"IF(INDIRECT(CONCATENATE(\"'\",'Inconsistency Data'!$I$4,\"'!N122\"))=\"\",\"\",INDIRECT(CONCATENATE(\"'\",'Inconsistency Data'!$I$4,\"'!N122\")))","v":""},{"$f":"IF(INDIRECT(CONCATENATE(\"'\",'Inconsistency Data'!$I$4,\"'!O122\"))=\"\",\"\",INDIRECT(CONCATENATE(\"'\",'Inconsistency Data'!$I$4,\"'!O122\")))","v":""},{"$f":"IF(INDIRECT(CONCATENATE(\"'\",'Inconsistency Data'!$I$4,\"'!Q122\"))=\"\",\"\",INDIRECT(CONCATENATE(\"'\",'Inconsistency Data'!$I$4,\"'!Q122\")))","v":""},{"$f":"IF(D122=\"\",\"\",IF((INDEX('RE Inconsistency Results'!$H$1:$H$500,MATCH(SUBSTITUTE(D122,\"OR\",\"d\"),'RE Inconsistency Results'!$B$1:$B$500,0),1))-(INDEX('RE Inconsistency Results'!$F$1:$F$500,MATCH(SUBSTITUTE(D122,\"OR\",\"d\"),'RE Inconsistency Results'!$B$1:$B$500,0),1))>50,\"N/A\",EXP(INDEX('RE Inconsistency Results'!$G$1:$G$500,MATCH(SUBSTITUTE(D122,\"OR\",\"d\"),'RE Inconsistency Results'!$B$1:$B$500,0),1))))","v":""}]
[null,null,null,{"$f":"IF('Fixed Effects'!N123=\"\",\"\",'Fixed Effects'!N123)","v":""},{"$f":"IF('Fixed Effects'!O123=\"\",\"\",'Fixed Effects'!O123)","v":""},{"$f":"IF('Fixed Effects'!Q123=\"\",\"\",'Fixed Effects'!Q123)","v":""},{"$f":"IF(D123=\"\",\"\",IF((INDEX('FE Inconsistency Results'!$H$1:$H$500,MATCH(SUBSTITUTE(D123,\"OR\",\"d\"),'FE Inconsistency Results'!$B$1:$B$500,0),1))-(INDEX('FE Inconsistency Results'!$F$1:$F$500,MATCH(SUBSTITUTE(D123,\"OR\",\"d\"),'FE Inconsistency Results'!$B$1:$B$500,0),1))>50,\"N/A\",EXP(INDEX('FE Inconsistency Results'!$G$1:$G$500,MATCH(SUBSTITUTE(D123,\"OR\",\"d\"),'FE Inconsistency Results'!$B$1:$B$500,0),1))))","v":""},null,{"$f":"IF(INDIRECT(CONCATENATE(\"'\",'Inconsistency Data'!$I$4,\"'!N123\"))=\"\",\"\",INDIRECT(CONCATENATE(\"'\",'Inconsistency Data'!$I$4,\"'!N123\")))","v":""},{"$f":"IF(INDIRECT(CONCATENATE(\"'\",'Inconsistency Data'!$I$4,\"'!O123\"))=\"\",\"\",INDIRECT(CONCATENATE(\"'\",'Inconsistency Data'!$I$4,\"'!O123\")))","v":""},{"$f":"IF(INDIRECT(CONCATENATE(\"'\",'Inconsistency Data'!$I$4,\"'!Q123\"))=\"\",\"\",INDIRECT(CONCATENATE(\"'\",'Inconsistency Data'!$I$4,\"'!Q123\")))","v":""},{"$f":"IF(D123=\"\",\"\",IF((INDEX('RE Inconsistency Results'!$H$1:$H$500,MATCH(SUBSTITUTE(D123,\"OR\",\"d\"),'RE Inconsistency Results'!$B$1:$B$500,0),1))-(INDEX('RE Inconsistency Results'!$F$1:$F$500,MATCH(SUBSTITUTE(D123,\"OR\",\"d\"),'RE Inconsistency Results'!$B$1:$B$500,0),1))>50,\"N/A\",EXP(INDEX('RE Inconsistency Results'!$G$1:$G$500,MATCH(SUBSTITUTE(D123,\"OR\",\"d\"),'RE Inconsistency Results'!$B$1:$B$500,0),1))))","v":""}]
[null,null,null,{"$f":"IF('Fixed Effects'!N124=\"\",\"\",'Fixed Effects'!N124)","v":""},{"$f":"IF('Fixed Effects'!O124=\"\",\"\",'Fixed Effects'!O124)","v":""},{"$f":"IF('Fixed Effects'!Q124=\"\",\"\",'Fixed Effects'!Q124)","v":""},{"$f":"IF(D124=\"\",\"\",IF((INDEX('FE Inconsistency Results'!$H$1:$H$500,MATCH(SUBSTITUTE(D124,\"OR\",\"d\"),'FE Inconsistency Results'!$B$1:$B$500,0),1))-(INDEX('FE Inconsistency Results'!$F$1:$F$500,MATCH(SUBSTITUTE(D124,\"OR\",\"d\"),'FE Inconsistency Results'!$B$1:$B$500,0),1))>50,\"N/A\",EXP(INDEX('FE Inconsistency Results'!$G$1:$G$500,MATCH(SUBSTITUTE(D124,\"OR\",\"d\"),'FE Inconsistency Results'!$B$1:$B$500,0),1))))","v":""},null,{"$f":"IF(INDIRECT(CONCATENATE(\"'\",'Inconsistency Data'!$I$4,\"'!N124\"))=\"\",\"\",INDIRECT(CONCATENATE(\"'\",'Inconsistency Data'!$I$4,\"'!N124\")))","v":""},{"$f":"IF(INDIRECT(CONCATENATE(\"'\",'Inconsistency Data'!$I$4,\"'!O124\"))=\"\",\"\",INDIRECT(CONCATENATE(\"'\",'Inconsistency Data'!$I$4,\"'!O124\")))","v":""},{"$f":"IF(INDIRECT(CONCATENATE(\"'\",'Inconsistency Data'!$I$4,\"'!Q124\"))=\"\",\"\",INDIRECT(CONCATENATE(\"'\",'Inconsistency Data'!$I$4,\"'!Q124\")))","v":""},{"$f":"IF(D124=\"\",\"\",IF((INDEX('RE Inconsistency Results'!$H$1:$H$500,MATCH(SUBSTITUTE(D124,\"OR\",\"d\"),'RE Inconsistency Results'!$B$1:$B$500,0),1))-(INDEX('RE Inconsistency Results'!$F$1:$F$500,MATCH(SUBSTITUTE(D124,\"OR\",\"d\"),'RE Inconsistency Results'!$B$1:$B$500,0),1))>50,\"N/A\",EXP(INDEX('RE Inconsistency Results'!$G$1:$G$500,MATCH(SUBSTITUTE(D124,\"OR\",\"d\"),'RE Inconsistency Results'!$B$1:$B$500,0),1))))","v":""}]
[null,null,null,{"$f":"IF('Fixed Effects'!N125=\"\",\"\",'Fixed Effects'!N125)","v":""},{"$f":"IF('Fixed Effects'!O125=\"\",\"\",'Fixed Effects'!O125)","v":""},{"$f":"IF('Fixed Effects'!Q125=\"\",\"\",'Fixed Effects'!Q125)","v":""},{"$f":"IF(D125=\"\",\"\",IF((INDEX('FE Inconsistency Results'!$H$1:$H$500,MATCH(SUBSTITUTE(D125,\"OR\",\"d\"),'FE Inconsistency Results'!$B$1:$B$500,0),1))-(INDEX('FE Inconsistency Results'!$F$1:$F$500,MATCH(SUBSTITUTE(D125,\"OR\",\"d\"),'FE Inconsistency Results'!$B$1:$B$500,0),1))>50,\"N/A\",EXP(INDEX('FE Inconsistency Results'!$G$1:$G$500,MATCH(SUBSTITUTE(D125,\"OR\",\"d\"),'FE Inconsistency Results'!$B$1:$B$500,0),1))))","v":""},null,{"$f":"IF(INDIRECT(CONCATENATE(\"'\",'Inconsistency Data'!$I$4,\"'!N125\"))=\"\",\"\",INDIRECT(CONCATENATE(\"'\",'Inconsistency Data'!$I$4,\"'!N125\")))","v":""},{"$f":"IF(INDIRECT(CONCATENATE(\"'\",'Inconsistency Data'!$I$4,\"'!O125\"))=\"\",\"\",INDIRECT(CONCATENATE(\"'\",'Inconsistency Data'!$I$4,\"'!O125\")))","v":""},{"$f":"IF(INDIRECT(CONCATENATE(\"'\",'Inconsistency Data'!$I$4,\"'!Q125\"))=\"\",\"\",INDIRECT(CONCATENATE(\"'\",'Inconsistency Data'!$I$4,\"'!Q125\")))","v":""},{"$f":"IF(D125=\"\",\"\",IF((INDEX('RE Inconsistency Results'!$H$1:$H$500,MATCH(SUBSTITUTE(D125,\"OR\",\"d\"),'RE Inconsistency Results'!$B$1:$B$500,0),1))-(INDEX('RE Inconsistency Results'!$F$1:$F$500,MATCH(SUBSTITUTE(D125,\"OR\",\"d\"),'RE Inconsistency Results'!$B$1:$B$500,0),1))>50,\"N/A\",EXP(INDEX('RE Inconsistency Results'!$G$1:$G$500,MATCH(SUBSTITUTE(D125,\"OR\",\"d\"),'RE Inconsistency Results'!$B$1:$B$500,0),1))))","v":""}]
[null,null,null,{"$f":"IF('Fixed Effects'!N126=\"\",\"\",'Fixed Effects'!N126)","v":""},{"$f":"IF('Fixed Effects'!O126=\"\",\"\",'Fixed Effects'!O126)","v":""},{"$f":"IF('Fixed Effects'!Q126=\"\",\"\",'Fixed Effects'!Q126)","v":""},{"$f":"IF(D126=\"\",\"\",IF((INDEX('FE Inconsistency Results'!$H$1:$H$500,MATCH(SUBSTITUTE(D126,\"OR\",\"d\"),'FE Inconsistency Results'!$B$1:$B$500,0),1))-(INDEX('FE Inconsistency Results'!$F$1:$F$500,MATCH(SUBSTITUTE(D126,\"OR\",\"d\"),'FE Inconsistency Results'!$B$1:$B$500,0),1))>50,\"N/A\",EXP(INDEX('FE Inconsistency Results'!$G$1:$G$500,MATCH(SUBSTITUTE(D126,\"OR\",\"d\"),'FE Inconsistency Results'!$B$1:$B$500,0),1))))","v":""},null,{"$f":"IF(INDIRECT(CONCATENATE(\"'\",'Inconsistency Data'!$I$4,\"'!N126\"))=\"\",\"\",INDIRECT(CONCATENATE(\"'\",'Inconsistency Data'!$I$4,\"'!N126\")))","v":""},{"$f":"IF(INDIRECT(CONCATENATE(\"'\",'Inconsistency Data'!$I$4,\"'!O126\"))=\"\",\"\",INDIRECT(CONCATENATE(\"'\",'Inconsistency Data'!$I$4,\"'!O126\")))","v":""},{"$f":"IF(INDIRECT(CONCATENATE(\"'\",'Inconsistency Data'!$I$4,\"'!Q126\"))=\"\",\"\",INDIRECT(CONCATENATE(\"'\",'Inconsistency Data'!$I$4,\"'!Q126\")))","v":""},{"$f":"IF(D126=\"\",\"\",IF((INDEX('RE Inconsistency Results'!$H$1:$H$500,MATCH(SUBSTITUTE(D126,\"OR\",\"d\"),'RE Inconsistency Results'!$B$1:$B$500,0),1))-(INDEX('RE Inconsistency Results'!$F$1:$F$500,MATCH(SUBSTITUTE(D126,\"OR\",\"d\"),'RE Inconsistency Results'!$B$1:$B$500,0),1))>50,\"N/A\",EXP(INDEX('RE Inconsistency Results'!$G$1:$G$500,MATCH(SUBSTITUTE(D126,\"OR\",\"d\"),'RE Inconsistency Results'!$B$1:$B$500,0),1))))","v":""}]
[null,null,null,{"$f":"IF('Fixed Effects'!N127=\"\",\"\",'Fixed Effects'!N127)","v":""},{"$f":"IF('Fixed Effects'!O127=\"\",\"\",'Fixed Effects'!O127)","v":""},{"$f":"IF('Fixed Effects'!Q127=\"\",\"\",'Fixed Effects'!Q127)","v":""},{"$f":"IF(D127=\"\",\"\",IF((INDEX('FE Inconsistency Results'!$H$1:$H$500,MATCH(SUBSTITUTE(D127,\"OR\",\"d\"),'FE Inconsistency Results'!$B$1:$B$500,0),1))-(INDEX('FE Inconsistency Results'!$F$1:$F$500,MATCH(SUBSTITUTE(D127,\"OR\",\"d\"),'FE Inconsistency Results'!$B$1:$B$500,0),1))>50,\"N/A\",EXP(INDEX('FE Inconsistency Results'!$G$1:$G$500,MATCH(SUBSTITUTE(D127,\"OR\",\"d\"),'FE Inconsistency Results'!$B$1:$B$500,0),1))))","v":""},null,{"$f":"IF(INDIRECT(CONCATENATE(\"'\",'Inconsistency Data'!$I$4,\"'!N127\"))=\"\",\"\",INDIRECT(CONCATENATE(\"'\",'Inconsistency Data'!$I$4,\"'!N127\")))","v":""},{"$f":"IF(INDIRECT(CONCATENATE(\"'\",'Inconsistency Data'!$I$4,\"'!O127\"))=\"\",\"\",INDIRECT(CONCATENATE(\"'\",'Inconsistency Data'!$I$4,\"'!O127\")))","v":""},{"$f":"IF(INDIRECT(CONCATENATE(\"'\",'Inconsistency Data'!$I$4,\"'!Q127\"))=\"\",\"\",INDIRECT(CONCATENATE(\"'\",'Inconsistency Data'!$I$4,\"'!Q127\")))","v":""},{"$f":"IF(D127=\"\",\"\",IF((INDEX('RE Inconsistency Results'!$H$1:$H$500,MATCH(SUBSTITUTE(D127,\"OR\",\"d\"),'RE Inconsistency Results'!$B$1:$B$500,0),1))-(INDEX('RE Inconsistency Results'!$F$1:$F$500,MATCH(SUBSTITUTE(D127,\"OR\",\"d\"),'RE Inconsistency Results'!$B$1:$B$500,0),1))>50,\"N/A\",EXP(INDEX('RE Inconsistency Results'!$G$1:$G$500,MATCH(SUBSTITUTE(D127,\"OR\",\"d\"),'RE Inconsistency Results'!$B$1:$B$500,0),1))))","v":""}]
[null,null,null,{"$f":"IF('Fixed Effects'!N128=\"\",\"\",'Fixed Effects'!N128)","v":""},{"$f":"IF('Fixed Effects'!O128=\"\",\"\",'Fixed Effects'!O128)","v":""},{"$f":"IF('Fixed Effects'!Q128=\"\",\"\",'Fixed Effects'!Q128)","v":""},{"$f":"IF(D128=\"\",\"\",IF((INDEX('FE Inconsistency Results'!$H$1:$H$500,MATCH(SUBSTITUTE(D128,\"OR\",\"d\"),'FE Inconsistency Results'!$B$1:$B$500,0),1))-(INDEX('FE Inconsistency Results'!$F$1:$F$500,MATCH(SUBSTITUTE(D128,\"OR\",\"d\"),'FE Inconsistency Results'!$B$1:$B$500,0),1))>50,\"N/A\",EXP(INDEX('FE Inconsistency Results'!$G$1:$G$500,MATCH(SUBSTITUTE(D128,\"OR\",\"d\"),'FE Inconsistency Results'!$B$1:$B$500,0),1))))","v":""},null,{"$f":"IF(INDIRECT(CONCATENATE(\"'\",'Inconsistency Data'!$I$4,\"'!N128\"))=\"\",\"\",INDIRECT(CONCATENATE(\"'\",'Inconsistency Data'!$I$4,\"'!N128\")))","v":""},{"$f":"IF(INDIRECT(CONCATENATE(\"'\",'Inconsistency Data'!$I$4,\"'!O128\"))=\"\",\"\",INDIRECT(CONCATENATE(\"'\",'Inconsistency Data'!$I$4,\"'!O128\")))","v":""},{"$f":"IF(INDIRECT(CONCATENATE(\"'\",'Inconsistency Data'!$I$4,\"'!Q128\"))=\"\",\"\",INDIRECT(CONCATENATE(\"'\",'Inconsistency Data'!$I$4,\"'!Q128\")))","v":""},{"$f":"IF(D128=\"\",\"\",IF((INDEX('RE Inconsistency Results'!$H$1:$H$500,MATCH(SUBSTITUTE(D128,\"OR\",\"d\"),'RE Inconsistency Results'!$B$1:$B$500,0),1))-(INDEX('RE Inconsistency Results'!$F$1:$F$500,MATCH(SUBSTITUTE(D128,\"OR\",\"d\"),'RE Inconsistency Results'!$B$1:$B$500,0),1))>50,\"N/A\",EXP(INDEX('RE Inconsistency Results'!$G$1:$G$500,MATCH(SUBSTITUTE(D128,\"OR\",\"d\"),'RE Inconsistency Results'!$B$1:$B$500,0),1))))","v":""}]
[null,null,null,{"$f":"IF('Fixed Effects'!N129=\"\",\"\",'Fixed Effects'!N129)","v":""},{"$f":"IF('Fixed Effects'!O129=\"\",\"\",'Fixed Effects'!O129)","v":""},{"$f":"IF('Fixed Effects'!Q129=\"\",\"\",'Fixed Effects'!Q129)","v":""},{"$f":"IF(D129=\"\",\"\",IF((INDEX('FE Inconsistency Results'!$H$1:$H$500,MATCH(SUBSTITUTE(D129,\"OR\",\"d\"),'FE Inconsistency Results'!$B$1:$B$500,0),1))-(INDEX('FE Inconsistency Results'!$F$1:$F$500,MATCH(SUBSTITUTE(D129,\"OR\",\"d\"),'FE Inconsistency Results'!$B$1:$B$500,0),1))>50,\"N/A\",EXP(INDEX('FE Inconsistency Results'!$G$1:$G$500,MATCH(SUBSTITUTE(D129,\"OR\",\"d\"),'FE Inconsistency Results'!$B$1:$B$500,0),1))))","v":""},null,{"$f":"IF(INDIRECT(CONCATENATE(\"'\",'Inconsistency Data'!$I$4,\"'!N129\"))=\"\",\"\",INDIRECT(CONCATENATE(\"'\",'Inconsistency Data'!$I$4,\"'!N129\")))","v":""},{"$f":"IF(INDIRECT(CONCATENATE(\"'\",'Inconsistency Data'!$I$4,\"'!O129\"))=\"\",\"\",INDIRECT(CONCATENATE(\"'\",'Inconsistency Data'!$I$4,\"'!O129\")))","v":""},{"$f":"IF(INDIRECT(CONCATENATE(\"'\",'Inconsistency Data'!$I$4,\"'!Q129\"))=\"\",\"\",INDIRECT(CONCATENATE(\"'\",'Inconsistency Data'!$I$4,\"'!Q129\")))","v":""},{"$f":"IF(D129=\"\",\"\",IF((INDEX('RE Inconsistency Results'!$H$1:$H$500,MATCH(SUBSTITUTE(D129,\"OR\",\"d\"),'RE Inconsistency Results'!$B$1:$B$500,0),1))-(INDEX('RE Inconsistency Results'!$F$1:$F$500,MATCH(SUBSTITUTE(D129,\"OR\",\"d\"),'RE Inconsistency Results'!$B$1:$B$500,0),1))>50,\"N/A\",EXP(INDEX('RE Inconsistency Results'!$G$1:$G$500,MATCH(SUBSTITUTE(D129,\"OR\",\"d\"),'RE Inconsistency Results'!$B$1:$B$500,0),1))))","v":""}]
[null,null,null,{"$f":"IF('Fixed Effects'!N130=\"\",\"\",'Fixed Effects'!N130)","v":""},{"$f":"IF('Fixed Effects'!O130=\"\",\"\",'Fixed Effects'!O130)","v":""},{"$f":"IF('Fixed Effects'!Q130=\"\",\"\",'Fixed Effects'!Q130)","v":""},{"$f":"IF(D130=\"\",\"\",IF((INDEX('FE Inconsistency Results'!$H$1:$H$500,MATCH(SUBSTITUTE(D130,\"OR\",\"d\"),'FE Inconsistency Results'!$B$1:$B$500,0),1))-(INDEX('FE Inconsistency Results'!$F$1:$F$500,MATCH(SUBSTITUTE(D130,\"OR\",\"d\"),'FE Inconsistency Results'!$B$1:$B$500,0),1))>50,\"N/A\",EXP(INDEX('FE Inconsistency Results'!$G$1:$G$500,MATCH(SUBSTITUTE(D130,\"OR\",\"d\"),'FE Inconsistency Results'!$B$1:$B$500,0),1))))","v":""},null,{"$f":"IF(INDIRECT(CONCATENATE(\"'\",'Inconsistency Data'!$I$4,\"'!N130\"))=\"\",\"\",INDIRECT(CONCATENATE(\"'\",'Inconsistency Data'!$I$4,\"'!N130\")))","v":""},{"$f":"IF(INDIRECT(CONCATENATE(\"'\",'Inconsistency Data'!$I$4,\"'!O130\"))=\"\",\"\",INDIRECT(CONCATENATE(\"'\",'Inconsistency Data'!$I$4,\"'!O130\")))","v":""},{"$f":"IF(INDIRECT(CONCATENATE(\"'\",'Inconsistency Data'!$I$4,\"'!Q130\"))=\"\",\"\",INDIRECT(CONCATENATE(\"'\",'Inconsistency Data'!$I$4,\"'!Q130\")))","v":""},{"$f":"IF(D130=\"\",\"\",IF((INDEX('RE Inconsistency Results'!$H$1:$H$500,MATCH(SUBSTITUTE(D130,\"OR\",\"d\"),'RE Inconsistency Results'!$B$1:$B$500,0),1))-(INDEX('RE Inconsistency Results'!$F$1:$F$500,MATCH(SUBSTITUTE(D130,\"OR\",\"d\"),'RE Inconsistency Results'!$B$1:$B$500,0),1))>50,\"N/A\",EXP(INDEX('RE Inconsistency Results'!$G$1:$G$500,MATCH(SUBSTITUTE(D130,\"OR\",\"d\"),'RE Inconsistency Results'!$B$1:$B$500,0),1))))","v":""}]
[null,null,null,{"$f":"IF('Fixed Effects'!N131=\"\",\"\",'Fixed Effects'!N131)","v":""},{"$f":"IF('Fixed Effects'!O131=\"\",\"\",'Fixed Effects'!O131)","v":""},{"$f":"IF('Fixed Effects'!Q131=\"\",\"\",'Fixed Effects'!Q131)","v":""},{"$f":"IF(D131=\"\",\"\",IF((INDEX('FE Inconsistency Results'!$H$1:$H$500,MATCH(SUBSTITUTE(D131,\"OR\",\"d\"),'FE Inconsistency Results'!$B$1:$B$500,0),1))-(INDEX('FE Inconsistency Results'!$F$1:$F$500,MATCH(SUBSTITUTE(D131,\"OR\",\"d\"),'FE Inconsistency Results'!$B$1:$B$500,0),1))>50,\"N/A\",EXP(INDEX('FE Inconsistency Results'!$G$1:$G$500,MATCH(SUBSTITUTE(D131,\"OR\",\"d\"),'FE Inconsistency Results'!$B$1:$B$500,0),1))))","v":""},null,{"$f":"IF(INDIRECT(CONCATENATE(\"'\",'Inconsistency Data'!$I$4,\"'!N131\"))=\"\",\"\",INDIRECT(CONCATENATE(\"'\",'Inconsistency Data'!$I$4,\"'!N131\")))","v":""},{"$f":"IF(INDIRECT(CONCATENATE(\"'\",'Inconsistency Data'!$I$4,\"'!O131\"))=\"\",\"\",INDIRECT(CONCATENATE(\"'\",'Inconsistency Data'!$I$4,\"'!O131\")))","v":""},{"$f":"IF(INDIRECT(CONCATENATE(\"'\",'Inconsistency Data'!$I$4,\"'!Q131\"))=\"\",\"\",INDIRECT(CONCATENATE(\"'\",'Inconsistency Data'!$I$4,\"'!Q131\")))","v":""},{"$f":"IF(D131=\"\",\"\",IF((INDEX('RE Inconsistency Results'!$H$1:$H$500,MATCH(SUBSTITUTE(D131,\"OR\",\"d\"),'RE Inconsistency Results'!$B$1:$B$500,0),1))-(INDEX('RE Inconsistency Results'!$F$1:$F$500,MATCH(SUBSTITUTE(D131,\"OR\",\"d\"),'RE Inconsistency Results'!$B$1:$B$500,0),1))>50,\"N/A\",EXP(INDEX('RE Inconsistency Results'!$G$1:$G$500,MATCH(SUBSTITUTE(D131,\"OR\",\"d\"),'RE Inconsistency Results'!$B$1:$B$500,0),1))))","v":""}]
[null,null,null,{"$f":"IF('Fixed Effects'!N132=\"\",\"\",'Fixed Effects'!N132)","v":""},{"$f":"IF('Fixed Effects'!O132=\"\",\"\",'Fixed Effects'!O132)","v":""},{"$f":"IF('Fixed Effects'!Q132=\"\",\"\",'Fixed Effects'!Q132)","v":""},{"$f":"IF(D132=\"\",\"\",IF((INDEX('FE Inconsistency Results'!$H$1:$H$500,MATCH(SUBSTITUTE(D132,\"OR\",\"d\"),'FE Inconsistency Results'!$B$1:$B$500,0),1))-(INDEX('FE Inconsistency Results'!$F$1:$F$500,MATCH(SUBSTITUTE(D132,\"OR\",\"d\"),'FE Inconsistency Results'!$B$1:$B$500,0),1))>50,\"N/A\",EXP(INDEX('FE Inconsistency Results'!$G$1:$G$500,MATCH(SUBSTITUTE(D132,\"OR\",\"d\"),'FE Inconsistency Results'!$B$1:$B$500,0),1))))","v":""},null,{"$f":"IF(INDIRECT(CONCATENATE(\"'\",'Inconsistency Data'!$I$4,\"'!N132\"))=\"\",\"\",INDIRECT(CONCATENATE(\"'\",'Inconsistency Data'!$I$4,\"'!N132\")))","v":""},{"$f":"IF(INDIRECT(CONCATENATE(\"'\",'Inconsistency Data'!$I$4,\"'!O132\"))=\"\",\"\",INDIRECT(CONCATENATE(\"'\",'Inconsistency Data'!$I$4,\"'!O132\")))","v":""},{"$f":"IF(INDIRECT(CONCATENATE(\"'\",'Inconsistency Data'!$I$4,\"'!Q132\"))=\"\",\"\",INDIRECT(CONCATENATE(\"'\",'Inconsistency Data'!$I$4,\"'!Q132\")))","v":""},{"$f":"IF(D132=\"\",\"\",IF((INDEX('RE Inconsistency Results'!$H$1:$H$500,MATCH(SUBSTITUTE(D132,\"OR\",\"d\"),'RE Inconsistency Results'!$B$1:$B$500,0),1))-(INDEX('RE Inconsistency Results'!$F$1:$F$500,MATCH(SUBSTITUTE(D132,\"OR\",\"d\"),'RE Inconsistency Results'!$B$1:$B$500,0),1))>50,\"N/A\",EXP(INDEX('RE Inconsistency Results'!$G$1:$G$500,MATCH(SUBSTITUTE(D132,\"OR\",\"d\"),'RE Inconsistency Results'!$B$1:$B$500,0),1))))","v":""}]
[null,null,null,{"$f":"IF('Fixed Effects'!N133=\"\",\"\",'Fixed Effects'!N133)","v":""},{"$f":"IF('Fixed Effects'!O133=\"\",\"\",'Fixed Effects'!O133)","v":""},{"$f":"IF('Fixed Effects'!Q133=\"\",\"\",'Fixed Effects'!Q133)","v":""},{"$f":"IF(D133=\"\",\"\",IF((INDEX('FE Inconsistency Results'!$H$1:$H$500,MATCH(SUBSTITUTE(D133,\"OR\",\"d\"),'FE Inconsistency Results'!$B$1:$B$500,0),1))-(INDEX('FE Inconsistency Results'!$F$1:$F$500,MATCH(SUBSTITUTE(D133,\"OR\",\"d\"),'FE Inconsistency Results'!$B$1:$B$500,0),1))>50,\"N/A\",EXP(INDEX('FE Inconsistency Results'!$G$1:$G$500,MATCH(SUBSTITUTE(D133,\"OR\",\"d\"),'FE Inconsistency Results'!$B$1:$B$500,0),1))))","v":""},null,{"$f":"IF(INDIRECT(CONCATENATE(\"'\",'Inconsistency Data'!$I$4,\"'!N133\"))=\"\",\"\",INDIRECT(CONCATENATE(\"'\",'Inconsistency Data'!$I$4,\"'!N133\")))","v":""},{"$f":"IF(INDIRECT(CONCATENATE(\"'\",'Inconsistency Data'!$I$4,\"'!O133\"))=\"\",\"\",INDIRECT(CONCATENATE(\"'\",'Inconsistency Data'!$I$4,\"'!O133\")))","v":""},{"$f":"IF(INDIRECT(CONCATENATE(\"'\",'Inconsistency Data'!$I$4,\"'!Q133\"))=\"\",\"\",INDIRECT(CONCATENATE(\"'\",'Inconsistency Data'!$I$4,\"'!Q133\")))","v":""},{"$f":"IF(D133=\"\",\"\",IF((INDEX('RE Inconsistency Results'!$H$1:$H$500,MATCH(SUBSTITUTE(D133,\"OR\",\"d\"),'RE Inconsistency Results'!$B$1:$B$500,0),1))-(INDEX('RE Inconsistency Results'!$F$1:$F$500,MATCH(SUBSTITUTE(D133,\"OR\",\"d\"),'RE Inconsistency Results'!$B$1:$B$500,0),1))>50,\"N/A\",EXP(INDEX('RE Inconsistency Results'!$G$1:$G$500,MATCH(SUBSTITUTE(D133,\"OR\",\"d\"),'RE Inconsistency Results'!$B$1:$B$500,0),1))))","v":""}]
[null,null,null,{"$f":"IF('Fixed Effects'!N134=\"\",\"\",'Fixed Effects'!N134)","v":""},{"$f":"IF('Fixed Effects'!O134=\"\",\"\",'Fixed Effects'!O134)","v":""},{"$f":"IF('Fixed Effects'!Q134=\"\",\"\",'Fixed Effects'!Q134)","v":""},{"$f":"IF(D134=\"\",\"\",IF((INDEX('FE Inconsistency Results'!$H$1:$H$500,MATCH(SUBSTITUTE(D134,\"OR\",\"d\"),'FE Inconsistency Results'!$B$1:$B$500,0),1))-(INDEX('FE Inconsistency Results'!$F$1:$F$500,MATCH(SUBSTITUTE(D134,\"OR\",\"d\"),'FE Inconsistency Results'!$B$1:$B$500,0),1))>50,\"N/A\",EXP(INDEX('FE Inconsistency Results'!$G$1:$G$500,MATCH(SUBSTITUTE(D134,\"OR\",\"d\"),'FE Inconsistency Results'!$B$1:$B$500,0),1))))","v":""},null,{"$f":"IF(INDIRECT(CONCATENATE(\"'\",'Inconsistency Data'!$I$4,\"'!N134\"))=\"\",\"\",INDIRECT(CONCATENATE(\"'\",'Inconsistency Data'!$I$4,\"'!N134\")))","v":""},{"$f":"IF(INDIRECT(CONCATENATE(\"'\",'Inconsistency Data'!$I$4,\"'!O134\"))=\"\",\"\",INDIRECT(CONCATENATE(\"'\",'Inconsistency Data'!$I$4,\"'!O134\")))","v":""},{"$f":"IF(INDIRECT(CONCATENATE(\"'\",'Inconsistency Data'!$I$4,\"'!Q134\"))=\"\",\"\",INDIRECT(CONCATENATE(\"'\",'Inconsistency Data'!$I$4,\"'!Q134\")))","v":""},{"$f":"IF(D134=\"\",\"\",IF((INDEX('RE Inconsistency Results'!$H$1:$H$500,MATCH(SUBSTITUTE(D134,\"OR\",\"d\"),'RE Inconsistency Results'!$B$1:$B$500,0),1))-(INDEX('RE Inconsistency Results'!$F$1:$F$500,MATCH(SUBSTITUTE(D134,\"OR\",\"d\"),'RE Inconsistency Results'!$B$1:$B$500,0),1))>50,\"N/A\",EXP(INDEX('RE Inconsistency Results'!$G$1:$G$500,MATCH(SUBSTITUTE(D134,\"OR\",\"d\"),'RE Inconsistency Results'!$B$1:$B$500,0),1))))","v":""}]
[null,null,null,{"$f":"IF('Fixed Effects'!N135=\"\",\"\",'Fixed Effects'!N135)","v":""},{"$f":"IF('Fixed Effects'!O135=\"\",\"\",'Fixed Effects'!O135)","v":""},{"$f":"IF('Fixed Effects'!Q135=\"\",\"\",'Fixed Effects'!Q135)","v":""},{"$f":"IF(D135=\"\",\"\",IF((INDEX('FE Inconsistency Results'!$H$1:$H$500,MATCH(SUBSTITUTE(D135,\"OR\",\"d\"),'FE Inconsistency Results'!$B$1:$B$500,0),1))-(INDEX('FE Inconsistency Results'!$F$1:$F$500,MATCH(SUBSTITUTE(D135,\"OR\",\"d\"),'FE Inconsistency Results'!$B$1:$B$500,0),1))>50,\"N/A\",EXP(INDEX('FE Inconsistency Results'!$G$1:$G$500,MATCH(SUBSTITUTE(D135,\"OR\",\"d\"),'FE Inconsistency Results'!$B$1:$B$500,0),1))))","v":""},null,{"$f":"IF(INDIRECT(CONCATENATE(\"'\",'Inconsistency Data'!$I$4,\"'!N135\"))=\"\",\"\",INDIRECT(CONCATENATE(\"'\",'Inconsistency Data'!$I$4,\"'!N135\")))","v":""},{"$f":"IF(INDIRECT(CONCATENATE(\"'\",'Inconsistency Data'!$I$4,\"'!O135\"))=\"\",\"\",INDIRECT(CONCATENATE(\"'\",'Inconsistency Data'!$I$4,\"'!O135\")))","v":""},{"$f":"IF(INDIRECT(CONCATENATE(\"'\",'Inconsistency Data'!$I$4,\"'!Q135\"))=\"\",\"\",INDIRECT(CONCATENATE(\"'\",'Inconsistency Data'!$I$4,\"'!Q135\")))","v":""},{"$f":"IF(D135=\"\",\"\",IF((INDEX('RE Inconsistency Results'!$H$1:$H$500,MATCH(SUBSTITUTE(D135,\"OR\",\"d\"),'RE Inconsistency Results'!$B$1:$B$500,0),1))-(INDEX('RE Inconsistency Results'!$F$1:$F$500,MATCH(SUBSTITUTE(D135,\"OR\",\"d\"),'RE Inconsistency Results'!$B$1:$B$500,0),1))>50,\"N/A\",EXP(INDEX('RE Inconsistency Results'!$G$1:$G$500,MATCH(SUBSTITUTE(D135,\"OR\",\"d\"),'RE Inconsistency Results'!$B$1:$B$500,0),1))))","v":""}]
[null,null,null,{"$f":"IF('Fixed Effects'!N136=\"\",\"\",'Fixed Effects'!N136)","v":""},{"$f":"IF('Fixed Effects'!O136=\"\",\"\",'Fixed Effects'!O136)","v":""},{"$f":"IF('Fixed Effects'!Q136=\"\",\"\",'Fixed Effects'!Q136)","v":""},{"$f":"IF(D136=\"\",\"\",IF((INDEX('FE Inconsistency Results'!$H$1:$H$500,MATCH(SUBSTITUTE(D136,\"OR\",\"d\"),'FE Inconsistency Results'!$B$1:$B$500,0),1))-(INDEX('FE Inconsistency Results'!$F$1:$F$500,MATCH(SUBSTITUTE(D136,\"OR\",\"d\"),'FE Inconsistency Results'!$B$1:$B$500,0),1))>50,\"N/A\",EXP(INDEX('FE Inconsistency Results'!$G$1:$G$500,MATCH(SUBSTITUTE(D136,\"OR\",\"d\"),'FE Inconsistency Results'!$B$1:$B$500,0),1))))","v":""},null,{"$f":"IF(INDIRECT(CONCATENATE(\"'\",'Inconsistency Data'!$I$4,\"'!N136\"))=\"\",\"\",INDIRECT(CONCATENATE(\"'\",'Inconsistency Data'!$I$4,\"'!N136\")))","v":""},{"$f":"IF(INDIRECT(CONCATENATE(\"'\",'Inconsistency Data'!$I$4,\"'!O136\"))=\"\",\"\",INDIRECT(CONCATENATE(\"'\",'Inconsistency Data'!$I$4,\"'!O136\")))","v":""},{"$f":"IF(INDIRECT(CONCATENATE(\"'\",'Inconsistency Data'!$I$4,\"'!Q136\"))=\"\",\"\",INDIRECT(CONCATENATE(\"'\",'Inconsistency Data'!$I$4,\"'!Q136\")))","v":""},{"$f":"IF(D136=\"\",\"\",IF((INDEX('RE Inconsistency Results'!$H$1:$H$500,MATCH(SUBSTITUTE(D136,\"OR\",\"d\"),'RE Inconsistency Results'!$B$1:$B$500,0),1))-(INDEX('RE Inconsistency Results'!$F$1:$F$500,MATCH(SUBSTITUTE(D136,\"OR\",\"d\"),'RE Inconsistency Results'!$B$1:$B$500,0),1))>50,\"N/A\",EXP(INDEX('RE Inconsistency Results'!$G$1:$G$500,MATCH(SUBSTITUTE(D136,\"OR\",\"d\"),'RE Inconsistency Results'!$B$1:$B$500,0),1))))","v":""}]
[null,null,null,{"$f":"IF('Fixed Effects'!N137=\"\",\"\",'Fixed Effects'!N137)","v":""},{"$f":"IF('Fixed Effects'!O137=\"\",\"\",'Fixed Effects'!O137)","v":""},{"$f":"IF('Fixed Effects'!Q137=\"\",\"\",'Fixed Effects'!Q137)","v":""},{"$f":"IF(D137=\"\",\"\",IF((INDEX('FE Inconsistency Results'!$H$1:$H$500,MATCH(SUBSTITUTE(D137,\"OR\",\"d\"),'FE Inconsistency Results'!$B$1:$B$500,0),1))-(INDEX('FE Inconsistency Results'!$F$1:$F$500,MATCH(SUBSTITUTE(D137,\"OR\",\"d\"),'FE Inconsistency Results'!$B$1:$B$500,0),1))>50,\"N/A\",EXP(INDEX('FE Inconsistency Results'!$G$1:$G$500,MATCH(SUBSTITUTE(D137,\"OR\",\"d\"),'FE Inconsistency Results'!$B$1:$B$500,0),1))))","v":""},null,{"$f":"IF(INDIRECT(CONCATENATE(\"'\",'Inconsistency Data'!$I$4,\"'!N137\"))=\"\",\"\",INDIRECT(CONCATENATE(\"'\",'Inconsistency Data'!$I$4,\"'!N137\")))","v":""},{"$f":"IF(INDIRECT(CONCATENATE(\"'\",'Inconsistency Data'!$I$4,\"'!O137\"))=\"\",\"\",INDIRECT(CONCATENATE(\"'\",'Inconsistency Data'!$I$4,\"'!O137\")))","v":""},{"$f":"IF(INDIRECT(CONCATENATE(\"'\",'Inconsistency Data'!$I$4,\"'!Q137\"))=\"\",\"\",INDIRECT(CONCATENATE(\"'\",'Inconsistency Data'!$I$4,\"'!Q137\")))","v":""},{"$f":"IF(D137=\"\",\"\",IF((INDEX('RE Inconsistency Results'!$H$1:$H$500,MATCH(SUBSTITUTE(D137,\"OR\",\"d\"),'RE Inconsistency Results'!$B$1:$B$500,0),1))-(INDEX('RE Inconsistency Results'!$F$1:$F$500,MATCH(SUBSTITUTE(D137,\"OR\",\"d\"),'RE Inconsistency Results'!$B$1:$B$500,0),1))>50,\"N/A\",EXP(INDEX('RE Inconsistency Results'!$G$1:$G$500,MATCH(SUBSTITUTE(D137,\"OR\",\"d\"),'RE Inconsistency Results'!$B$1:$B$500,0),1))))","v":""}]
[null,null,null,{"$f":"IF('Fixed Effects'!N138=\"\",\"\",'Fixed Effects'!N138)","v":""},{"$f":"IF('Fixed Effects'!O138=\"\",\"\",'Fixed Effects'!O138)","v":""},{"$f":"IF('Fixed Effects'!Q138=\"\",\"\",'Fixed Effects'!Q138)","v":""},{"$f":"IF(D138=\"\",\"\",IF((INDEX('FE Inconsistency Results'!$H$1:$H$500,MATCH(SUBSTITUTE(D138,\"OR\",\"d\"),'FE Inconsistency Results'!$B$1:$B$500,0),1))-(INDEX('FE Inconsistency Results'!$F$1:$F$500,MATCH(SUBSTITUTE(D138,\"OR\",\"d\"),'FE Inconsistency Results'!$B$1:$B$500,0),1))>50,\"N/A\",EXP(INDEX('FE Inconsistency Results'!$G$1:$G$500,MATCH(SUBSTITUTE(D138,\"OR\",\"d\"),'FE Inconsistency Results'!$B$1:$B$500,0),1))))","v":""},null,{"$f":"IF(INDIRECT(CONCATENATE(\"'\",'Inconsistency Data'!$I$4,\"'!N138\"))=\"\",\"\",INDIRECT(CONCATENATE(\"'\",'Inconsistency Data'!$I$4,\"'!N138\")))","v":""},{"$f":"IF(INDIRECT(CONCATENATE(\"'\",'Inconsistency Data'!$I$4,\"'!O138\"))=\"\",\"\",INDIRECT(CONCATENATE(\"'\",'Inconsistency Data'!$I$4,\"'!O138\")))","v":""},{"$f":"IF(INDIRECT(CONCATENATE(\"'\",'Inconsistency Data'!$I$4,\"'!Q138\"))=\"\",\"\",INDIRECT(CONCATENATE(\"'\",'Inconsistency Data'!$I$4,\"'!Q138\")))","v":""},{"$f":"IF(D138=\"\",\"\",IF((INDEX('RE Inconsistency Results'!$H$1:$H$500,MATCH(SUBSTITUTE(D138,\"OR\",\"d\"),'RE Inconsistency Results'!$B$1:$B$500,0),1))-(INDEX('RE Inconsistency Results'!$F$1:$F$500,MATCH(SUBSTITUTE(D138,\"OR\",\"d\"),'RE Inconsistency Results'!$B$1:$B$500,0),1))>50,\"N/A\",EXP(INDEX('RE Inconsistency Results'!$G$1:$G$500,MATCH(SUBSTITUTE(D138,\"OR\",\"d\"),'RE Inconsistency Results'!$B$1:$B$500,0),1))))","v":""}]
[null,null,null,{"$f":"IF('Fixed Effects'!N139=\"\",\"\",'Fixed Effects'!N139)","v":""},{"$f":"IF('Fixed Effects'!O139=\"\",\"\",'Fixed Effects'!O139)","v":""},{"$f":"IF('Fixed Effects'!Q139=\"\",\"\",'Fixed Effects'!Q139)","v":""},{"$f":"IF(D139=\"\",\"\",IF((INDEX('FE Inconsistency Results'!$H$1:$H$500,MATCH(SUBSTITUTE(D139,\"OR\",\"d\"),'FE Inconsistency Results'!$B$1:$B$500,0),1))-(INDEX('FE Inconsistency Results'!$F$1:$F$500,MATCH(SUBSTITUTE(D139,\"OR\",\"d\"),'FE Inconsistency Results'!$B$1:$B$500,0),1))>50,\"N/A\",EXP(INDEX('FE Inconsistency Results'!$G$1:$G$500,MATCH(SUBSTITUTE(D139,\"OR\",\"d\"),'FE Inconsistency Results'!$B$1:$B$500,0),1))))","v":""},null,{"$f":"IF(INDIRECT(CONCATENATE(\"'\",'Inconsistency Data'!$I$4,\"'!N139\"))=\"\",\"\",INDIRECT(CONCATENATE(\"'\",'Inconsistency Data'!$I$4,\"'!N139\")))","v":""},{"$f":"IF(INDIRECT(CONCATENATE(\"'\",'Inconsistency Data'!$I$4,\"'!O139\"))=\"\",\"\",INDIRECT(CONCATENATE(\"'\",'Inconsistency Data'!$I$4,\"'!O139\")))","v":""},{"$f":"IF(INDIRECT(CONCATENATE(\"'\",'Inconsistency Data'!$I$4,\"'!Q139\"))=\"\",\"\",INDIRECT(CONCATENATE(\"'\",'Inconsistency Data'!$I$4,\"'!Q139\")))","v":""},{"$f":"IF(D139=\"\",\"\",IF((INDEX('RE Inconsistency Results'!$H$1:$H$500,MATCH(SUBSTITUTE(D139,\"OR\",\"d\"),'RE Inconsistency Results'!$B$1:$B$500,0),1))-(INDEX('RE Inconsistency Results'!$F$1:$F$500,MATCH(SUBSTITUTE(D139,\"OR\",\"d\"),'RE Inconsistency Results'!$B$1:$B$500,0),1))>50,\"N/A\",EXP(INDEX('RE Inconsistency Results'!$G$1:$G$500,MATCH(SUBSTITUTE(D139,\"OR\",\"d\"),'RE Inconsistency Results'!$B$1:$B$500,0),1))))","v":""}]
[null,null,null,{"$f":"IF('Fixed Effects'!N140=\"\",\"\",'Fixed Effects'!N140)","v":""},{"$f":"IF('Fixed Effects'!O140=\"\",\"\",'Fixed Effects'!O140)","v":""},{"$f":"IF('Fixed Effects'!Q140=\"\",\"\",'Fixed Effects'!Q140)","v":""},{"$f":"IF(D140=\"\",\"\",IF((INDEX('FE Inconsistency Results'!$H$1:$H$500,MATCH(SUBSTITUTE(D140,\"OR\",\"d\"),'FE Inconsistency Results'!$B$1:$B$500,0),1))-(INDEX('FE Inconsistency Results'!$F$1:$F$500,MATCH(SUBSTITUTE(D140,\"OR\",\"d\"),'FE Inconsistency Results'!$B$1:$B$500,0),1))>50,\"N/A\",EXP(INDEX('FE Inconsistency Results'!$G$1:$G$500,MATCH(SUBSTITUTE(D140,\"OR\",\"d\"),'FE Inconsistency Results'!$B$1:$B$500,0),1))))","v":""},null,{"$f":"IF(INDIRECT(CONCATENATE(\"'\",'Inconsistency Data'!$I$4,\"'!N140\"))=\"\",\"\",INDIRECT(CONCATENATE(\"'\",'Inconsistency Data'!$I$4,\"'!N140\")))","v":""},{"$f":"IF(INDIRECT(CONCATENATE(\"'\",'Inconsistency Data'!$I$4,\"'!O140\"))=\"\",\"\",INDIRECT(CONCATENATE(\"'\",'Inconsistency Data'!$I$4,\"'!O140\")))","v":""},{"$f":"IF(INDIRECT(CONCATENATE(\"'\",'Inconsistency Data'!$I$4,\"'!Q140\"))=\"\",\"\",INDIRECT(CONCATENATE(\"'\",'Inconsistency Data'!$I$4,\"'!Q140\")))","v":""},{"$f":"IF(D140=\"\",\"\",IF((INDEX('RE Inconsistency Results'!$H$1:$H$500,MATCH(SUBSTITUTE(D140,\"OR\",\"d\"),'RE Inconsistency Results'!$B$1:$B$500,0),1))-(INDEX('RE Inconsistency Results'!$F$1:$F$500,MATCH(SUBSTITUTE(D140,\"OR\",\"d\"),'RE Inconsistency Results'!$B$1:$B$500,0),1))>50,\"N/A\",EXP(INDEX('RE Inconsistency Results'!$G$1:$G$500,MATCH(SUBSTITUTE(D140,\"OR\",\"d\"),'RE Inconsistency Results'!$B$1:$B$500,0),1))))","v":""}]
[null,null,null,{"$f":"IF('Fixed Effects'!N141=\"\",\"\",'Fixed Effects'!N141)","v":""},{"$f":"IF('Fixed Effects'!O141=\"\",\"\",'Fixed Effects'!O141)","v":""},{"$f":"IF('Fixed Effects'!Q141=\"\",\"\",'Fixed Effects'!Q141)","v":""},{"$f":"IF(D141=\"\",\"\",IF((INDEX('FE Inconsistency Results'!$H$1:$H$500,MATCH(SUBSTITUTE(D141,\"OR\",\"d\"),'FE Inconsistency Results'!$B$1:$B$500,0),1))-(INDEX('FE Inconsistency Results'!$F$1:$F$500,MATCH(SUBSTITUTE(D141,\"OR\",\"d\"),'FE Inconsistency Results'!$B$1:$B$500,0),1))>50,\"N/A\",EXP(INDEX('FE Inconsistency Results'!$G$1:$G$500,MATCH(SUBSTITUTE(D141,\"OR\",\"d\"),'FE Inconsistency Results'!$B$1:$B$500,0),1))))","v":""},null,{"$f":"IF(INDIRECT(CONCATENATE(\"'\",'Inconsistency Data'!$I$4,\"'!N141\"))=\"\",\"\",INDIRECT(CONCATENATE(\"'\",'Inconsistency Data'!$I$4,\"'!N141\")))","v":""},{"$f":"IF(INDIRECT(CONCATENATE(\"'\",'Inconsistency Data'!$I$4,\"'!O141\"))=\"\",\"\",INDIRECT(CONCATENATE(\"'\",'Inconsistency Data'!$I$4,\"'!O141\")))","v":""},{"$f":"IF(INDIRECT(CONCATENATE(\"'\",'Inconsistency Data'!$I$4,\"'!Q141\"))=\"\",\"\",INDIRECT(CONCATENATE(\"'\",'Inconsistency Data'!$I$4,\"'!Q141\")))","v":""},{"$f":"IF(D141=\"\",\"\",IF((INDEX('RE Inconsistency Results'!$H$1:$H$500,MATCH(SUBSTITUTE(D141,\"OR\",\"d\"),'RE Inconsistency Results'!$B$1:$B$500,0),1))-(INDEX('RE Inconsistency Results'!$F$1:$F$500,MATCH(SUBSTITUTE(D141,\"OR\",\"d\"),'RE Inconsistency Results'!$B$1:$B$500,0),1))>50,\"N/A\",EXP(INDEX('RE Inconsistency Results'!$G$1:$G$500,MATCH(SUBSTITUTE(D141,\"OR\",\"d\"),'RE Inconsistency Results'!$B$1:$B$500,0),1))))","v":""}]
[null,null,null,{"$f":"IF('Fixed Effects'!N142=\"\",\"\",'Fixed Effects'!N142)","v":""},{"$f":"IF('Fixed Effects'!O142=\"\",\"\",'Fixed Effects'!O142)","v":""},{"$f":"IF('Fixed Effects'!Q142=\"\",\"\",'Fixed Effects'!Q142)","v":""},{"$f":"IF(D142=\"\",\"\",IF((INDEX('FE Inconsistency Results'!$H$1:$H$500,MATCH(SUBSTITUTE(D142,\"OR\",\"d\"),'FE Inconsistency Results'!$B$1:$B$500,0),1))-(INDEX('FE Inconsistency Results'!$F$1:$F$500,MATCH(SUBSTITUTE(D142,\"OR\",\"d\"),'FE Inconsistency Results'!$B$1:$B$500,0),1))>50,\"N/A\",EXP(INDEX('FE Inconsistency Results'!$G$1:$G$500,MATCH(SUBSTITUTE(D142,\"OR\",\"d\"),'FE Inconsistency Results'!$B$1:$B$500,0),1))))","v":""},null,{"$f":"IF(INDIRECT(CONCATENATE(\"'\",'Inconsistency Data'!$I$4,\"'!N142\"))=\"\",\"\",INDIRECT(CONCATENATE(\"'\",'Inconsistency Data'!$I$4,\"'!N142\")))","v":""},{"$f":"IF(INDIRECT(CONCATENATE(\"'\",'Inconsistency Data'!$I$4,\"'!O142\"))=\"\",\"\",INDIRECT(CONCATENATE(\"'\",'Inconsistency Data'!$I$4,\"'!O142\")))","v":""},{"$f":"IF(INDIRECT(CONCATENATE(\"'\",'Inconsistency Data'!$I$4,\"'!Q142\"))=\"\",\"\",INDIRECT(CONCATENATE(\"'\",'Inconsistency Data'!$I$4,\"'!Q142\")))","v":""},{"$f":"IF(D142=\"\",\"\",IF((INDEX('RE Inconsistency Results'!$H$1:$H$500,MATCH(SUBSTITUTE(D142,\"OR\",\"d\"),'RE Inconsistency Results'!$B$1:$B$500,0),1))-(INDEX('RE Inconsistency Results'!$F$1:$F$500,MATCH(SUBSTITUTE(D142,\"OR\",\"d\"),'RE Inconsistency Results'!$B$1:$B$500,0),1))>50,\"N/A\",EXP(INDEX('RE Inconsistency Results'!$G$1:$G$500,MATCH(SUBSTITUTE(D142,\"OR\",\"d\"),'RE Inconsistency Results'!$B$1:$B$500,0),1))))","v":""}]
[null,null,null,{"$f":"IF('Fixed Effects'!N143=\"\",\"\",'Fixed Effects'!N143)","v":""},{"$f":"IF('Fixed Effects'!O143=\"\",\"\",'Fixed Effects'!O143)","v":""},{"$f":"IF('Fixed Effects'!Q143=\"\",\"\",'Fixed Effects'!Q143)","v":""},{"$f":"IF(D143=\"\",\"\",IF((INDEX('FE Inconsistency Results'!$H$1:$H$500,MATCH(SUBSTITUTE(D143,\"OR\",\"d\"),'FE Inconsistency Results'!$B$1:$B$500,0),1))-(INDEX('FE Inconsistency Results'!$F$1:$F$500,MATCH(SUBSTITUTE(D143,\"OR\",\"d\"),'FE Inconsistency Results'!$B$1:$B$500,0),1))>50,\"N/A\",EXP(INDEX('FE Inconsistency Results'!$G$1:$G$500,MATCH(SUBSTITUTE(D143,\"OR\",\"d\"),'FE Inconsistency Results'!$B$1:$B$500,0),1))))","v":""},null,{"$f":"IF(INDIRECT(CONCATENATE(\"'\",'Inconsistency Data'!$I$4,\"'!N143\"))=\"\",\"\",INDIRECT(CONCATENATE(\"'\",'Inconsistency Data'!$I$4,\"'!N143\")))","v":""},{"$f":"IF(INDIRECT(CONCATENATE(\"'\",'Inconsistency Data'!$I$4,\"'!O143\"))=\"\",\"\",INDIRECT(CONCATENATE(\"'\",'Inconsistency Data'!$I$4,\"'!O143\")))","v":""},{"$f":"IF(INDIRECT(CONCATENATE(\"'\",'Inconsistency Data'!$I$4,\"'!Q143\"))=\"\",\"\",INDIRECT(CONCATENATE(\"'\",'Inconsistency Data'!$I$4,\"'!Q143\")))","v":""},{"$f":"IF(D143=\"\",\"\",IF((INDEX('RE Inconsistency Results'!$H$1:$H$500,MATCH(SUBSTITUTE(D143,\"OR\",\"d\"),'RE Inconsistency Results'!$B$1:$B$500,0),1))-(INDEX('RE Inconsistency Results'!$F$1:$F$500,MATCH(SUBSTITUTE(D143,\"OR\",\"d\"),'RE Inconsistency Results'!$B$1:$B$500,0),1))>50,\"N/A\",EXP(INDEX('RE Inconsistency Results'!$G$1:$G$500,MATCH(SUBSTITUTE(D143,\"OR\",\"d\"),'RE Inconsistency Results'!$B$1:$B$500,0),1))))","v":""}]
[null,null,null,{"$f":"IF('Fixed Effects'!N144=\"\",\"\",'Fixed Effects'!N144)","v":""},{"$f":"IF('Fixed Effects'!O144=\"\",\"\",'Fixed Effects'!O144)","v":""},{"$f":"IF('Fixed Effects'!Q144=\"\",\"\",'Fixed Effects'!Q144)","v":""},{"$f":"IF(D144=\"\",\"\",IF((INDEX('FE Inconsistency Results'!$H$1:$H$500,MATCH(SUBSTITUTE(D144,\"OR\",\"d\"),'FE Inconsistency Results'!$B$1:$B$500,0),1))-(INDEX('FE Inconsistency Results'!$F$1:$F$500,MATCH(SUBSTITUTE(D144,\"OR\",\"d\"),'FE Inconsistency Results'!$B$1:$B$500,0),1))>50,\"N/A\",EXP(INDEX('FE Inconsistency Results'!$G$1:$G$500,MATCH(SUBSTITUTE(D144,\"OR\",\"d\"),'FE Inconsistency Results'!$B$1:$B$500,0),1))))","v":""},null,{"$f":"IF(INDIRECT(CONCATENATE(\"'\",'Inconsistency Data'!$I$4,\"'!N144\"))=\"\",\"\",INDIRECT(CONCATENATE(\"'\",'Inconsistency Data'!$I$4,\"'!N144\")))","v":""},{"$f":"IF(INDIRECT(CONCATENATE(\"'\",'Inconsistency Data'!$I$4,\"'!O144\"))=\"\",\"\",INDIRECT(CONCATENATE(\"'\",'Inconsistency Data'!$I$4,\"'!O144\")))","v":""},{"$f":"IF(INDIRECT(CONCATENATE(\"'\",'Inconsistency Data'!$I$4,\"'!Q144\"))=\"\",\"\",INDIRECT(CONCATENATE(\"'\",'Inconsistency Data'!$I$4,\"'!Q144\")))","v":""},{"$f":"IF(D144=\"\",\"\",IF((INDEX('RE Inconsistency Results'!$H$1:$H$500,MATCH(SUBSTITUTE(D144,\"OR\",\"d\"),'RE Inconsistency Results'!$B$1:$B$500,0),1))-(INDEX('RE Inconsistency Results'!$F$1:$F$500,MATCH(SUBSTITUTE(D144,\"OR\",\"d\"),'RE Inconsistency Results'!$B$1:$B$500,0),1))>50,\"N/A\",EXP(INDEX('RE Inconsistency Results'!$G$1:$G$500,MATCH(SUBSTITUTE(D144,\"OR\",\"d\"),'RE Inconsistency Results'!$B$1:$B$500,0),1))))","v":""}]
[null,null,null,{"$f":"IF('Fixed Effects'!N145=\"\",\"\",'Fixed Effects'!N145)","v":""},{"$f":"IF('Fixed Effects'!O145=\"\",\"\",'Fixed Effects'!O145)","v":""},{"$f":"IF('Fixed Effects'!Q145=\"\",\"\",'Fixed Effects'!Q145)","v":""},{"$f":"IF(D145=\"\",\"\",IF((INDEX('FE Inconsistency Results'!$H$1:$H$500,MATCH(SUBSTITUTE(D145,\"OR\",\"d\"),'FE Inconsistency Results'!$B$1:$B$500,0),1))-(INDEX('FE Inconsistency Results'!$F$1:$F$500,MATCH(SUBSTITUTE(D145,\"OR\",\"d\"),'FE Inconsistency Results'!$B$1:$B$500,0),1))>50,\"N/A\",EXP(INDEX('FE Inconsistency Results'!$G$1:$G$500,MATCH(SUBSTITUTE(D145,\"OR\",\"d\"),'FE Inconsistency Results'!$B$1:$B$500,0),1))))","v":""},null,{"$f":"IF(INDIRECT(CONCATENATE(\"'\",'Inconsistency Data'!$I$4,\"'!N145\"))=\"\",\"\",INDIRECT(CONCATENATE(\"'\",'Inconsistency Data'!$I$4,\"'!N145\")))","v":""},{"$f":"IF(INDIRECT(CONCATENATE(\"'\",'Inconsistency Data'!$I$4,\"'!O145\"))=\"\",\"\",INDIRECT(CONCATENATE(\"'\",'Inconsistency Data'!$I$4,\"'!O145\")))","v":""},{"$f":"IF(INDIRECT(CONCATENATE(\"'\",'Inconsistency Data'!$I$4,\"'!Q145\"))=\"\",\"\",INDIRECT(CONCATENATE(\"'\",'Inconsistency Data'!$I$4,\"'!Q145\")))","v":""},{"$f":"IF(D145=\"\",\"\",IF((INDEX('RE Inconsistency Results'!$H$1:$H$500,MATCH(SUBSTITUTE(D145,\"OR\",\"d\"),'RE Inconsistency Results'!$B$1:$B$500,0),1))-(INDEX('RE Inconsistency Results'!$F$1:$F$500,MATCH(SUBSTITUTE(D145,\"OR\",\"d\"),'RE Inconsistency Results'!$B$1:$B$500,0),1))>50,\"N/A\",EXP(INDEX('RE Inconsistency Results'!$G$1:$G$500,MATCH(SUBSTITUTE(D145,\"OR\",\"d\"),'RE Inconsistency Results'!$B$1:$B$500,0),1))))","v":""}]
[null,null,null,{"$f":"IF('Fixed Effects'!N146=\"\",\"\",'Fixed Effects'!N146)","v":""},{"$f":"IF('Fixed Effects'!O146=\"\",\"\",'Fixed Effects'!O146)","v":""},{"$f":"IF('Fixed Effects'!Q146=\"\",\"\",'Fixed Effects'!Q146)","v":""},{"$f":"IF(D146=\"\",\"\",IF((INDEX('FE Inconsistency Results'!$H$1:$H$500,MATCH(SUBSTITUTE(D146,\"OR\",\"d\"),'FE Inconsistency Results'!$B$1:$B$500,0),1))-(INDEX('FE Inconsistency Results'!$F$1:$F$500,MATCH(SUBSTITUTE(D146,\"OR\",\"d\"),'FE Inconsistency Results'!$B$1:$B$500,0),1))>50,\"N/A\",EXP(INDEX('FE Inconsistency Results'!$G$1:$G$500,MATCH(SUBSTITUTE(D146,\"OR\",\"d\"),'FE Inconsistency Results'!$B$1:$B$500,0),1))))","v":""},null,{"$f":"IF(INDIRECT(CONCATENATE(\"'\",'Inconsistency Data'!$I$4,\"'!N146\"))=\"\",\"\",INDIRECT(CONCATENATE(\"'\",'Inconsistency Data'!$I$4,\"'!N146\")))","v":""},{"$f":"IF(INDIRECT(CONCATENATE(\"'\",'Inconsistency Data'!$I$4,\"'!O146\"))=\"\",\"\",INDIRECT(CONCATENATE(\"'\",'Inconsistency Data'!$I$4,\"'!O146\")))","v":""},{"$f":"IF(INDIRECT(CONCATENATE(\"'\",'Inconsistency Data'!$I$4,\"'!Q146\"))=\"\",\"\",INDIRECT(CONCATENATE(\"'\",'Inconsistency Data'!$I$4,\"'!Q146\")))","v":""},{"$f":"IF(D146=\"\",\"\",IF((INDEX('RE Inconsistency Results'!$H$1:$H$500,MATCH(SUBSTITUTE(D146,\"OR\",\"d\"),'RE Inconsistency Results'!$B$1:$B$500,0),1))-(INDEX('RE Inconsistency Results'!$F$1:$F$500,MATCH(SUBSTITUTE(D146,\"OR\",\"d\"),'RE Inconsistency Results'!$B$1:$B$500,0),1))>50,\"N/A\",EXP(INDEX('RE Inconsistency Results'!$G$1:$G$500,MATCH(SUBSTITUTE(D146,\"OR\",\"d\"),'RE Inconsistency Results'!$B$1:$B$500,0),1))))","v":""}]
[null,null,null,{"$f":"IF('Fixed Effects'!N147=\"\",\"\",'Fixed Effects'!N147)","v":""},{"$f":"IF('Fixed Effects'!O147=\"\",\"\",'Fixed Effects'!O147)","v":""},{"$f":"IF('Fixed Effects'!Q147=\"\",\"\",'Fixed Effects'!Q147)","v":""},{"$f":"IF(D147=\"\",\"\",IF((INDEX('FE Inconsistency Results'!$H$1:$H$500,MATCH(SUBSTITUTE(D147,\"OR\",\"d\"),'FE Inconsistency Results'!$B$1:$B$500,0),1))-(INDEX('FE Inconsistency Results'!$F$1:$F$500,MATCH(SUBSTITUTE(D147,\"OR\",\"d\"),'FE Inconsistency Results'!$B$1:$B$500,0),1))>50,\"N/A\",EXP(INDEX('FE Inconsistency Results'!$G$1:$G$500,MATCH(SUBSTITUTE(D147,\"OR\",\"d\"),'FE Inconsistency Results'!$B$1:$B$500,0),1))))","v":""},null,{"$f":"IF(INDIRECT(CONCATENATE(\"'\",'Inconsistency Data'!$I$4,\"'!N147\"))=\"\",\"\",INDIRECT(CONCATENATE(\"'\",'Inconsistency Data'!$I$4,\"'!N147\")))","v":""},{"$f":"IF(INDIRECT(CONCATENATE(\"'\",'Inconsistency Data'!$I$4,\"'!O147\"))=\"\",\"\",INDIRECT(CONCATENATE(\"'\",'Inconsistency Data'!$I$4,\"'!O147\")))","v":""},{"$f":"IF(INDIRECT(CONCATENATE(\"'\",'Inconsistency Data'!$I$4,\"'!Q147\"))=\"\",\"\",INDIRECT(CONCATENATE(\"'\",'Inconsistency Data'!$I$4,\"'!Q147\")))","v":""},{"$f":"IF(D147=\"\",\"\",IF((INDEX('RE Inconsistency Results'!$H$1:$H$500,MATCH(SUBSTITUTE(D147,\"OR\",\"d\"),'RE Inconsistency Results'!$B$1:$B$500,0),1))-(INDEX('RE Inconsistency Results'!$F$1:$F$500,MATCH(SUBSTITUTE(D147,\"OR\",\"d\"),'RE Inconsistency Results'!$B$1:$B$500,0),1))>50,\"N/A\",EXP(INDEX('RE Inconsistency Results'!$G$1:$G$500,MATCH(SUBSTITUTE(D147,\"OR\",\"d\"),'RE Inconsistency Results'!$B$1:$B$500,0),1))))","v":""}]
[null,null,null,{"$f":"IF('Fixed Effects'!N148=\"\",\"\",'Fixed Effects'!N148)","v":""},{"$f":"IF('Fixed Effects'!O148=\"\",\"\",'Fixed Effects'!O148)","v":""},{"$f":"IF('Fixed Effects'!Q148=\"\",\"\",'Fixed Effects'!Q148)","v":""},{"$f":"IF(D148=\"\",\"\",IF((INDEX('FE Inconsistency Results'!$H$1:$H$500,MATCH(SUBSTITUTE(D148,\"OR\",\"d\"),'FE Inconsistency Results'!$B$1:$B$500,0),1))-(INDEX('FE Inconsistency Results'!$F$1:$F$500,MATCH(SUBSTITUTE(D148,\"OR\",\"d\"),'FE Inconsistency Results'!$B$1:$B$500,0),1))>50,\"N/A\",EXP(INDEX('FE Inconsistency Results'!$G$1:$G$500,MATCH(SUBSTITUTE(D148,\"OR\",\"d\"),'FE Inconsistency Results'!$B$1:$B$500,0),1))))","v":""},null,{"$f":"IF(INDIRECT(CONCATENATE(\"'\",'Inconsistency Data'!$I$4,\"'!N148\"))=\"\",\"\",INDIRECT(CONCATENATE(\"'\",'Inconsistency Data'!$I$4,\"'!N148\")))","v":""},{"$f":"IF(INDIRECT(CONCATENATE(\"'\",'Inconsistency Data'!$I$4,\"'!O148\"))=\"\",\"\",INDIRECT(CONCATENATE(\"'\",'Inconsistency Data'!$I$4,\"'!O148\")))","v":""},{"$f":"IF(INDIRECT(CONCATENATE(\"'\",'Inconsistency Data'!$I$4,\"'!Q148\"))=\"\",\"\",INDIRECT(CONCATENATE(\"'\",'Inconsistency Data'!$I$4,\"'!Q148\")))","v":""},{"$f":"IF(D148=\"\",\"\",IF((INDEX('RE Inconsistency Results'!$H$1:$H$500,MATCH(SUBSTITUTE(D148,\"OR\",\"d\"),'RE Inconsistency Results'!$B$1:$B$500,0),1))-(INDEX('RE Inconsistency Results'!$F$1:$F$500,MATCH(SUBSTITUTE(D148,\"OR\",\"d\"),'RE Inconsistency Results'!$B$1:$B$500,0),1))>50,\"N/A\",EXP(INDEX('RE Inconsistency Results'!$G$1:$G$500,MATCH(SUBSTITUTE(D148,\"OR\",\"d\"),'RE Inconsistency Results'!$B$1:$B$500,0),1))))","v":""}]
[null,null,null,{"$f":"IF('Fixed Effects'!N149=\"\",\"\",'Fixed Effects'!N149)","v":""},{"$f":"IF('Fixed Effects'!O149=\"\",\"\",'Fixed Effects'!O149)","v":""},{"$f":"IF('Fixed Effects'!Q149=\"\",\"\",'Fixed Effects'!Q149)","v":""},{"$f":"IF(D149=\"\",\"\",IF((INDEX('FE Inconsistency Results'!$H$1:$H$500,MATCH(SUBSTITUTE(D149,\"OR\",\"d\"),'FE Inconsistency Results'!$B$1:$B$500,0),1))-(INDEX('FE Inconsistency Results'!$F$1:$F$500,MATCH(SUBSTITUTE(D149,\"OR\",\"d\"),'FE Inconsistency Results'!$B$1:$B$500,0),1))>50,\"N/A\",EXP(INDEX('FE Inconsistency Results'!$G$1:$G$500,MATCH(SUBSTITUTE(D149,\"OR\",\"d\"),'FE Inconsistency Results'!$B$1:$B$500,0),1))))","v":""},null,{"$f":"IF(INDIRECT(CONCATENATE(\"'\",'Inconsistency Data'!$I$4,\"'!N149\"))=\"\",\"\",INDIRECT(CONCATENATE(\"'\",'Inconsistency Data'!$I$4,\"'!N149\")))","v":""},{"$f":"IF(INDIRECT(CONCATENATE(\"'\",'Inconsistency Data'!$I$4,\"'!O149\"))=\"\",\"\",INDIRECT(CONCATENATE(\"'\",'Inconsistency Data'!$I$4,\"'!O149\")))","v":""},{"$f":"IF(INDIRECT(CONCATENATE(\"'\",'Inconsistency Data'!$I$4,\"'!Q149\"))=\"\",\"\",INDIRECT(CONCATENATE(\"'\",'Inconsistency Data'!$I$4,\"'!Q149\")))","v":""},{"$f":"IF(D149=\"\",\"\",IF((INDEX('RE Inconsistency Results'!$H$1:$H$500,MATCH(SUBSTITUTE(D149,\"OR\",\"d\"),'RE Inconsistency Results'!$B$1:$B$500,0),1))-(INDEX('RE Inconsistency Results'!$F$1:$F$500,MATCH(SUBSTITUTE(D149,\"OR\",\"d\"),'RE Inconsistency Results'!$B$1:$B$500,0),1))>50,\"N/A\",EXP(INDEX('RE Inconsistency Results'!$G$1:$G$500,MATCH(SUBSTITUTE(D149,\"OR\",\"d\"),'RE Inconsistency Results'!$B$1:$B$500,0),1))))","v":""}]
[null,null,null,{"$f":"IF('Fixed Effects'!N150=\"\",\"\",'Fixed Effects'!N150)","v":""},{"$f":"IF('Fixed Effects'!O150=\"\",\"\",'Fixed Effects'!O150)","v":""},{"$f":"IF('Fixed Effects'!Q150=\"\",\"\",'Fixed Effects'!Q150)","v":""},{"$f":"IF(D150=\"\",\"\",IF((INDEX('FE Inconsistency Results'!$H$1:$H$500,MATCH(SUBSTITUTE(D150,\"OR\",\"d\"),'FE Inconsistency Results'!$B$1:$B$500,0),1))-(INDEX('FE Inconsistency Results'!$F$1:$F$500,MATCH(SUBSTITUTE(D150,\"OR\",\"d\"),'FE Inconsistency Results'!$B$1:$B$500,0),1))>50,\"N/A\",EXP(INDEX('FE Inconsistency Results'!$G$1:$G$500,MATCH(SUBSTITUTE(D150,\"OR\",\"d\"),'FE Inconsistency Results'!$B$1:$B$500,0),1))))","v":""},null,{"$f":"IF(INDIRECT(CONCATENATE(\"'\",'Inconsistency Data'!$I$4,\"'!N150\"))=\"\",\"\",INDIRECT(CONCATENATE(\"'\",'Inconsistency Data'!$I$4,\"'!N150\")))","v":""},{"$f":"IF(INDIRECT(CONCATENATE(\"'\",'Inconsistency Data'!$I$4,\"'!O150\"))=\"\",\"\",INDIRECT(CONCATENATE(\"'\",'Inconsistency Data'!$I$4,\"'!O150\")))","v":""},{"$f":"IF(INDIRECT(CONCATENATE(\"'\",'Inconsistency Data'!$I$4,\"'!Q150\"))=\"\",\"\",INDIRECT(CONCATENATE(\"'\",'Inconsistency Data'!$I$4,\"'!Q150\")))","v":""},{"$f":"IF(D150=\"\",\"\",IF((INDEX('RE Inconsistency Results'!$H$1:$H$500,MATCH(SUBSTITUTE(D150,\"OR\",\"d\"),'RE Inconsistency Results'!$B$1:$B$500,0),1))-(INDEX('RE Inconsistency Results'!$F$1:$F$500,MATCH(SUBSTITUTE(D150,\"OR\",\"d\"),'RE Inconsistency Results'!$B$1:$B$500,0),1))>50,\"N/A\",EXP(INDEX('RE Inconsistency Results'!$G$1:$G$500,MATCH(SUBSTITUTE(D150,\"OR\",\"d\"),'RE Inconsistency Results'!$B$1:$B$500,0),1))))","v":""}]

{"sheet":"FE Results","index":10,"n_rows":155,"n_cols":10,"rows_kept":155,"cut":false,"hidden":false,"merged":[]}
["display(log)"]
["check(C:/WinBUGS data/Fixed Effect Model.txt)"]
["model is syntactically correct"]
["data(C:/WinBUGS data/Data List.txt)"]
["data loaded"]
["data(C:/WinBUGS data/Data Table.txt)"]
["data loaded"]
["compile(3)"]
["model compiled"]
["inits(1,C:/WinBUGS data/Fixed Effect Inits1.txt)"]
["chain initialized but other chain(s) contain uninitialized variables"]
["inits(2,C:/WinBUGS data/Fixed Effect Inits2.txt)"]
["chain initialized but other chain(s) contain uninitialized variables"]
["inits(3,C:/WinBUGS data/Fixed Effect Inits3.txt)"]
["model is initialized"]
["gen.inits()"]
["command #Bugs:gen.inits cannot be executed (is greyed out)"]
["update(40000)"]
["dic.set()"]
["set(rk)"]
["set(best)"]
["set(OR)"]
["set(prob)"]
["set(resdev)"]
["set(RR)"]
["set(RD)"]
["set(NNT)"]
["set(SUCRA)"]
["set(dev)"]
["set(T)"]
["update(40000)"]
["stats(*)"]
[]
["Node statistics"]
[null," node"," mean"," sd"," MC error",2.5000000000000001E-2,"median",0.97499999999999998,"start","sample"]
[null,"NNT[1,2]",21.72,15.6,5.2900000000000003E-2,13.19,20.12,39.69,40001,120000]
[null,"NNT[1,3]",24.15,9.3859999999999992,3.9539999999999999E-2,15.19,22.65,41.58,40001,120000]
[null,"NNT[1,4]",16.28,22.95,6.9190000000000002E-2,10.52,15.36,27.79,40001,120000]
[null,"NNT[1,5]",-20.14,13060,37.9,-1077,50.5,1143,40001,120000]
[null,"NNT[2,3]",60.77,34480,100.3,-1095,-53.89,1090,40001,120000]
[null,"NNT[2,4]",79.44,14410,41.9,-521.29999999999995,53.94,633.20000000000005,40001,120000]
[null,"NNT[2,5]",-25.49,280,0.84060000000000001,-73.81,-21.76,-11.72,40001,120000]
[null,"NNT[3,4]",46.91,3732,10.85,-314,42.72,423.5,40001,120000]
[null,"NNT[3,5]",-32.1,1157,3.3450000000000002,-64.63,-24.83,-14.22,40001,120000]
[null,"NNT[4,5]",-18.510000000000002,130.1,0.37690000000000001,-39.26,-16.32,-9.8170000000000002,40001,120000]
[null,"OR[1,2]",0.65659999999999996,6.9540000000000005E-2,3.8400000000000001E-4,0.53100000000000003,0.65300000000000002,0.80249999999999999,40001,120000]
[null,"OR[1,3]",0.69269999999999998,5.7090000000000002E-2,3.0580000000000001E-4,0.58720000000000006,0.69020000000000004,0.81130000000000002,40001,120000]
[null,"OR[1,4]",0.55840000000000001,7.6329999999999995E-2,3.9899999999999999E-4,0.42249999999999999,0.55330000000000001,0.72109999999999996,40001,120000]
[null,"OR[1,5]",0.97760000000000002,9.8970000000000002E-2,5.1840000000000002E-4,0.79859999999999998,0.97250000000000003,1.1859999999999999,40001,120000]
[null,"OR[2,3]",1.0660000000000001,0.14019999999999999,7.4169999999999998E-4,0.81759999999999999,1.0580000000000001,1.367,40001,120000]
[null,"OR[2,4]",0.8548,0.11459999999999999,3.8830000000000001E-4,0.65210000000000001,0.84750000000000003,1.1000000000000001,40001,120000]
[null,"OR[2,5]",1.5049999999999999,0.21940000000000001,1.1509999999999999E-3,1.1220000000000001,1.4890000000000001,1.9790000000000001,40001,120000]
[null,"OR[3,4]",0.81059999999999999,0.12330000000000001,6.1620000000000002E-4,0.59450000000000003,0.80130000000000001,1.077,40001,120000]
[null,"OR[3,5]",1.4159999999999999,0.14680000000000001,4.9870000000000003E-4,1.151,1.409,1.726,40001,120000]
[null,"OR[4,5]",1.7829999999999999,0.29849999999999999,1.482E-3,1.2689999999999999,1.7589999999999999,2.4350000000000001,40001,120000]
[null,"RD[1,2]",-4.9910000000000003E-2,1.2970000000000001E-2,6.7550000000000002E-5,-7.5829999999999995E-2,-4.9689999999999998E-2,-2.5190000000000001E-2,40001,120000]
[null,"RD[1,3]",-4.4310000000000002E-2,1.0670000000000001E-2,5.452E-5,-6.5839999999999996E-2,-4.4150000000000002E-2,-2.4049999999999998E-2,40001,120000]
[null,"RD[1,4]",-6.5210000000000004E-2,1.512E-2,7.6199999999999995E-5,-9.5049999999999996E-2,-6.5119999999999997E-2,-3.5979999999999998E-2,40001,120000]
[null,"RD[1,5]",-3.3790000000000001E-3,1.3639999999999999E-2,7.1210000000000004E-5,-2.9350000000000001E-2,-3.722E-3,2.4490000000000001E-2,40001,120000]
[null,"RD[2,3]",5.6020000000000002E-3,1.3480000000000001E-2,7.0759999999999993E-5,-2.1090000000000001E-2,5.6080000000000001E-3,3.2280000000000003E-2,40001,120000]
[null,"RD[2,4]",-1.5299999999999999E-2,1.2500000000000001E-2,4.2160000000000003E-5,-3.9919999999999997E-2,-1.525E-2,9.2840000000000006E-3,40001,120000]
[null,"RD[2,5]",4.6530000000000002E-2,1.822E-2,9.1899999999999998E-5,1.278E-2,4.582E-2,8.4250000000000005E-2,40001,120000]
[null,"RD[3,4]",-2.0910000000000002E-2,1.439E-2,7.1559999999999999E-5,-4.9299999999999997E-2,-2.0899999999999998E-2,7.4289999999999998E-3,40001,120000]
[null,"RD[3,5]",4.0930000000000001E-2,1.4E-2,5.0319999999999999E-5,1.54E-2,4.0259999999999997E-2,7.0230000000000001E-2,40001,120000]
[null,"RD[4,5]",6.1830000000000003E-2,1.9480000000000001E-2,9.3889999999999997E-5,2.5399999999999999E-2,6.1249999999999999E-2,0.1017,40001,120000]
[null,"RR[1,2]",0.69499999999999995,6.4509999999999998E-2,3.5389999999999998E-4,0.57620000000000005,0.69240000000000002,0.82840000000000003,40001,120000]
[null,"RR[1,3]",0.72889999999999999,5.2440000000000001E-2,2.7740000000000002E-4,0.63070000000000004,0.72709999999999997,0.83650000000000002,40001,120000]
[null,"RR[1,4]",0.60089999999999999,7.3469999999999994E-2,3.7940000000000001E-4,0.4677,0.59699999999999998,0.75529999999999997,40001,120000]
[null,"RR[1,5]",0.98,8.3119999999999999E-2,4.3540000000000001E-4,0.82630000000000003,0.9768,1.1519999999999999,40001,120000]
[null,"RR[2,3]",1.0580000000000001,0.1229,6.5050000000000004E-4,0.83730000000000004,1.0509999999999999,1.32,40001,120000]
[null,"RR[2,4]",0.86809999999999998,0.1043,3.5359999999999998E-4,0.68030000000000002,0.86250000000000004,1.0880000000000001,40001,120000]
[null,"RR[2,5]",1.4219999999999999,0.17849999999999999,9.3760000000000002E-4,1.105,1.411,1.8029999999999999,40001,120000]
[null,"RR[3,4]",0.82789999999999997,0.11269999999999999,5.622E-4,0.62680000000000002,0.82089999999999996,1.0669999999999999,40001,120000]
[null,"RR[3,5]",1.3480000000000001,0.1192,3.9839999999999998E-4,1.1299999999999999,1.3440000000000001,1.597,40001,120000]
[null,"RR[4,5]",1.655,0.2437,1.2030000000000001E-3,1.23,1.637,2.1819999999999999,40001,120000]
[null,"SUCRA[1]",9.776E-2,0.122,5.5480000000000004E-4,0,0,0.25,40001,120000]
[null,"SUCRA[2]",0.69189999999999996,0.1517,5.9980000000000005E-4,0.5,0.75,1,40001,120000]
[null,"SUCRA[3]",0.60160000000000002,0.14860000000000001,7.0010000000000005E-4,0.5,0.5,1,40001,120000]
[null,"SUCRA[4]",0.95550000000000002,0.114,4.0739999999999998E-4,0.5,1,1,40001,120000]
[null,"SUCRA[5]",0.1532,0.1237,5.6530000000000003E-4,0,0.25,0.25,40001,120000]
[null,"T[1]",0.1633,2.2040000000000001E-2,7.1310000000000007E-5,0.11459999999999999,0.1651,0.20150000000000001,40001,120000]
[null,"T[2]",0.1134,1.787E-2,6.2269999999999998E-5,7.6560000000000003E-2,0.114,0.1469,40001,120000]
[null,"T[3]",0.11899999999999999,1.789E-2,5.7299999999999997E-5,8.1210000000000004E-2,0.11990000000000001,0.15179999999999999,40001,120000]
[null,"T[4]",9.8089999999999997E-2,1.762E-2,6.3040000000000006E-5,6.3759999999999997E-2,9.7989999999999994E-2,0.13300000000000001,40001,120000]
[null,"T[5]",0.15989999999999999,2.4760000000000001E-2,8.8220000000000006E-5,0.10929999999999999,0.16070000000000001,0.20660000000000001,40001,120000]
[null,"best[1]",0,0,1.6670000000000001E-13,0,0,0,40001,120000]
[null,"best[2]",9.1950000000000004E-2,0.28899999999999998,9.2380000000000001E-4,0,0,1,40001,120000]
[null,"best[3]",5.5620000000000003E-2,0.22919999999999999,8.9729999999999996E-4,0,0,1,40001,120000]
[null,"best[4]",0.85240000000000005,0.35470000000000002,1.2489999999999999E-3,0,1,1,40001,120000]
[null,"best[5]",0,0,1.6670000000000001E-13,0,0,0,40001,120000]
[null,"dev[1,1]",1.6040000000000001,1.93,7.9120000000000006E-3,2.1580000000000002E-3,0.90849999999999997,6.9130000000000003,40001,120000]
[null,"dev[1,2]",1.663,1.9370000000000001,6.2709999999999997E-3,2.555E-3,0.98799999999999999,6.9880000000000004,40001,120000]
[null,"dev[2,1]",1.714,1.843,1.0189999999999999E-2,3.8089999999999999E-3,1.1259999999999999,6.6059999999999999,40001,120000]
[null,"dev[2,2]",1.371,1.742,5.3839999999999999E-3,1.6919999999999999E-3,0.71399999999999997,6.2350000000000003,40001,120000]
[null,"dev[2,3]",0.91790000000000005,1.298,3.6250000000000002E-3,9.5830000000000004E-4,0.41710000000000003,4.6440000000000001,40001,120000]
[null,"dev[3,1]",0.63129999999999997,0.90110000000000001,2.7520000000000001E-3,6.3000000000000003E-4,0.28760000000000002,3.1539999999999999,40001,120000]
[null,"dev[3,2]",0.52090000000000003,0.72660000000000002,2.134E-3,5.4770000000000003E-4,0.24249999999999999,2.5960000000000001,40001,120000]
[null,"dev[4,1]",1.1359999999999999,1.204,3.4250000000000001E-3,1.6719999999999999E-2,0.755,4.38,40001,120000]
[null,"dev[4,2]",1.663,1.5880000000000001,4.4640000000000001E-3,3.7369999999999999E-3,1.1479999999999999,5.1719999999999997,40001,120000]
[null,"dev[5,1]",0.78939999999999999,1.115,4.28E-3,7.471E-4,0.35909999999999997,3.952,40001,120000]
[null,"dev[5,2]",0.72760000000000002,1.0349999999999999,2.9380000000000001E-3,6.6790000000000003E-4,0.32900000000000001,3.6709999999999998,40001,120000]
[null,"dev[5,3]",0.98629999999999995,1.387,3.9249999999999997E-3,1.034E-3,0.4506,4.9610000000000003,40001,120000]
[null,"dev[6,1]",0.6431,0.90849999999999997,2.983E-3,6.3529999999999999E-4,0.29149999999999998,3.2189999999999999,40001,120000]
[null,"dev[6,2]",0.68620000000000003,0.97419999999999995,2.7179999999999999E-3,6.3579999999999995E-4,0.31040000000000001,3.4580000000000002,40001,120000]
[null,"dev[7,1]",0.63600000000000001,0.90200000000000002,2.5890000000000002E-3,6.2100000000000002E-4,0.28789999999999999,3.1960000000000002,40001,120000]
[null,"dev[7,2]",0.50180000000000002,0.71260000000000001,2.0939999999999999E-3,4.7540000000000001E-4,0.22700000000000001,2.5499999999999998,40001,120000]
[null,"dev[8,1]",0.58819999999999995,0.82779999999999998,2.3080000000000002E-3,5.9290000000000005E-4,0.26850000000000002,2.9319999999999999,40001,120000]
[null,"dev[8,2]",0.50180000000000002,0.70109999999999995,2.0070000000000001E-3,4.8769999999999998E-4,0.22969999999999999,2.5070000000000001,40001,120000]
[null,"dev[9,1]",0.58630000000000004,0.82420000000000004,2.2569999999999999E-3,5.6559999999999998E-4,0.26860000000000001,2.927,40001,120000]
[null,"dev[9,2]",0.48039999999999999,0.6744,1.8420000000000001E-3,4.8289999999999997E-4,0.22109999999999999,2.387,40001,120000]
[null,"dev[10,1]",0.5978,0.85429999999999995,2.5110000000000002E-3,5.9670000000000003E-4,0.2681,3.0350000000000001,40001,120000]
[null,"dev[10,2]",0.61960000000000004,0.84050000000000002,2.3730000000000001E-3,6.5379999999999995E-4,0.2969,3.0209999999999999,40001,120000]
[null,"dev[11,1]",0.74619999999999997,1.0369999999999999,3.212E-3,7.8700000000000005E-4,0.3483,3.6970000000000001,40001,120000]
[null,"dev[11,2]",0.59370000000000001,0.84450000000000003,2.513E-3,6.1189999999999997E-4,0.26829999999999998,3.004,40001,120000]
[null,"dev[12,1]",0.54339999999999999,0.75270000000000004,2.1589999999999999E-3,5.6039999999999996E-4,0.2515,2.7029999999999998,40001,120000]
[null,"dev[12,2]",0.59450000000000003,0.83379999999999999,2.3990000000000001E-3,6.2250000000000001E-4,0.27260000000000001,2.9620000000000002,40001,120000]
[null,"prob[1,1]",0,0,1.6670000000000001E-13,0,0,0,40001,120000]
[null,"prob[1,2]",0,0,1.6670000000000001E-13,0,0,0,40001,120000]
[null,"prob[1,3]",0,0,1.6670000000000001E-13,0,0,0,40001,120000]
[null,"prob[1,4]",0.3911,0.48799999999999999,2.2190000000000001E-3,0,0,1,40001,120000]
[null,"prob[1,5]",0.6089,0.48799999999999999,2.2190000000000001E-3,0,1,1,40001,120000]
[null,"prob[2,1]",9.1950000000000004E-2,0.28899999999999998,9.2380000000000001E-4,0,0,1,40001,120000]
[null,"prob[2,2]",0.58679999999999999,0.4924,2.0460000000000001E-3,0,1,1,40001,120000]
[null,"prob[2,3]",0.31830000000000003,0.46579999999999999,1.9789999999999999E-3,0,0,1,40001,120000]
[null,"prob[2,4]",2.908E-3,5.3850000000000002E-2,1.6870000000000001E-4,0,0,0,40001,120000]
[null,"prob[2,5]",2.5000000000000001E-5,5.0000000000000001E-3,1.4430000000000001E-5,0,0,0,40001,120000]
[null,"prob[3,1]",5.5620000000000003E-2,0.22919999999999999,8.9729999999999996E-4,0,0,1,40001,120000]
[null,"prob[3,2]",0.29570000000000002,0.45629999999999998,1.836E-3,0,0,1,40001,120000]
[null,"prob[3,3]",0.64829999999999999,0.47749999999999998,2.1930000000000001E-3,0,1,1,40001,120000]
[null,"prob[3,4]",4.1669999999999999E-4,2.0410000000000001E-2,6.3529999999999997E-5,0,0,0,40001,120000]
[null,"prob[3,5]",0,0,1.6670000000000001E-13,0,0,0,40001,120000]
[null,"prob[4,1]",0.85240000000000005,0.35470000000000002,1.2489999999999999E-3,0,1,1,40001,120000]
[null,"prob[4,2]",0.1174,0.32190000000000002,1.0499999999999999E-3,0,0,1,40001,120000]
[null,"prob[4,3]",2.9929999999999998E-2,0.1704,5.5429999999999998E-4,0,0,1,40001,120000]
[null,"prob[4,4]",2.5829999999999999E-4,1.6070000000000001E-2,4.8279999999999999E-5,0,0,0,40001,120000]
[null,"prob[4,5]",8.3329999999999997E-6,2.8869999999999998E-3,8.3469999999999999E-6,0,0,0,40001,120000]
[null,"prob[5,1]",0,0,1.6670000000000001E-13,0,0,0,40001,120000]
[null,"prob[5,2]",1.167E-4,1.0800000000000001E-2,3.0889999999999997E-5,0,0,0,40001,120000]
[null,"prob[5,3]",3.5000000000000001E-3,5.9060000000000001E-2,1.8789999999999999E-4,0,0,0,40001,120000]
[null,"prob[5,4]",0.60540000000000005,0.48880000000000001,2.1979999999999999E-3,0,1,1,40001,120000]
[null,"prob[5,5]",0.39100000000000001,0.48799999999999999,2.2200000000000002E-3,0,0,1,40001,120000]
[null,"resdev",22.04,5.633,1.7749999999999998E-2,12.93,21.4,34.83,40001,120000]
[null,"rk[1]",4.609,0.48799999999999999,2.2190000000000001E-3,4,5,5,40001,120000]
[null,"rk[2]",2.2320000000000002,0.60680000000000001,2.3990000000000001E-3,1,2,3,40001,120000]
[null,"rk[3]",2.5939999999999999,0.59440000000000004,2.8010000000000001E-3,1,3,3,40001,120000]
[null,"rk[4]",1.1779999999999999,0.45590000000000003,1.6299999999999999E-3,1,1,3,40001,120000]
[null,"rk[5]",4.3869999999999996,0.495,2.261E-3,4,4,5,40001,120000]
["dic.stats()"]
[]
["DIC"]
["Dbar = post.mean of -2logL; Dhat = -2LogL at post.mean of stochastic nodes"]
[null,"Dbar","Dhat","pD","DIC"]
["r",144.25899999999999,128.41200000000001,15.847,160.10599999999999]
["total",144.25899999999999,128.41200000000001,15.847,160.10599999999999]
["save(C:/WinBUGS Results/Fixed Effect Results 5 22 2014 11 52 31 AM.txt)"]

{"sheet":"RE Results (Vague Prior) ","index":11,"n_rows":155,"n_cols":10,"rows_kept":155,"cut":false,"hidden":false,"merged":[]}
["display(log)"]
["check(C:/WinBUGS data/Random Effect Model.txt)"]
["model is syntactically correct"]
["data(C:/WinBUGS data/Data List.txt)"]
["data loaded"]
["data(C:/WinBUGS data/Data Table.txt)"]
["data loaded"]
["compile(3)"]
["model compiled"]
["inits(1,C:/WinBUGS data/Random Effect Inits1.txt)"]
["this chain contains uninitialized variables"]
["inits(2,C:/WinBUGS data/Random Effect Inits2.txt)"]
["this chain contains uninitialized variables"]
["inits(3,C:/WinBUGS data/Random Effect Inits3.txt)"]
["this chain contains uninitialized variables"]
["gen.inits()"]
["initial values generated, model initialized"]
["update(40000)"]
["dic.set()"]
["set(rk)"]
["set(best)"]
["set(OR)"]
["set(prob)"]
["set(resdev)"]
["set(RR)"]
["set(RD)"]
["set(NNT)"]
["set(SUCRA)"]
["set(dev)"]
["set(T)"]
["update(40000)"]
["stats(*)"]
[]
["Node statistics"]
[null," node"," mean"," sd"," MC error",2.5000000000000001E-2,"median",0.97499999999999998,"start","sample"]
[null,"NNT[1,2]",48.84,8165,23.61,12.11,20.56,60.67,40001,120000]
[null,"NNT[1,3]",24.1,1417,4.0780000000000003,13.8,22.94,61.09,40001,120000]
[null,"NNT[1,4]",16.920000000000002,444.5,1.29,9.93,15.54,36.26,40001,120000]
[null,"NNT[1,5]",60.26,30120,43.31,-820.3,31.77,846.9,40001,120000]
[null,"NNT[2,3]",-305.3,74570,215.8,-926.7,-39.82,864.5,40001,120000]
[null,"NNT[2,4]",949.4,198200,572.70000000000005,-531.29999999999995,45.1,617.29999999999995,40001,120000]
[null,"NNT[2,5]",-33.96,1338,3.7240000000000002,-142.69999999999999,-21.31,78.22,40001,120000]
[null,"NNT[3,4]",50.91,10650,30.9,-393.9,38.64,450.3,40001,120000]
[null,"NNT[3,5]",-24.34,1458,4.2539999999999996,-136.30000000000001,-24.62,47.7,40001,120000]
[null,"NNT[4,5]",-25.48,1240,3.581,-69.739999999999995,-16.399999999999999,-7.1970000000000001,40001,120000]
[null,"OR[1,2]",0.66849999999999998,0.1013,1.1869999999999999E-3,0.4975,0.6593,0.89129999999999998,40001,120000]
[null,"OR[1,3]",0.69899999999999995,8.5540000000000005E-2,9.3579999999999998E-4,0.54869999999999997,0.69299999999999995,0.88490000000000002,40001,120000]
[null,"OR[1,4]",0.56579999999999997,0.1053,1.3760000000000001E-3,0.38800000000000001,0.55700000000000005,0.79700000000000004,40001,120000]
[null,"OR[1,5]",0.98260000000000003,0.17630000000000001,1.449E-3,0.67479999999999996,0.97050000000000003,1.365,40001,120000]
[null,"OR[2,3]",1.0669999999999999,0.1961,2.2799999999999999E-3,0.7278,1.052,1.4950000000000001,40001,120000]
[null,"OR[2,4]",0.8569,0.16669999999999999,1.7060000000000001E-3,0.57389999999999997,0.84219999999999995,1.218,40001,120000]
[null,"OR[2,5]",1.5009999999999999,0.3468,3.4420000000000002E-3,0.91759999999999997,1.47,2.254,40001,120000]
[null,"OR[3,4]",0.81740000000000002,0.16289999999999999,2.346E-3,0.5413,0.80330000000000001,1.1779999999999999,40001,120000]
[null,"OR[3,5]",1.4159999999999999,0.25,2.0760000000000002E-3,0.97509999999999997,1.3979999999999999,1.958,40001,120000]
[null,"OR[4,5]",1.7909999999999999,0.44979999999999998,5.2230000000000002E-3,1.0660000000000001,1.742,2.79,40001,120000]
[null,"RD[1,2]",-4.8090000000000001E-2,1.6879999999999999E-2,1.9489999999999999E-4,-8.0130000000000007E-2,-4.836E-2,-1.4030000000000001E-2,40001,120000]
[null,"RD[1,3]",-4.3310000000000001E-2,1.423E-2,1.4990000000000001E-4,-7.0889999999999995E-2,-4.342E-2,-1.4880000000000001E-2,40001,120000]
[null,"RD[1,4]",-6.3920000000000005E-2,1.873E-2,2.3250000000000001E-4,-9.9790000000000004E-2,-6.4229999999999995E-2,-2.647E-2,40001,120000]
[null,"RD[1,5]",-3.173E-3,2.332E-2,1.9469999999999999E-4,-4.7359999999999999E-2,-3.9569999999999996E-3,4.6359999999999998E-2,40001,120000]
[null,"RD[2,3]",4.777E-3,1.8870000000000001E-2,2.1670000000000001E-4,-3.356E-2,5.1409999999999997E-3,4.156E-2,40001,120000]
[null,"RD[2,4]",-1.583E-2,1.8030000000000001E-2,1.774E-4,-5.178E-2,-1.5810000000000001E-2,1.949E-2,40001,120000]
[null,"RD[2,5]",4.4920000000000002E-2,2.818E-2,2.6840000000000002E-4,-9.5040000000000003E-3,4.4179999999999997E-2,0.1028,40001,120000]
[null,"RD[3,4]",-2.061E-2,1.8599999999999998E-2,2.6729999999999999E-4,-5.7169999999999999E-2,-2.0670000000000001E-2,1.669E-2,40001,120000]
[null,"RD[3,5]",4.0140000000000002E-2,2.2849999999999999E-2,1.85E-4,-2.6640000000000001E-3,3.9170000000000003E-2,8.8450000000000001E-2,40001,120000]
[null,"RD[4,5]",6.0749999999999998E-2,2.845E-2,3.0299999999999999E-4,6.5859999999999998E-3,5.9990000000000002E-2,0.1191,40001,120000]
[null,"RR[1,2]",0.70509999999999995,9.2780000000000001E-2,1.09E-3,0.54279999999999995,0.69810000000000005,0.90680000000000005,40001,120000]
[null,"RR[1,3]",0.7339,7.8100000000000003E-2,8.5220000000000001E-4,0.59250000000000003,0.72970000000000002,0.90139999999999998,40001,120000]
[null,"RR[1,4]",0.60699999999999998,0.10009999999999999,1.3159999999999999E-3,0.43169999999999997,0.60040000000000004,0.82379999999999998,40001,120000]
[null,"RR[1,5]",0.98150000000000004,0.14449999999999999,1.2049999999999999E-3,0.71240000000000003,0.97509999999999997,1.2909999999999999,40001,120000]
[null,"RR[2,3]",1.0569999999999999,0.17119999999999999,1.9970000000000001E-3,0.75570000000000004,1.046,1.4279999999999999,40001,120000]
[null,"RR[2,4]",0.86909999999999998,0.14979999999999999,1.555E-3,0.60680000000000001,0.85760000000000003,1.1910000000000001,40001,120000]
[null,"RR[2,5]",1.415,0.27589999999999998,2.8019999999999998E-3,0.92789999999999995,1.3959999999999999,2.0049999999999999,40001,120000]
[null,"RR[3,4]",0.83340000000000003,0.14760000000000001,2.1389999999999998E-3,0.57540000000000002,0.82269999999999999,1.1559999999999999,40001,120000]
[null,"RR[3,5]",1.345,0.19889999999999999,1.683E-3,0.97809999999999997,1.3340000000000001,1.77,40001,120000]
[null,"RR[4,5]",1.6579999999999999,0.35820000000000002,4.2690000000000002E-3,1.0569999999999999,1.623,2.4489999999999998,40001,120000]
[null,"SUCRA[1]",0.1077,0.1288,1.3619999999999999E-3,0,0,0.25,40001,120000]
[null,"SUCRA[2]",0.68220000000000003,0.1875,1.8E-3,0.25,0.75,1,40001,120000]
[null,"SUCRA[3]",0.61560000000000004,0.17180000000000001,2.137E-3,0.5,0.5,1,40001,120000]
[null,"SUCRA[4]",0.9254,0.15409999999999999,1.634E-3,0.5,1,1,40001,120000]
[null,"SUCRA[5]",0.16919999999999999,0.1706,1.5499999999999999E-3,0,0.25,0.5,40001,120000]
[null,"T[1]",0.16250000000000001,2.2089999999999999E-2,9.4599999999999996E-5,0.1142,0.1643,0.20080000000000001,40001,120000]
[null,"T[2]",0.1144,2.0539999999999999E-2,1.4430000000000001E-4,7.4399999999999994E-2,0.1143,0.15479999999999999,40001,120000]
[null,"T[3]",0.1192,1.9990000000000001E-2,1.2779999999999999E-4,7.893E-2,0.1195,0.15759999999999999,40001,120000]
[null,"T[4]",9.8540000000000003E-2,2.0660000000000001E-2,1.9469999999999999E-4,6.0310000000000002E-2,9.7790000000000002E-2,0.1411,40001,120000]
[null,"T[5]",0.1593,3.1E-2,1.9579999999999999E-4,9.9449999999999997E-2,0.159,0.22170000000000001,40001,120000]
[null,"best[1]",5.8329999999999999E-5,7.6369999999999997E-3,2.495E-5,0,0,0,40001,120000]
[null,"best[2]",0.13320000000000001,0.33979999999999999,3.1849999999999999E-3,0,0,1,40001,120000]
[null,"best[3]",8.5430000000000006E-2,0.27950000000000003,3.088E-3,0,0,1,40001,120000]
[null,"best[4]",0.7752,0.41739999999999999,4.6189999999999998E-3,0,1,1,40001,120000]
[null,"best[5]",6.0920000000000002E-3,7.7810000000000004E-2,3.2249999999999998E-4,0,0,0,40001,120000]
[null,"dev[1,1]",1.2689999999999999,1.6890000000000001,1.2460000000000001E-2,1.3749999999999999E-3,0.62290000000000001,6.0129999999999999,40001,120000]
[null,"dev[1,2]",1.2829999999999999,1.694,1.379E-2,1.392E-3,0.6371,6.0419999999999998,40001,120000]
[null,"dev[2,1]",1.274,1.627,2.2870000000000001E-2,1.6080000000000001E-3,0.66259999999999997,5.8019999999999996,40001,120000]
[null,"dev[2,2]",1.1279999999999999,1.5529999999999999,1.43E-2,1.165E-3,0.52929999999999999,5.5270000000000001,40001,120000]
[null,"dev[2,3]",0.94199999999999995,1.331,8.4980000000000003E-3,9.5189999999999999E-4,0.4274,4.7309999999999999,40001,120000]
[null,"dev[3,1]",0.67330000000000001,0.95899999999999996,3.202E-3,6.5660000000000002E-4,0.30499999999999999,3.4079999999999999,40001,120000]
[null,"dev[3,2]",0.58699999999999997,0.83150000000000002,3.124E-3,5.8319999999999997E-4,0.26819999999999999,2.9319999999999999,40001,120000]
[null,"dev[4,1]",1.1180000000000001,1.1859999999999999,3.581E-3,1.6719999999999999E-2,0.74,4.3289999999999997,40001,120000]
[null,"dev[4,2]",1.657,1.59,4.5370000000000002E-3,3.9259999999999998E-3,1.137,5.1719999999999997,40001,120000]
[null,"dev[5,1]",0.85599999999999998,1.22,7.2379999999999996E-3,8.1360000000000004E-4,0.38819999999999999,4.3259999999999996,40001,120000]
[null,"dev[5,2]",0.83630000000000004,1.1779999999999999,6.8519999999999996E-3,7.9719999999999997E-4,0.37980000000000003,4.1900000000000004,40001,120000]
[null,"dev[5,3]",0.98550000000000004,1.3939999999999999,8.1989999999999997E-3,9.4280000000000004E-4,0.45129999999999998,4.984,40001,120000]
[null,"dev[6,1]",0.77100000000000002,1.0900000000000001,5.0759999999999998E-3,7.6460000000000005E-4,0.35,3.8879999999999999,40001,120000]
[null,"dev[6,2]",0.79200000000000004,1.1259999999999999,4.2960000000000003E-3,7.6840000000000003E-4,0.3594,4.0060000000000002,40001,120000]
[null,"dev[7,1]",0.71419999999999995,1.018,3.5360000000000001E-3,7.1670000000000002E-4,0.32600000000000001,3.59,40001,120000]
[null,"dev[7,2]",0.60750000000000004,0.88270000000000004,3.3249999999999998E-3,5.3689999999999999E-4,0.26950000000000002,3.1190000000000002,40001,120000]
[null,"dev[8,1]",0.63360000000000005,0.9022,2.918E-3,6.0519999999999997E-4,0.28639999999999999,3.1819999999999999,40001,120000]
[null,"dev[8,2]",0.56410000000000005,0.8,2.7920000000000002E-3,5.3589999999999996E-4,0.25590000000000002,2.8620000000000001,40001,120000]
[null,"dev[9,1]",0.61760000000000004,0.86819999999999997,2.6640000000000001E-3,6.0919999999999995E-4,0.2802,3.0920000000000001,40001,120000]
[null,"dev[9,2]",0.51849999999999996,0.73640000000000005,2.2420000000000001E-3,5.0849999999999995E-4,0.2356,2.6070000000000002,40001,120000]
[null,"dev[10,1]",0.60580000000000001,0.86460000000000004,2.6809999999999998E-3,5.8E-4,0.27450000000000002,3.081,40001,120000]
[null,"dev[10,2]",0.64139999999999997,0.86629999999999996,2.8340000000000001E-3,6.7480000000000003E-4,0.30649999999999999,3.1040000000000001,40001,120000]
[null,"dev[11,1]",0.78859999999999997,1.0980000000000001,4.535E-3,7.6650000000000004E-4,0.3644,3.9020000000000001,40001,120000]
[null,"dev[11,2]",0.64680000000000004,0.93259999999999998,4.1980000000000003E-3,6.6600000000000003E-4,0.28889999999999999,3.2890000000000001,40001,120000]
[null,"dev[12,1]",0.59219999999999995,0.82689999999999997,2.9629999999999999E-3,5.7819999999999996E-4,0.2737,2.9260000000000002,40001,120000]
[null,"dev[12,2]",0.63280000000000003,0.89859999999999995,2.7620000000000001E-3,6.4670000000000005E-4,0.28710000000000002,3.1869999999999998,40001,120000]
[null,"prob[1,1]",5.8329999999999999E-5,7.6369999999999997E-3,2.495E-5,0,0,0,40001,120000]
[null,"prob[1,2]",7.1670000000000002E-4,2.6759999999999999E-2,8.5879999999999998E-5,0,0,0,40001,120000]
[null,"prob[1,3]",7.6579999999999999E-3,8.7179999999999994E-2,4.0200000000000001E-4,0,0,0,40001,120000]
[null,"prob[1,4]",0.41289999999999999,0.4924,5.306E-3,0,0,1,40001,120000]
[null,"prob[1,5]",0.57869999999999999,0.49380000000000002,5.3499999999999997E-3,0,1,1,40001,120000]
[null,"prob[2,1]",0.13320000000000001,0.33979999999999999,3.1849999999999999E-3,0,0,1,40001,120000]
[null,"prob[2,2]",0.50690000000000002,0.5,6.0400000000000002E-3,0,1,1,40001,120000]
[null,"prob[2,3]",0.31969999999999998,0.46639999999999998,5.3049999999999998E-3,0,0,1,40001,120000]
[null,"prob[2,4]",3.567E-2,0.1855,1.1410000000000001E-3,0,0,1,40001,120000]
[null,"prob[2,5]",4.5170000000000002E-3,6.7049999999999998E-2,2.7310000000000002E-4,0,0,0,40001,120000]
[null,"prob[3,1]",8.5430000000000006E-2,0.27950000000000003,3.088E-3,0,0,1,40001,120000]
[null,"prob[3,2]",0.31659999999999999,0.4652,4.8300000000000001E-3,0,0,1,40001,120000]
[null,"prob[3,3]",0.57430000000000003,0.49440000000000001,6.2529999999999999E-3,0,1,1,40001,120000]
[null,"prob[3,4]",2.2259999999999999E-2,0.14749999999999999,7.3649999999999996E-4,0,0,0,40001,120000]
[null,"prob[3,5]",1.3669999999999999E-3,3.6940000000000001E-2,1.2650000000000001E-4,0,0,0,40001,120000]
[null,"prob[4,1]",0.7752,0.41739999999999999,4.6189999999999998E-3,0,1,1,40001,120000]
[null,"prob[4,2]",0.1615,0.36799999999999999,3.5000000000000001E-3,0,0,1,40001,120000]
[null,"prob[4,3]",5.4330000000000003E-2,0.22670000000000001,1.9040000000000001E-3,0,0,1,40001,120000]
[null,"prob[4,4]",7.633E-3,8.7029999999999996E-2,4.0910000000000002E-4,0,0,0,40001,120000]
[null,"prob[4,5]",1.3500000000000001E-3,3.6720000000000003E-2,1.262E-4,0,0,0,40001,120000]
[null,"prob[5,1]",6.0920000000000002E-3,7.7810000000000004E-2,3.2249999999999998E-4,0,0,0,40001,120000]
[null,"prob[5,2]",1.4290000000000001E-2,0.1187,5.4509999999999997E-4,0,0,0,40001,120000]
[null,"prob[5,3]",4.3979999999999998E-2,0.20499999999999999,1.222E-3,0,0,1,40001,120000]
[null,"prob[5,4]",0.52149999999999996,0.4995,5.3959999999999998E-3,0,1,1,40001,120000]
[null,"prob[5,5]",0.41410000000000002,0.49259999999999998,5.3429999999999997E-3,0,0,1,40001,120000]
[null,"resdev",21.73,5.8959999999999999,3.7470000000000003E-2,12.06,21.1,35.07,40001,120000]
[null,"rk[1]",4.569,0.51529999999999998,5.4469999999999996E-3,4,5,5,40001,120000]
[null,"rk[2]",2.2709999999999999,0.75009999999999999,7.1989999999999997E-3,1,2,4,40001,120000]
[null,"rk[3]",2.5379999999999998,0.68720000000000003,8.5489999999999993E-3,1,3,3,40001,120000]
[null,"rk[4]",1.298,0.61650000000000005,6.5360000000000001E-3,1,1,3,40001,120000]
[null,"rk[5]",4.3230000000000004,0.68230000000000002,6.2009999999999999E-3,3,4,5,40001,120000]
["dic.stats()"]
[]
["DIC"]
["Dbar = post.mean of -2logL; Dhat = -2LogL at post.mean of stochastic nodes"]
[null,"Dbar","Dhat","pD","DIC"]
["r",143.95099999999999,126.245,17.706,161.65700000000001]
["total",143.95099999999999,126.245,17.706,161.65700000000001]
["save(C:/WinBUGS Results/Random Effect Results 5 22 2014 11 53 32 AM.txt)"]

{"sheet":"RE Results (Informative Prior)","index":12,"n_rows":0,"n_cols":0,"rows_kept":0,"cut":false,"hidden":true,"merged":[]}

{"sheet":"FE Inconsistency Results","index":13,"n_rows":0,"n_cols":0,"rows_kept":0,"cut":false,"hidden":true,"merged":[]}

{"sheet":"RE Inconsistency Results","index":14,"n_rows":0,"n_cols":0,"rows_kept":0,"cut":false,"hidden":true,"merged":[]}

{"sheet":"WINBUGS data","index":15,"n_rows":25,"n_cols":23,"rows_kept":25,"cut":false,"hidden":false,"merged":[[9,7,9,22],[1,1,1,2]]}
[null,null,null,null,null,null,null,null,null,"Run WinBUGS"]
[null,"Legend",null,null,null,null,null,"Inits Random Effects "]
[null,"Drug","Treatment ID",null,null,null,null,"list(d=c(NA,1.5,0.5,0,1.5), sd=1, mu=c(2,2,1.5,1,1.5,1.5,2,1.5,1,1.5,0,0.5))"]
[null,{"$f":"IF('DATA Input'!E5=\"\",\"\",'DATA Input'!E5)","v":"Medical"},{"$f":"IF(B4=\"\",\"\",1)","v":1},null,null,null,null,"list(d=c(NA,1,0.5,1.5,1.5), sd=2, mu=c(1.5,0.5,0,0.5,0.5,1.5,2,2,0,0,0,0))"]
[null,{"$f":"IF('DATA Input'!G5=\"\",\"\",'DATA Input'!G5)","v":"Cardiac Resynchronisation"},{"$f":"IF(B5=\"\",\"\",C4+1)","v":2},null,null,null,null,"list(d=c(NA,1,1.5,1.5,2), sd=1.5, mu=c(0,1,1,1,0.5,1,0.5,0.5,2,1,1.5,0.5))"]
[null,{"$f":"IF('DATA Input'!I5=\"\",\"\",'DATA Input'!I5)","v":"Implantable Defibrilator"},{"$f":"IF(B6=\"\",\"\",C5+1)","v":3},null,null,null,null,"Inits Fixed Effects "]
[null,{"$f":"IF('DATA Input'!K$5=\"\",\"\",'DATA Input'!K$5)","v":"Combined Resyn and Def."},4,null,null,null,null,"list(d=c(NA,1,2,0.5,1), mu=c(0.5,0.5,1,1.5,2,1,1.5,0,1,1,1,0.5))"]
[null,{"$f":"IF('DATA Input'!M$5=\"\",\"\",'DATA Input'!M$5)","v":"Amiodarone"},5,null,null,null,null,"list(d=c(NA,0.5,1,0.5,1), mu=c(1.5,1,2,1,1.5,0,2,1,1.5,1,0.5,2))"]
[null,{"$f":"IF('DATA Input'!O$5=\"\",\"\",'DATA Input'!O$5)","v":""},"",null,null,null,null,"list(d=c(NA,2,0.5,1.5,1.5), mu=c(0.5,0,0.5,0.5,1.5,1,1.5,2,1,0.5,0,0))"]
[null,{"$f":"IF('DATA Input'!Q$5=\"\",\"\",'DATA Input'!Q$5)","v":""},"",null,null,null,null,"WinBUGs Data Table and List Statement "]
[null,{"$f":"IF('DATA Input'!S$5=\"\",\"\",'DATA Input'!S$5)","v":""},"",null,null,null,null,"list(NS=12, NT=5, NP=8)"]
[null,{"$f":"IF('DATA Input'!U$5=\"\",\"\",'DATA Input'!U$5)","v":""},"",null,null,"Study ID","Study Name","r[,1]","n[,1]","r[,2]","n[,2]","r[,3]","n[,3]","r[,4]","n[,4]","r[,5]","n[,5]","t[,1]","t[,2]","t[,3]","t[,4]","t[,5]","na[]"]
[null,{"$f":"IF('DATA Input'!W$5=\"\",\"\",'DATA Input'!W$5)","v":""},"",null,null,1,"CARE_HF-ext",154,404,101,409,"NA",1,"NA",1,"NA",1,1,2,"NA","NA","NA",2]
[null,{"$f":"IF('DATA Input'!Y$5=\"\",\"\",'DATA Input'!Y$5)","v":""},"",null,null,2,"COMPANION",77,308,131,617,105,595,"NA",1,"NA",1,1,2,4,"NA","NA",3]
[null,{"$f":"IF('DATA Input'!AA$5=\"\",\"\",'DATA Input'!AA$5)","v":""},"",null,null,3,"MIRACLE",16,225,12,228,"NA",1,"NA",1,"NA",1,1,2,"NA","NA","NA",2]
[null,{"$f":"IF('DATA Input'!AC$5=\"\",\"\",'DATA Input'!AC$5)","v":""},"",null,null,4,"MUSTIC-SR",0,29,1,29,"NA",1,"NA",1,"NA",1,1,2,"NA","NA","NA",2]
[null,{"$f":"IF('DATA Input'!AE$5=\"\",\"\",'DATA Input'!AE$5)","v":""},"",null,null,5,"SCD-HeFT",244,847,182,829,240,845,"NA",1,"NA",1,1,3,5,"NA","NA",3]
[null,{"$f":"IF('DATA Input'!AG$5=\"\",\"\",'DATA Input'!AG$5)","v":""},"",null,null,6,"MADIT-II",97,490,105,742,"NA",1,"NA",1,"NA",1,1,3,"NA","NA","NA",2]
[null,null,null,null,null,7,"DEFINITE",40,229,28,229,"NA",1,"NA",1,"NA",1,1,3,"NA","NA","NA",2]
[null,null,null,null,null,8,"CAT",17,54,13,50,"NA",1,"NA",1,"NA",1,1,3,"NA","NA","NA",2]
[null,null,null,null,null,9,"MICRACLE-ICD-I",5,182,4,187,"NA",1,"NA",1,"NA",1,3,4,"NA","NA","NA",2]
[null,null,null,null,null,10,"MICRACLE-ICD-II",2,101,2,85,"NA",1,"NA",1,"NA",1,3,4,"NA","NA","NA",2]
[null,null,null,null,null,11,"CONTAK-CD",16,245,11,245,"NA",1,"NA",1,"NA",1,3,4,"NA","NA","NA",2]
[null,null,null,null,null,12,"AMIOVIRT",6,51,7,52,"NA",1,"NA",1,"NA",1,3,5,"NA","NA","NA",2]
[null,null,null,null,null,null,null,"END"]

{"sheet":"WINBUGS Data Inconsistency","index":16,"n_rows":18,"n_cols":10,"rows_kept":18,"cut":false,"hidden":false,"merged":[[1,1,1,2],[9,7,9,22]]}
[null,null,null,null,null,null,null,null,null,"Run WinBUGS"]
[null,"Legend",null,null,null,null,null,"Inits Random Effects "]
[null,"Drug","Treatment ID",null,null,null,null,"list(mu=c(0.5,1,1.5,2,1,1.5,0,1,1,1,0.5,1.5), sd=1.5, d= structure(.Data = c(NA,1.5,2,1,1, NA,NA,1.5,0,0.5, NA,NA,NA,1.5,0, NA,NA,NA,NA,1), .Dim =c(4, 5)))"]
[null,{"$f":"IF('DATA Input'!E5=\"\",\"\",'DATA Input'!E5)","v":"Medical"},{"$f":"IF(B4=\"\",\"\",1)","v":1},null,null,null,null,"list(mu=c(1,2,1,1.5,0,2,1,1.5,1,0.5,2,1.5), sd=1, d= structure(.Data = c(NA,1,1.5,0,1.5, NA,NA,0,0,0, NA,NA,NA,1,0.5, NA,NA,NA,NA,0.5), .Dim =c(4, 5)))"]
[null,{"$f":"IF('DATA Input'!G5=\"\",\"\",'DATA Input'!G5)","v":"Cardiac Resynchronisation"},{"$f":"IF(B5=\"\",\"\",C4+1)","v":2},null,null,null,null,"list(mu=c(0,0.5,0.5,1.5,1,1.5,2,1,0.5,0,0,1.5), sd=1.5, d= structure(.Data = c(NA,0.5,1,1.5,1, NA,NA,0.5,0.5,1, NA,NA,NA,1.5,1.5, NA,NA,NA,NA,0.5), .Dim =c(4, 5)))"]
[null,{"$f":"IF('DATA Input'!I5=\"\",\"\",'DATA Input'!I5)","v":"Implantable Defibrilator"},{"$f":"IF(B6=\"\",\"\",C5+1)","v":3},null,null,null,null,"Inits Fixed Effects "]
[null,{"$f":"IF('DATA Input'!K$5=\"\",\"\",'DATA Input'!K$5)","v":"Combined Resyn and Def."},4,null,null,null,null,"list(mu=c(1.5,0.5,0,1.5,1.5,2,2,1.5,1,1.5,1.5,2), d= structure(.Data = c(NA,1.5,1,1.5,0, NA,NA,0.5,1,2, NA,NA,NA,0.5,1, NA,NA,NA,NA,0.5, NA,NA,NA,NA,NA), .Dim =c(5, 5)))"]
[null,{"$f":"IF('DATA Input'!M$5=\"\",\"\",'DATA Input'!M$5)","v":"Amiodarone"},5,null,null,null,null,"list(mu=c(1,0.5,1.5,0,1.5,1.5,0.5,0,0.5,0.5,1.5,2), d= structure(.Data = c(NA,2,0,0,0, NA,NA,0,0.5,1, NA,NA,NA,0.5,1, NA,NA,NA,NA,1.5, NA,NA,NA,NA,NA), .Dim =c(5, 5)))"]
[null,{"$f":"IF('DATA Input'!O$5=\"\",\"\",'DATA Input'!O$5)","v":""},"",null,null,null,null,"list(mu=c(1,1.5,1.5,1,0.5,0,1,1,1,0.5,1,0.5), d= structure(.Data = c(NA,0.5,2,1,1.5, NA,NA,0.5,2,0.5, NA,NA,NA,1.5,1.5, NA,NA,NA,NA,0.5, NA,NA,NA,NA,NA), .Dim =c(5, 5)))"]
[null,{"$f":"IF('DATA Input'!Q$5=\"\",\"\",'DATA Input'!Q$5)","v":""},"",null,null,null,null,"WinBUGs Data Table and List Statement "]
[null,{"$f":"IF('DATA Input'!S$5=\"\",\"\",'DATA Input'!S$5)","v":""},"",null,null,null,null,"list(NS=12, NT=5)"]
[null,{"$f":"IF('DATA Input'!U$5=\"\",\"\",'DATA Input'!U$5)","v":""},""]
[null,{"$f":"IF('DATA Input'!W$5=\"\",\"\",'DATA Input'!W$5)","v":""},""]
[null,{"$f":"IF('DATA Input'!Y$5=\"\",\"\",'DATA Input'!Y$5)","v":""},""]
[null,{"$f":"IF('DATA Input'!AA$5=\"\",\"\",'DATA Input'!AA$5)","v":""},""]
[null,{"$f":"IF('DATA Input'!AC$5=\"\",\"\",'DATA Input'!AC$5)","v":""},""]
[null,{"$f":"IF('DATA Input'!AE$5=\"\",\"\",'DATA Input'!AE$5)","v":""},""]
[null,{"$f":"IF('DATA Input'!AG$5=\"\",\"\",'DATA Input'!AG$5)","v":""},""]

{"sheet":"Informative Priors","index":17,"n_rows":21,"n_cols":22,"rows_kept":21,"cut":false,"hidden":false,"merged":[[4,4,4,7],[10,4,10,7],[16,4,16,7]]}
[]
[]
[null,null,null,null,"Source:  Turner 2012"]
[]
[null,null,null,null,"Mean"]
[null,null,null,null,"Intervention Type /Outcomes","Pharmacological vs Control/Placebo","Pharmacological vs Pharmacological","Non-Pharmacological (Any)",null,null,null,null,null,null,null,null,null,null,null,null,null,"Pharmacological vs Control/Placebo"]
[null,null,null,null,"All Cause Mortality",-4.0599999999999996,-4.2699999999999996,-3.93,null,null,null,null,null,null,null,null,null,null,null,null,null,"Pharmacological vs Pharmacological"]
[null,null,null,null,"Semi-Objective",-3.02,-3.23,-2.89,null,null,null,null," ",null,null,null,null,null,null,null,null,"Non-Pharmacological (Any)"]
[null,null,null,null,"Subjective",-2.13,-2.34,-2.0099999999999998]
[]
[null,null,null,null,"Sigma"]
[null,null,null,null,"Intervention Type /Outcomes",{"$f":"F6","v":"Pharmacological vs Control/Placebo"},{"$f":"G6","v":"Pharmacological vs Pharmacological"},{"$f":"H6","v":"Non-Pharmacological (Any)"}]
[null,null,null,null,{"$f":"E7","v":"All Cause Mortality"},1.45,1.48,1.51]
[null,null,null,null,{"$f":"E8","v":"Semi-Objective"},1.85,1.88,1.91]
[null,null,null,null,{"$f":"E9","v":"Subjective"},1.58,1.62,1.64]
[]
[null,null,null,null,"Sigma^2"]
[null,null,null,null,"Intervention Type /Outcomes",{"$f":"F12","v":"Pharmacological vs Control/Placebo"},{"$f":"G12","v":"Pharmacological vs Pharmacological"},{"$f":"H12","v":"Non-Pharmacological (Any)"}]
[null,null,null,null,{"$f":"E13","v":"All Cause Mortality"},{"$f":"F13^2","v":2.1025},2.1903999999999999,2.2801]
[null,null,null,null,{"$f":"E14","v":"Semi-Objective"},3.4225000000000003,3.5343999999999998,3.6480999999999999]
[null,null,null,null,{"$f":"E15","v":"Subjective"},2.4964000000000004,2.6244000000000005,2.6895999999999995]

{"sheet":"Data Table","index":18,"n_rows":14,"n_cols":16,"rows_kept":14,"cut":false,"hidden":false,"merged":[]}
["r[,1]","n[,1]","r[,2]","n[,2]","r[,3]","n[,3]","r[,4]","n[,4]","r[,5]","n[,5]","t[,1]","t[,2]","t[,3]","t[,4]","t[,5]","na[]"]
[154,404,101,409,"NA",1,"NA",1,"NA",1,1,2,"NA","NA","NA",2]
[77,308,131,617,105,595,"NA",1,"NA",1,1,2,4,"NA","NA",3]
[16,225,12,228,"NA",1,"NA",1,"NA",1,1,2,"NA","NA","NA",2]
[0,29,1,29,"NA",1,"NA",1,"NA",1,1,2,"NA","NA","NA",2]
[244,847,182,829,240,845,"NA",1,"NA",1,1,3,5,"NA","NA",3]
[97,490,105,742,"NA",1,"NA",1,"NA",1,1,3,"NA","NA","NA",2]
[40,229,28,229,"NA",1,"NA",1,"NA",1,1,3,"NA","NA","NA",2]
[17,54,13,50,"NA",1,"NA",1,"NA",1,1,3,"NA","NA","NA",2]
[5,182,4,187,"NA",1,"NA",1,"NA",1,3,4,"NA","NA","NA",2]
[2,101,2,85,"NA",1,"NA",1,"NA",1,3,4,"NA","NA","NA",2]
[16,245,11,245,"NA",1,"NA",1,"NA",1,3,4,"NA","NA","NA",2]
[6,51,7,52,"NA",1,"NA",1,"NA",1,3,5,"NA","NA","NA",2]
["END"]

{"sheet":"FE Script","index":19,"n_rows":46,"n_cols":1,"rows_kept":46,"cut":false,"hidden":false,"merged":[]}
["#open log file"]
["display('log')"]
["# check model"]
[{"$f":"CONCATENATE(\"check('\",SUBSTITUTE(data_directory,\"\\\",\"/\"),FEmodel_name,\".txt')\")","v":"check('C:/WinBUGS data/Fixed Effect Model.txt')"}]
["#load datalist"]
[{"$f":"CONCATENATE(\"data('\",SUBSTITUTE(data_directory,\"\\\",\"/\"),datalist_name,\".txt')\")","v":"data('C:/WinBUGS data/Data List.txt')"}]
["#load data table"]
[{"$f":"CONCATENATE(\"data('\",SUBSTITUTE(data_directory,\"\\\",\"/\"),data_name,\".txt')\")","v":"data('C:/WinBUGS data/Data Table.txt')"}]
["#compile with 3 chains"]
["compile(3)"]
["#load datalist"]
[{"$f":"CONCATENATE(\"inits(1,'\",SUBSTITUTE(data_directory,\"\\\",\"/\"),FEinits_name,\"1.txt')\")","v":"inits(1,'C:/WinBUGS data/Fixed Effect Inits1.txt')"}]
["#load datalist"]
[{"$f":"CONCATENATE(\"inits(2,'\",SUBSTITUTE(data_directory,\"\\\",\"/\"),FEinits_name,\"2.txt')\")","v":"inits(2,'C:/WinBUGS data/Fixed Effect Inits2.txt')"}]
["#load datalist"]
[{"$f":"CONCATENATE(\"inits(3,'\",SUBSTITUTE(data_directory,\"\\\",\"/\"),FEinits_name,\"3.txt')\")","v":"inits(3,'C:/WinBUGS data/Fixed Effect Inits3.txt')"}]
["#generate inits"]
["gen.inits()"]
["#run burn in"]
[{"$f":"IF(auto_run,CONCATENATE(\"update(\",burn_in,\")\"),\"\")","v":"update(40000)"}]
["#monitor "]
[{"$f":"IF(auto_run,IF(DIC,\"dic.set()\",\"\"),\"\")","v":"dic.set()"}]
[{"$f":"IF(auto_run,IF(rank,\"set(rk)\",\"\"),\"\")","v":"set(rk)"}]
[{"$f":"IF(auto_run,IF(best,\"set(best)\",\"\"),\"\")","v":"set(best)"}]
[{"$f":"IF(auto_run,IF(monitor_or,\"set(OR)\",\"\"),\"\")","v":"set(OR)"}]
[{"$f":"IF(auto_run,IF(prob,\"set(prob)\",\"\"),\"\")","v":"set(prob)"}]
[{"$f":"IF(auto_run,IF(monitor_resdev,\"set(resdev)\",\"\"),\"\")","v":"set(resdev)"}]
[{"$f":"IF(auto_run,IF(monitor_rr,\"set(RR)\",\"\"),\"\")","v":"set(RR)"}]
[{"$f":"IF(auto_run,IF(monitor_rd,\"set(RD)\",\"\"),\"\")","v":"set(RD)"}]
[{"$f":"IF(auto_run,IF(monitor_nnt,\"set(NNT)\",\"\"),\"\")","v":"set(NNT)"}]
[{"$f":"IF(auto_run,IF(monitor_SUCRA,\"set(SUCRA)\",\"\"),\"\")","v":"set(SUCRA)"}]
["set(dev)"]
["set(T)"]
["#run model"]
[{"$f":"IF(auto_run,CONCATENATE(\"update(\",model_runs,\")\"),\"\")","v":"update(40000)"}]
["# View Results"]
[{"$f":"IF(auto_run,\"stats(*)\",\"\")","v":"stats(*)"}]
[{"$f":"IF(auto_run,IF(DIC,\"dic.stats()\",\"\"),\"\")","v":"dic.stats()"}]
[{"$f":"IF(auto_run,IF(gr_or,\"gr(OR)\",\"\"),\"\")","v":""}]
[{"$f":"IF(auto_run,IF(trace_or,\"trace(OR)\",\"\"),\"\")","v":""}]
[{"$f":"IF(auto_run,IF(gr_rr,\"gr(RR)\",\"\"),\"\")","v":""}]
[{"$f":"IF(auto_run,IF(trace_rr,\"trace(RR)\",\"\"),\"\")","v":""}]
["# save results"]
[{"$f":"IF(auto_run,CONCATENATE(\"save('\",SUBSTITUTE(results_directory,\"\\\",\"/\"),FEresults_name,TEXT(date_time,\" m d yyyy h mm ss AM/PM\"),\".txt')\"),\"\")","v":"save('C:/WinBUGS Results/Fixed Effect Results 5 28 2014 10 26 50 AM.txt')"}]
[{"$f":"IF(auto_run,CONCATENATE(\"save('\",SUBSTITUTE(results_directory,\"\\\",\"/\"),FEresults_name,TEXT(date_time,\" m d yyyy h mm ss AM/PM\"),\".odc')\"),\"\")","v":"save('C:/WinBUGS Results/Fixed Effect Results 5 28 2014 10 26 50 AM.odc')"}]
[{"$f":"IF(auto_run,\"quit()\",\"\")","v":"quit()"}]

{"sheet":"RE Script","index":20,"n_rows":46,"n_cols":1,"rows_kept":46,"cut":false,"hidden":false,"merged":[]}
["#open log file"]
["display('log')"]
["# check model"]
[{"$f":"CONCATENATE(\"check('\",SUBSTITUTE(data_directory,\"\\\",\"/\"),REmodel_name,\".txt')\")","v":"check('C:/WinBUGS data/Random Effect Model.txt')"}]
["#load datalist"]
[{"$f":"CONCATENATE(\"data('\",SUBSTITUTE(data_directory,\"\\\",\"/\"),datalist_name,\".txt')\")","v":"data('C:/WinBUGS data/Data List.txt')"}]
["#load datalist"]
[{"$f":"CONCATENATE(\"data('\",SUBSTITUTE(data_directory,\"\\\",\"/\"),data_name,\".txt')\")","v":"data('C:/WinBUGS data/Data Table.txt')"}]
["#compile with 3 chains"]
["compile(3)"]
["#load datalist"]
[{"$f":"CONCATENATE(\"inits(1,'\",SUBSTITUTE(data_directory,\"\\\",\"/\"),REinits_name,\"1.txt')\")","v":"inits(1,'C:/WinBUGS data/Random Effect Inits1.txt')"}]
["#load datalist"]
[{"$f":"CONCATENATE(\"inits(2,'\",SUBSTITUTE(data_directory,\"\\\",\"/\"),REinits_name,\"2.txt')\")","v":"inits(2,'C:/WinBUGS data/Random Effect Inits2.txt')"}]
["#load datalist"]
[{"$f":"CONCATENATE(\"inits(3,'\",SUBSTITUTE(data_directory,\"\\\",\"/\"),REinits_name,\"3.txt')\")","v":"inits(3,'C:/WinBUGS data/Random Effect Inits3.txt')"}]
["#generate inits"]
["gen.inits()"]
["#run burn in"]
[{"$f":"IF(auto_run,CONCATENATE(\"update(\",burn_in,\")\"),\"\")","v":"update(40000)"}]
["#monitor "]
[{"$f":"IF(auto_run,IF(DIC,\"dic.set()\",\"\"),\"\")","v":"dic.set()"}]
[{"$f":"IF(auto_run,IF(rank,\"set(rk)\",\"\"),\"\")","v":"set(rk)"}]
[{"$f":"IF(auto_run,IF(best,\"set(best)\",\"\"),\"\")","v":"set(best)"}]
[{"$f":"IF(auto_run,IF(monitor_or,\"set(OR)\",\"\"),\"\")","v":"set(OR)"}]
[{"$f":"IF(auto_run,IF(prob,\"set(prob)\",\"\"),\"\")","v":"set(prob)"}]
[{"$f":"IF(auto_run,IF(monitor_resdev,\"set(resdev)\",\"\"),\"\")","v":"set(resdev)"}]
[{"$f":"IF(auto_run,IF(monitor_rr,\"set(RR)\",\"\"),\"\")","v":"set(RR)"}]
[{"$f":"IF(auto_run,IF(monitor_rd,\"set(RD)\",\"\"),\"\")","v":"set(RD)"}]
[{"$f":"IF(auto_run,IF(monitor_nnt,\"set(NNT)\",\"\"),\"\")","v":"set(NNT)"}]
[{"$f":"IF(auto_run,IF(monitor_SUCRA,\"set(SUCRA)\",\"\"),\"\")","v":"set(SUCRA)"}]
["set(dev)"]
["set(T)"]
["#run model"]
[{"$f":"IF(auto_run,CONCATENATE(\"update(\",model_runs,\")\"),\"\")","v":"update(40000)"}]
["# View Results"]
[{"$f":"IF(auto_run,\"stats(*)\",\"\")","v":"stats(*)"}]
[{"$f":"IF(auto_run,IF(DIC,\"dic.stats()\",\"\"),\"\")","v":"dic.stats()"}]
[{"$f":"IF(auto_run,IF(gr_or,\"gr(OR)\",\"\"),\"\")","v":""}]
[{"$f":"IF(auto_run,IF(trace_or,\"trace(OR)\",\"\"),\"\")","v":""}]
[{"$f":"IF(auto_run,IF(gr_rr,\"gr(RR)\",\"\"),\"\")","v":""}]
[{"$f":"IF(auto_run,IF(trace_rr,\"trace(RR)\",\"\"),\"\")","v":""}]
["# save results"]
[{"$f":"IF(auto_run,CONCATENATE(\"save('\",SUBSTITUTE(results_directory,\"\\\",\"/\"),REresults_name,TEXT(date_time,\" m d yyyy h mm ss AM/PM\"),\".txt')\"),\"\")","v":"save('C:/WinBUGS Results/Random Effect Results 5 28 2014 10 26 50 AM.txt')"}]
[{"$f":"IF(auto_run,CONCATENATE(\"save('\",SUBSTITUTE(results_directory,\"\\\",\"/\"),REresults_name,TEXT(date_time,\" m d yyyy h mm ss AM/PM\"),\".odc')\"),\"\")","v":"save('C:/WinBUGS Results/Random Effect Results 5 28 2014 10 26 50 AM.odc')"}]
[{"$f":"IF(auto_run,\"quit()\",\"\")","v":"quit()"}]

{"sheet":"FE Inconsistency Script ","index":21,"n_rows":33,"n_cols":1,"rows_kept":33,"cut":false,"hidden":false,"merged":[]}
["#open log file"]
["display('log')"]
["# check model"]
[{"$f":"CONCATENATE(\"check('\",SUBSTITUTE(data_directory,\"\\\",\"/\"),\"Inconsistency \",FEmodel_name,\".txt')\")","v":"check('C:/WinBUGS data/Inconsistency Fixed Effect Model.txt')"}]
["#load datalist"]
[{"$f":"CONCATENATE(\"data('\",SUBSTITUTE(data_directory,\"\\\",\"/\"),\"Inconsistency \",datalist_name,\".txt')\")","v":"data('C:/WinBUGS data/Inconsistency Data List.txt')"}]
["#load data table"]
[{"$f":"CONCATENATE(\"data('\",SUBSTITUTE(data_directory,\"\\\",\"/\"),\"Inconsistency \",data_name,\".txt')\")","v":"data('C:/WinBUGS data/Inconsistency Data Table.txt')"}]
["#compile with 3 chains"]
["compile(3)"]
["#load datalist"]
[{"$f":"CONCATENATE(\"inits(1,'\",SUBSTITUTE(data_directory,\"\\\",\"/\"),\"Inconsistency \",FEinits_name,\"1.txt')\")","v":"inits(1,'C:/WinBUGS data/Inconsistency Fixed Effect Inits1.txt')"}]
["#load datalist"]
[{"$f":"CONCATENATE(\"inits(2,'\",SUBSTITUTE(data_directory,\"\\\",\"/\"),\"Inconsistency \",FEinits_name,\"2.txt')\")","v":"inits(2,'C:/WinBUGS data/Inconsistency Fixed Effect Inits2.txt')"}]
["#load datalist"]
[{"$f":"CONCATENATE(\"inits(3,'\",SUBSTITUTE(data_directory,\"\\\",\"/\"),\"Inconsistency \",FEinits_name,\"3.txt')\")","v":"inits(3,'C:/WinBUGS data/Inconsistency Fixed Effect Inits3.txt')"}]
["#generate inits"]
["gen.inits()"]
["#run burn in"]
[{"$f":"IF(auto_run,CONCATENATE(\"update(\",burn_in,\")\"),\"\")","v":"update(40000)"}]
["#monitor "]
["set(dev)"]
["set(d)"]
["set(totresdev)"]
[{"$f":"IF(auto_run,IF(DIC,\"dic.set()\",\"\"),\"\")","v":"dic.set()"}]
["#run model"]
[{"$f":"IF(auto_run,CONCATENATE(\"update(\",model_runs,\")\"),\"\")","v":"update(40000)"}]
["# View Results"]
[{"$f":"IF(auto_run,\"stats(*)\",\"\")","v":"stats(*)"}]
["# save results"]
[{"$f":"IF(auto_run,CONCATENATE(\"save('\",SUBSTITUTE(results_directory,\"\\\",\"/\"),\"Inconsistency \",FEresults_name,TEXT(date_time,\" m d yyyy h mm ss AM/PM\"),\".txt')\"),\"\")","v":"save('C:/WinBUGS Results/Inconsistency Fixed Effect Results 5 28 2014 10 26 50 AM.txt')"}]
[{"$f":"IF(auto_run,CONCATENATE(\"save('\",SUBSTITUTE(results_directory,\"\\\",\"/\"),\"Inconsistency \",FEresults_name,TEXT(date_time,\" m d yyyy h mm ss AM/PM\"),\".odc')\"),\"\")","v":"save('C:/WinBUGS Results/Inconsistency Fixed Effect Results 5 28 2014 10 26 50 AM.odc')"}]
["quit()"]

{"sheet":"RE Inconsistency Script","index":22,"n_rows":32,"n_cols":1,"rows_kept":32,"cut":false,"hidden":false,"merged":[]}
["#open log file"]
["display('log')"]
["# check model"]
[{"$f":"CONCATENATE(\"check('\",SUBSTITUTE(data_directory,\"\\\",\"/\"),\"Inconsistency \",REmodel_name,\".txt')\")","v":"check('C:/WinBUGS data/Inconsistency Random Effect Model.txt')"}]
["#load datalist"]
[{"$f":"CONCATENATE(\"data('\",SUBSTITUTE(data_directory,\"\\\",\"/\"),\"Inconsistency \",datalist_name,\".txt')\")","v":"data('C:/WinBUGS data/Inconsistency Data List.txt')"}]
["#load datalist"]
[{"$f":"CONCATENATE(\"data('\",SUBSTITUTE(data_directory,\"\\\",\"/\"),\"Inconsistency \",data_name,\".txt')\")","v":"data('C:/WinBUGS data/Inconsistency Data Table.txt')"}]
["#compile with 3 chains"]
["compile(3)"]
["#load datalist"]
[{"$f":"CONCATENATE(\"inits(1,'\",SUBSTITUTE(data_directory,\"\\\",\"/\"),\"Inconsistency \",REinits_name,\"1.txt')\")","v":"inits(1,'C:/WinBUGS data/Inconsistency Random Effect Inits1.txt')"}]
["#load datalist"]
[{"$f":"CONCATENATE(\"inits(2,'\",SUBSTITUTE(data_directory,\"\\\",\"/\"),\"Inconsistency \",REinits_name,\"2.txt')\")","v":"inits(2,'C:/WinBUGS data/Inconsistency Random Effect Inits2.txt')"}]
["#load datalist"]
[{"$f":"CONCATENATE(\"inits(3,'\",SUBSTITUTE(data_directory,\"\\\",\"/\"),\"Inconsistency \",REinits_name,\"3.txt')\")","v":"inits(3,'C:/WinBUGS data/Inconsistency Random Effect Inits3.txt')"}]
["#generate inits"]
["gen.inits()"]
["#run burn in"]
[{"$f":"IF(auto_run,CONCATENATE(\"update(\",burn_in,\")\"),\"\")","v":"update(40000)"}]
["#monitor "]
["set(dev)"]
["set(d)"]
["set(totresdev)"]
["#run model"]
[{"$f":"IF(auto_run,CONCATENATE(\"update(\",model_runs,\")\"),\"\")","v":"update(40000)"}]
["# View Results"]
[{"$f":"IF(auto_run,\"stats(*)\",\"\")","v":"stats(*)"}]
["# save results"]
[{"$f":"IF(auto_run,CONCATENATE(\"save('\",SUBSTITUTE(results_directory,\"\\\",\"/\"),\"Inconsistency \",REresults_name,TEXT(date_time,\" m d yyyy h mm ss AM/PM\"),\".txt')\"),\"\")","v":"save('C:/WinBUGS Results/Inconsistency Random Effect Results 5 28 2014 10 26 50 AM.txt')"}]
[{"$f":"IF(auto_run,CONCATENATE(\"save('\",SUBSTITUTE(results_directory,\"\\\",\"/\"),\"Inconsistency \",REresults_name,TEXT(date_time,\" m d yyyy h mm ss AM/PM\"),\".odc')\"),\"\")","v":"save('C:/WinBUGS Results/Inconsistency Random Effect Results 5 28 2014 10 26 50 AM.odc')"}]
["quit()"]

{"sheet":"FE Model","index":23,"n_rows":86,"n_cols":8,"rows_kept":86,"cut":false,"hidden":false,"merged":[]}
["model{",null,null,"# this code for this model was adapted from WinBUGS code from the multi-parameter Evidence Synthesis Research Group at the University of Bristol:  Website: www.bris.ac.uk/cobm/research/mpes"]
[null,"for(i in 1:NS)"]
[null," { "]
[null,"     delta[i,1]<-0"]
[null,"     mu[i] ~ dnorm(0,.0001)                                                   # vague priors for baselines"]
[null,"     for (k in 1:na[i])  "]
[null,null,"{ "]
[null,null,"r[i,k] ~ dbin(p[i,k],n[i,k])                                                     # binomial likelihood"]
["            ",null,"logit(p[i,k])<-mu[i] + delta[i,k]     ",null,null,null,null,"# model"]
[null,null,"r0[i,k]<-r[i,k]+0.01*equals(r[i,k],0) -0.01*equals(r[i,k],n[i,k])"]
[null,null,"p0[i,k]<- max(p[i,k],.001)"]
[null,null,"r.hat[i,k]<- p0[i,k]*n[i,k]"]
[]
[null,null,"#Deviance calculation for binomial data"]
[null,null,"dev[i,k]<- 2*(r0[i,k]*log(r0[i,k]/r.hat[i,k]) + (n[i,k] - r0[i,k])*log((n[i,k] - r0[i,k])/(n[i,k] - r.hat[i,k])))"]
[]
[null,null,"}                                                                "]
[null,"for (k in 2:na[i]) "]
[null,null,"{"]
[null,null,"delta[i,k] <- d[t[i,k]] - d[t[i,1]]  "]
[null,null,"}"]
[]
[null,"sdev[i]<-sum(dev[i,1:na[i]])"]
[" "," }   "]
[]
[null,"resdev<-sum(sdev[])"]
[]
[null,"d[1]<-0"]
[]
[null,"for (k in 2:NT)"]
[null,"{"]
[null,null,"d[k] ~ dnorm(0,.0001) #  vague priors for basic parameters"]
[null,"}                       "]
[]
[" "]
[null,"for (i in 1:NS) # Treatment 1 baseline, based on average of NP trials including it."]
[null,"{ "]
[null,null,"mu1[i] <- mu[i] * equals(t[i,1],1) "]
[null,"}"]
[]
[null,"for (k in 1:NT)  "]
[null,"{ "]
[null,null,"logit(T[k])<- (sum(mu1[])/NP) +d[k] "]
[null,"}"]
[]
[]
[]
[null,"# ranking best and probability"]
[null,"for (k in 1:NT) "]
[null,"{ "]
[null,null,{"$f":"IF(events_bad,\"\",\"rk[k]<-NT+1-rank(d[],k)\")","v":""},null,null,"#events good"]
[null,null,{"$f":"IF(events_bad,\"rk[k]<- rank(d[],k)\",\"\")","v":"rk[k]<- rank(d[],k)"},null,null,"#events bad"]
["   ",null,"best[k]<-equals(rk[k],1)"]
[]
[null,null,"for (h in 1:NT)"]
[null,null,"{"]
[null,null,null,"prob[k,h]<-equals(rk[k],h)"]
[null,null,"}"]
[null,"}"]
[null,"for (k in 1:NT) "]
[null,"{ "]
[null,null,"for (h in 1:NT)"]
[null,null,"{"]
[null,null,null,"cumeffectiveness[k,h]<-sum(prob[k,1:h])   # The cumulative ranking probability of treatment i to be among the j best treatments."]
[null,null,"}"]
[null,"}"]
[null,"for(i in 1:NT)"]
[null,"{"]
[null,"          SUCRA[i]<-sum(cumeffectiveness[i,1:(NT-1)])/(NT-1) # The surface under the cumulative rankings for treatment i."]
[null,"}"]
[]
[null,"# pairwise ORs and RRs"]
[null,"for (c in 1:(NT-1)) "]
[null,"{  "]
[null,null,"for (k in (c+1):NT)  "]
[null,null,"{ "]
[null,null,null,"OR[c,k] <- exp(d[k] - d[c] )"]
[null,null,null,"lOR[c,k]<-d[k]-d[c]"]
[null,null,null,{"$f":"IF(events_bad,\"\",\"NNT[c,k]<-1/(T[k]-T[c])\")","v":""},null,null,"#events good"]
[null,null,null,{"$f":"IF(events_bad,\"NNT[c,k]<-1/(T[c]-T[k])\",\"\")","v":"NNT[c,k]<-1/(T[c]-T[k])"},null,null,"#events bad"]
[null,null,null,"RD[c,k]<-T[k]-T[c]"]
[null,null,null,"RR[c,k]<-T[k]/T[c]"]
[null,null,"}  "]
[null,"}"]
[]
["}","#END Program"]

{"sheet":"Fixed Effects","index":24,"n_rows":200,"n_cols":20,"rows_kept":200,"cut":false,"hidden":true,"merged":[[2,5,2,11],[2,13,2,19]]}
[{"$f":"RIGHT(CELL(\"filename\",A1),LEN(CELL(\"filename\",A1))-FIND(\"]\",CELL(\"filename\",A1)))","v":"Fixed Effects"}]
[]
[null,null,null,null,null,{"$f":"\"Fixed Effects\"","v":"Fixed Effects"},null,null,null,null,null,null,null,{"$f":"\"Fixed Effects\"","v":"Fixed Effects"}]
["Treatment Name","Treatment #","Rank",null,"Treatmen 1","Treatment 2","Treatment Comparisons","2.5% Cr.I.","Median","97.5% Cr.I.",{"$f":"$N$4 &\" (95% Cr.I.)\"","v":"O.R. (95% Cr.I.)"},{"$f":"$N$4 &\" (95% Cr.I.)\"","v":"O.R. (95% Cr.I.)"},null,{"$f":"IF(Forest=\"RR\", \"R.R\",\"O.R.\")","v":"O.R."},"Treatment Comparisons","2.5% CI","Median","97.5% CI","Treatment 1","Treatment 2"]
["Combined Resyn and Def.",4,1.1779999999999999,null,5,1,"Amiodarone versus Medical",0.79859999999999998,0.97250000000000003,1.1859999999999999,{"$f":"CONCATENATE(TEXT(I5,\"0.00\"),\" (\",TEXT(H5,\"0.00\"),\" – \",TEXT(J5,\"0.00\"),\")\")","v":"0.97 (0.80 – 1.19)"},{"$f":"CONCATENATE(TEXT(I5,\"0.00\"),\"\n(\",TEXT(H5,\"0.00\"),\" – \",TEXT(J5,\"0.00\"),\")\")","v":"0.97\n(0.80 – 1.19)"},null,"OR[1,2]","Cardiac Resynchronisation versus Medical",0.53100000000000003,0.65300000000000002,0.80249999999999999,2,1]
["Cardiac Resynchronisation",2,2.2320000000000002,null,2,3,"Cardiac Resynchronisation versus Implantable Defibrilator",0.73152889539136801,0.94517958412098291,1.2230919765166341,"0.95 (0.73 – 1.22)","0.95\n(0.73 – 1.22)",null,"OR[1,3]","Implantable Defibrilator versus Medical",0.58720000000000006,0.69020000000000004,0.81130000000000002,3,1]
["Implantable Defibrilator",3,2.5939999999999999,null,4,2,"Combined Resyn and Def. versus Cardiac Resynchronisation",0.65210000000000001,0.84750000000000003,1.1000000000000001,"0.85 (0.65 – 1.10)","0.85\n(0.65 – 1.10)",null,"OR[1,4]","Combined Resyn and Def. versus Medical",0.42249999999999999,0.55330000000000001,0.72109999999999996,4,1]
["Amiodarone",5,4.3869999999999996,null,4,3,"Combined Resyn and Def. versus Implantable Defibrilator",0.59450000000000003,0.80130000000000001,1.077,"0.80 (0.59 – 1.08)","0.80\n(0.59 – 1.08)",null,"OR[1,5]","Amiodarone versus Medical",0.79859999999999998,0.97250000000000003,1.1859999999999999,5,1]
["Medical",1,4.609,null,3,5,"Implantable Defibrilator versus Amiodarone",0.57937427578215528,0.70972320794889987,0.86880973066898348,"0.71 (0.58 – 0.87)","0.71\n(0.58 – 0.87)",null,"OR[2,3]","Implantable Defibrilator versus Cardiac Resynchronisation",0.81759999999999999,1.0580000000000001,1.367,3,2]
[null,null,null,null,3,1,"Implantable Defibrilator versus Medical",0.58720000000000006,0.69020000000000004,0.81130000000000002,"0.69 (0.59 – 0.81)","0.69\n(0.59 – 0.81)",null,"OR[2,4]","Combined Resyn and Def. versus Cardiac Resynchronisation",0.65210000000000001,0.84750000000000003,1.1000000000000001,4,2]
[null,null,null,null,2,5,"Cardiac Resynchronisation versus Amiodarone",0.50530570995452251,0.67159167226326388,0.89126559714794995,"0.67 (0.51 – 0.89)","0.67\n(0.51 – 0.89)",null,"OR[2,5]","Amiodarone versus Cardiac Resynchronisation",1.1220000000000001,1.4890000000000001,1.9790000000000001,5,2]
[null,null,null,null,2,1,"Cardiac Resynchronisation versus Medical",0.53100000000000003,0.65300000000000002,0.80249999999999999,"0.65 (0.53 – 0.80)","0.65\n(0.53 – 0.80)",null,"OR[3,4]","Combined Resyn and Def. versus Implantable Defibrilator",0.59450000000000003,0.80130000000000001,1.077,4,3]
[null,null,null,null,4,5,"Combined Resyn and Def. versus Amiodarone",0.41067761806981518,0.56850483229107451,0.78802206461780933,"0.57 (0.41 – 0.79)","0.57\n(0.41 – 0.79)",null,"OR[3,5]","Amiodarone versus Implantable Defibrilator",1.151,1.409,1.726,5,3]
[null,null,null,null,4,1,"Combined Resyn and Def. versus Medical",0.42249999999999999,0.55330000000000001,0.72109999999999996,"0.55 (0.42 – 0.72)","0.55\n(0.42 – 0.72)",null,"OR[4,5]","Amiodarone versus Combined Resyn and Def.",1.2689999999999999,1.7589999999999999,2.4350000000000001,5,4]
[null,null,null,null,null,null,null,null,null,null,{"$f":"CONCATENATE(TEXT(I15,\"0.00\"),\" (\",TEXT(H15,\"0.00\"),\" – \",TEXT(J15,\"0.00\"),\")\")","v":"0.00 (0.00 – 0.00)"},{"$f":"CONCATENATE(TEXT(I15,\"0.00\"),\"\n(\",TEXT(H15,\"0.00\"),\" – \",TEXT(J15,\"0.00\"),\")\")","v":"0.00\n(0.00 – 0.00)"}]
[null,null,null,null,null,null,null,null,null,null,"0.00 (0.00 – 0.00)","0.00\n(0.00 – 0.00)"]
[null,null,null,null,null,null,null,null,null,null,"0.00 (0.00 – 0.00)","0.00\n(0.00 – 0.00)"]
[null,null,null,null,null,null,null,null,null,null,"0.00 (0.00 – 0.00)","0.00\n(0.00 – 0.00)"]
[null,null,null,null,null,null,null,null,null,null,"0.00 (0.00 – 0.00)","0.00\n(0.00 – 0.00)"]
[null,null,null,null,null,null,null,null,null,null,"0.00 (0.00 – 0.00)","0.00\n(0.00 – 0.00)"]
[null,null,null,null,null,null,null,null,null,null,"0.00 (0.00 – 0.00)","0.00\n(0.00 – 0.00)"]
[null,null,null,null,null,null,null,null,null,null,"0.00 (0.00 – 0.00)","0.00\n(0.00 – 0.00)"]
[null,null,null,null,null,null,null,null,null,null,"0.00 (0.00 – 0.00)","0.00\n(0.00 – 0.00)"]
[null,null,null,null,null,null,null,null,null,null,"0.00 (0.00 – 0.00)","0.00\n(0.00 – 0.00)"]
[null,null,null,null,null,null,null,null,null,null,"0.00 (0.00 – 0.00)","0.00\n(0.00 – 0.00)"]
[null,null,null,null,null,null,null,null,null,null,"0.00 (0.00 – 0.00)","0.00\n(0.00 – 0.00)"]
[null,null,null,null,null,null,null,null,null,null,"0.00 (0.00 – 0.00)","0.00\n(0.00 – 0.00)"]
[null,null,null,null,null,null,null,null,null,null,"0.00 (0.00 – 0.00)","0.00\n(0.00 – 0.00)"]
[null,null,null,null,null,null,null,null,null,null,"0.00 (0.00 – 0.00)","0.00\n(0.00 – 0.00)"]
[null,null,null,null,null,null,null,null,null,null,"0.00 (0.00 – 0.00)","0.00\n(0.00 – 0.00)"]
[null,null,null,null,null,null,null,null,null,null,"0.00 (0.00 – 0.00)","0.00\n(0.00 – 0.00)"]
[null,null,null,null,null,null,null,null,null,null,"0.00 (0.00 – 0.00)","0.00\n(0.00 – 0.00)"]
[null,null,null,null,null,null,null,null,null,null,"0.00 (0.00 – 0.00)","0.00\n(0.00 – 0.00)"]
[null,null,null,null,null,null,null,null,null,null,"0.00 (0.00 – 0.00)","0.00\n(0.00 – 0.00)"]
[null,null,null,null,null,null,null,null,null,null,"0.00 (0.00 – 0.00)","0.00\n(0.00 – 0.00)"]
[null,null,null,null,null,null,null,null,null,null,"0.00 (0.00 – 0.00)","0.00\n(0.00 – 0.00)"]
[null,null,null,null,null,null,null,null,null,null,"0.00 (0.00 – 0.00)","0.00\n(0.00 – 0.00)"]
[null,null,null,null,null,null,null,null,null,null,"0.00 (0.00 – 0.00)","0.00\n(0.00 – 0.00)"]
[null,null,null,null,null,null,null,null,null,null,"0.00 (0.00 – 0.00)","0.00\n(0.00 – 0.00)"]
[null,null,null,null,null,null,null,null,null,null,"0.00 (0.00 – 0.00)","0.00\n(0.00 – 0.00)"]
[null,null,null,null,null,null,null,null,null,null,"0.00 (0.00 – 0.00)","0.00\n(0.00 – 0.00)"]
[null,null,null,null,null,null,null,null,null,null,"0.00 (0.00 – 0.00)","0.00\n(0.00 – 0.00)"]
[null,null,null,null,null,null,null,null,null,null,"0.00 (0.00 – 0.00)","0.00\n(0.00 – 0.00)"]
[null,null,null,null,null,null,null,null,null,null,"0.00 (0.00 – 0.00)","0.00\n(0.00 – 0.00)"]
[null,null,null,null,null,null,null,null,null,null,"0.00 (0.00 – 0.00)","0.00\n(0.00 – 0.00)"]
[null,null,null,null,null,null,null,null,null,null,"0.00 (0.00 – 0.00)","0.00\n(0.00 – 0.00)"]
[null,null,null,null,null,null,null,null,null,null,"0.00 (0.00 – 0.00)","0.00\n(0.00 – 0.00)"]
[null,null,null,null,null,null,null,null,null,null,"0.00 (0.00 – 0.00)","0.00\n(0.00 – 0.00)"]
[null,null,null,null,null,null,null,null,null,null,"0.00 (0.00 – 0.00)","0.00\n(0.00 – 0.00)"]
[null,null,null,null,null,null,null,null,null,null,"0.00 (0.00 – 0.00)","0.00\n(0.00 – 0.00)"]
[null,null,null,null,null,null,null,null,null,null,"0.00 (0.00 – 0.00)","0.00\n(0.00 – 0.00)"]
[null,null,null,null,null,null,null,null,null,null,"0.00 (0.00 – 0.00)","0.00\n(0.00 – 0.00)"]
[null,null,null,null,null,null,null,null,null,null,"0.00 (0.00 – 0.00)","0.00\n(0.00 – 0.00)"]
[null,null,null,null,null,null,null,null,null,null,"0.00 (0.00 – 0.00)","0.00\n(0.00 – 0.00)"]
[null,null,null,null,null,null,null,null,null,null,"0.00 (0.00 – 0.00)","0.00\n(0.00 – 0.00)"]
[null,null,null,null,null,null,null,null,null,null,"0.00 (0.00 – 0.00)","0.00\n(0.00 – 0.00)"]
[null,null,null,null,null,null,null,null,null,null,"0.00 (0.00 – 0.00)","0.00\n(0.00 – 0.00)"]
[null,null,null,null,null,null,null,null,null,null,"0.00 (0.00 – 0.00)","0.00\n(0.00 – 0.00)"]
[null,null,null,null,null,null,null,null,null,null,"0.00 (0.00 – 0.00)","0.00\n(0.00 – 0.00)"]
[null,null,null,null,null,null,null,null,null,null,"0.00 (0.00 – 0.00)","0.00\n(0.00 – 0.00)"]
[null,null,null,null,null,null,null,null,null,null,"0.00 (0.00 – 0.00)","0.00\n(0.00 – 0.00)"]
[null,null,null,null,null,null,null,null,null,null,"0.00 (0.00 – 0.00)","0.00\n(0.00 – 0.00)"]
[null,null,null,null,null,null,null,null,null,null,"0.00 (0.00 – 0.00)","0.00\n(0.00 – 0.00)"]
[null,null,null,null,null,null,null,null,null,null,"0.00 (0.00 – 0.00)","0.00\n(0.00 – 0.00)"]
[null,null,null,null,null,null,null,null,null,null,"0.00 (0.00 – 0.00)","0.00\n(0.00 – 0.00)"]
[null,null,null,null,null,null,null,null,null,null,"0.00 (0.00 – 0.00)","0.00\n(0.00 – 0.00)"]
[null,null,null,null,null,null,null,null,null,null,"0.00 (0.00 – 0.00)","0.00\n(0.00 – 0.00)"]
[null,null,null,null,null,null,null,null,null,null,"0.00 (0.00 – 0.00)","0.00\n(0.00 – 0.00)"]
[null,null,null,null,null,null,null,null,null,null,{"$f":"CONCATENATE(TEXT(I69,\"0.00\"),\" (\",TEXT(H69,\"0.00\"),\" – \",TEXT(J69,\"0.00\"),\")\")","v":"0.00 (0.00 – 0.00)"},"0.00\n(0.00 – 0.00)"]
[null,null,null,null,null,null,null,null,null,null,"0.00 (0.00 – 0.00)",{"$f":"CONCATENATE(TEXT(I70,\"0.00\"),\"\n(\",TEXT(H70,\"0.00\"),\" – \",TEXT(J70,\"0.00\"),\")\")","v":"0.00\n(0.00 – 0.00)"}]
[null,null,null,null,null,null,null,null,null,null,"0.00 (0.00 – 0.00)","0.00\n(0.00 – 0.00)"]
[null,null,null,null,null,null,null,null,null,null,"0.00 (0.00 – 0.00)","0.00\n(0.00 – 0.00)"]
[null,null,null,null,null,null,null,null,null,null,"0.00 (0.00 – 0.00)","0.00\n(0.00 – 0.00)"]
[null,null,null,null,null,null,null,null,null,null,"0.00 (0.00 – 0.00)","0.00\n(0.00 – 0.00)"]
[null,null,null,null,null,null,null,null,null,null,"0.00 (0.00 – 0.00)","0.00\n(0.00 – 0.00)"]
[null,null,null,null,null,null,null,null,null,null,"0.00 (0.00 – 0.00)","0.00\n(0.00 – 0.00)"]
[null,null,null,null,null,null,null,null,null,null,"0.00 (0.00 – 0.00)","0.00\n(0.00 – 0.00)"]
[null,null,null,null,null,null,null,null,null,null,"0.00 (0.00 – 0.00)","0.00\n(0.00 – 0.00)"]
[null,null,null,null,null,null,null,null,null,null,"0.00 (0.00 – 0.00)","0.00\n(0.00 – 0.00)"]
[null,null,null,null,null,null,null,null,null,null,"0.00 (0.00 – 0.00)","0.00\n(0.00 – 0.00)"]
[null,null,null,null,null,null,null,null,null,null,"0.00 (0.00 – 0.00)","0.00\n(0.00 – 0.00)"]
[null,null,null,null,null,null,null,null,null,null,"0.00 (0.00 – 0.00)","0.00\n(0.00 – 0.00)"]
[null,null,null,null,null,null,null,null,null,null,"0.00 (0.00 – 0.00)","0.00\n(0.00 – 0.00)"]
[null,null,null,null,null,null,null,null,null,null,"0.00 (0.00 – 0.00)","0.00\n(0.00 – 0.00)"]
[null,null,null,null,null,null,null,null,null,null,"0.00 (0.00 – 0.00)","0.00\n(0.00 – 0.00)"]
[null,null,null,null,null,null,null,null,null,null,"0.00 (0.00 – 0.00)","0.00\n(0.00 – 0.00)"]
[null,null,null,null,null,null,null,null,null,null,"0.00 (0.00 – 0.00)","0.00\n(0.00 – 0.00)"]
[null,null,null,null,null,null,null,null,null,null,"0.00 (0.00 – 0.00)","0.00\n(0.00 – 0.00)"]
[null,null,null,null,null,null,null,null,null,null,"0.00 (0.00 – 0.00)","0.00\n(0.00 – 0.00)"]
[null,null,null,null,null,null,null,null,null,null,"0.00 (0.00 – 0.00)","0.00\n(0.00 – 0.00)"]
[null,null,null,null,null,null,null,null,null,null,"0.00 (0.00 – 0.00)","0.00\n(0.00 – 0.00)"]
[null,null,null,null,null,null,null,null,null,null,"0.00 (0.00 – 0.00)","0.00\n(0.00 – 0.00)"]
[null,null,null,null,null,null,null,null,null,null,"0.00 (0.00 – 0.00)","0.00\n(0.00 – 0.00)"]
[null,null,null,null,null,null,null,null,null,null,"0.00 (0.00 – 0.00)","0.00\n(0.00 – 0.00)"]
[null,null,null,null,null,null,null,null,null,null,"0.00 (0.00 – 0.00)","0.00\n(0.00 – 0.00)"]
[null,null,null,null,null,null,null,null,null,null,"0.00 (0.00 – 0.00)","0.00\n(0.00 – 0.00)"]
[null,null,null,null,null,null,null,null,null,null,"0.00 (0.00 – 0.00)","0.00\n(0.00 – 0.00)"]
[null,null,null,null,null,null,null,null,null,null,"0.00 (0.00 – 0.00)","0.00\n(0.00 – 0.00)"]
[null,null,null,null,null,null,null,null,null,null,"0.00 (0.00 – 0.00)","0.00\n(0.00 – 0.00)"]
[null,null,null,null,null,null,null,null,null,null,"0.00 (0.00 – 0.00)","0.00\n(0.00 – 0.00)"]
[null,null,null,null,null,null,null,null,null,null,"0.00 (0.00 – 0.00)","0.00\n(0.00 – 0.00)"]
[null,null,null,null,null,null,null,null,null,null,"0.00 (0.00 – 0.00)","0.00\n(0.00 – 0.00)"]
[null,null,null,null,null,null,null,null,null,null,"0.00 (0.00 – 0.00)","0.00\n(0.00 – 0.00)"]
[null,null,null,null,null,null,null,null,null,null,"0.00 (0.00 – 0.00)","0.00\n(0.00 – 0.00)"]
[null,null,null,null,null,null,null,null,null,null,"0.00 (0.00 – 0.00)","0.00\n(0.00 – 0.00)"]
[null,null,null,null,null,null,null,null,null,null,"0.00 (0.00 – 0.00)","0.00\n(0.00 – 0.00)"]
[null,null,null,null,null,null,null,null,null,null,"0.00 (0.00 – 0.00)","0.00\n(0.00 – 0.00)"]
[null,null,null,null,null,null,null,null,null,null,"0.00 (0.00 – 0.00)","0.00\n(0.00 – 0.00)"]
[null,null,null,null,null,null,null,null,null,null,"0.00 (0.00 – 0.00)","0.00\n(0.00 – 0.00)"]
[null,null,null,null,null,null,null,null,null,null,"0.00 (0.00 – 0.00)","0.00\n(0.00 – 0.00)"]
[null,null,null,null,null,null,null,null,null,null,"0.00 (0.00 – 0.00)","0.00\n(0.00 – 0.00)"]
[null,null,null,null,null,null,null,null,null,null,"0.00 (0.00 – 0.00)","0.00\n(0.00 – 0.00)"]
[null,null,null,null,null,null,null,null,null,null,"0.00 (0.00 – 0.00)","0.00\n(0.00 – 0.00)"]
[null,null,null,null,null,null,null,null,null,null,"0.00 (0.00 – 0.00)","0.00\n(0.00 – 0.00)"]
[null,null,null,null,null,null,null,null,null,null,"0.00 (0.00 – 0.00)","0.00\n(0.00 – 0.00)"]
[null,null,null,null,null,null,null,null,null,null,"0.00 (0.00 – 0.00)","0.00\n(0.00 – 0.00)"]
[null,null,null,null,null,null,null,null,null,null,"0.00 (0.00 – 0.00)","0.00\n(0.00 – 0.00)"]
[null,null,null,null,null,null,null,null,null,null,"0.00 (0.00 – 0.00)","0.00\n(0.00 – 0.00)"]
[null,null,null,null,null,null,null,null,null,null,"0.00 (0.00 – 0.00)","0.00\n(0.00 – 0.00)"]
[null,null,null,null,null,null,null,null,null,null,"0.00 (0.00 – 0.00)","0.00\n(0.00 – 0.00)"]
[null,null,null,null,null,null,null,null,null,null,"0.00 (0.00 – 0.00)","0.00\n(0.00 – 0.00)"]
[null,null,null,null,null,null,null,null,null,null,"0.00 (0.00 – 0.00)","0.00\n(0.00 – 0.00)"]
[null,null,null,null,null,null,null,null,null,null,"0.00 (0.00 – 0.00)","0.00\n(0.00 – 0.00)"]
[null,null,null,null,null,null,null,null,null,null,"0.00 (0.00 – 0.00)","0.00\n(0.00 – 0.00)"]
[null,null,null,null,null,null,null,null,null,null,"0.00 (0.00 – 0.00)","0.00\n(0.00 – 0.00)"]
[null,null,null,null,null,null,null,null,null,null,"0.00 (0.00 – 0.00)","0.00\n(0.00 – 0.00)"]
[null,null,null,null,null,null,null,null,null,null,"0.00 (0.00 – 0.00)","0.00\n(0.00 – 0.00)"]
[null,null,null,null,null,null,null,null,null,null,"0.00 (0.00 – 0.00)","0.00\n(0.00 – 0.00)"]
[null,null,null,null,null,null,null,null,null,null,"0.00 (0.00 – 0.00)","0.00\n(0.00 – 0.00)"]
[null,null,null,null,null,null,null,null,null,null,"0.00 (0.00 – 0.00)","0.00\n(0.00 – 0.00)"]
[null,null,null,null,null,null,null,null,null,null,"0.00 (0.00 – 0.00)","0.00\n(0.00 – 0.00)"]
[null,null,null,null,null,null,null,null,null,null,"0.00 (0.00 – 0.00)","0.00\n(0.00 – 0.00)"]
[null,null,null,null,null,null,null,null,null,null,{"$f":"CONCATENATE(TEXT(I133,\"0.00\"),\" (\",TEXT(H133,\"0.00\"),\" – \",TEXT(J133,\"0.00\"),\")\")","v":"0.00 (0.00 – 0.00)"},"0.00\n(0.00 – 0.00)"]
[null,null,null,null,null,null,null,null,null,null,"0.00 (0.00 – 0.00)",{"$f":"CONCATENATE(TEXT(I134,\"0.00\"),\"\n(\",TEXT(H134,\"0.00\"),\" – \",TEXT(J134,\"0.00\"),\")\")","v":"0.00\n(0.00 – 0.00)"}]
[null,null,null,null,null,null,null,null,null,null,"0.00 (0.00 – 0.00)","0.00\n(0.00 – 0.00)"]
[null,null,null,null,null,null,null,null,null,null,"0.00 (0.00 – 0.00)","0.00\n(0.00 – 0.00)"]
[null,null,null,null,null,null,null,null,null,null,"0.00 (0.00 – 0.00)","0.00\n(0.00 – 0.00)"]
[null,null,null,null,null,null,null,null,null,null,"0.00 (0.00 – 0.00)","0.00\n(0.00 – 0.00)"]
[null,null,null,null,null,null,null,null,null,null,"0.00 (0.00 – 0.00)","0.00\n(0.00 – 0.00)"]
[null,null,null,null,null,null,null,null,null,null,"0.00 (0.00 – 0.00)","0.00\n(0.00 – 0.00)"]
[null,null,null,null,null,null,null,null,null,null,"0.00 (0.00 – 0.00)","0.00\n(0.00 – 0.00)"]
[null,null,null,null,null,null,null,null,null,null,"0.00 (0.00 – 0.00)","0.00\n(0.00 – 0.00)"]
[null,null,null,null,null,null,null,null,null,null,"0.00 (0.00 – 0.00)","0.00\n(0.00 – 0.00)"]
[null,null,null,null,null,null,null,null,null,null,"0.00 (0.00 – 0.00)","0.00\n(0.00 – 0.00)"]
[null,null,null,null,null,null,null,null,null,null,"0.00 (0.00 – 0.00)","0.00\n(0.00 – 0.00)"]
[null,null,null,null,null,null,null,null,null,null,"0.00 (0.00 – 0.00)","0.00\n(0.00 – 0.00)"]
[null,null,null,null,null,null,null,null,null,null,"0.00 (0.00 – 0.00)","0.00\n(0.00 – 0.00)"]
[null,null,null,null,null,null,null,null,null,null,"0.00 (0.00 – 0.00)","0.00\n(0.00 – 0.00)"]
[null,null,null,null,null,null,null,null,null,null,"0.00 (0.00 – 0.00)","0.00\n(0.00 – 0.00)"]
[null,null,null,null,null,null,null,null,null,null,"0.00 (0.00 – 0.00)","0.00\n(0.00 – 0.00)"]
[null,null,null,null,null,null,null,null,null,null,"0.00 (0.00 – 0.00)","0.00\n(0.00 – 0.00)"]
[null,null,null,null,null,null,null,null,null,null,"0.00 (0.00 – 0.00)","0.00\n(0.00 – 0.00)"]
[null,null,null,null,null,null,null,null,null,null,"0.00 (0.00 – 0.00)","0.00\n(0.00 – 0.00)"]
[null,null,null,null,null,null,null,null,null,null,"0.00 (0.00 – 0.00)","0.00\n(0.00 – 0.00)"]
[null,null,null,null,null,null,null,null,null,null,"0.00 (0.00 – 0.00)","0.00\n(0.00 – 0.00)"]
[null,null,null,null,null,null,null,null,null,null,"0.00 (0.00 – 0.00)","0.00\n(0.00 – 0.00)"]
[null,null,null,null,null,null,null,null,null,null,"0.00 (0.00 – 0.00)","0.00\n(0.00 – 0.00)"]
[null,null,null,null,null,null,null,null,null,null,"0.00 (0.00 – 0.00)","0.00\n(0.00 – 0.00)"]
[null,null,null,null,null,null,null,null,null,null,"0.00 (0.00 – 0.00)","0.00\n(0.00 – 0.00)"]
[null,null,null,null,null,null,null,null,null,null,"0.00 (0.00 – 0.00)","0.00\n(0.00 – 0.00)"]
[null,null,null,null,null,null,null,null,null,null,"0.00 (0.00 – 0.00)","0.00\n(0.00 – 0.00)"]
[null,null,null,null,null,null,null,null,null,null,"0.00 (0.00 – 0.00)","0.00\n(0.00 – 0.00)"]
[null,null,null,null,null,null,null,null,null,null,"0.00 (0.00 – 0.00)","0.00\n(0.00 – 0.00)"]
[null,null,null,null,null,null,null,null,null,null,"0.00 (0.00 – 0.00)","0.00\n(0.00 – 0.00)"]
[null,null,null,null,null,null,null,null,null,null,"0.00 (0.00 – 0.00)","0.00\n(0.00 – 0.00)"]
[null,null,null,null,null,null,null,null,null,null,"0.00 (0.00 – 0.00)","0.00\n(0.00 – 0.00)"]
[null,null,null,null,null,null,null,null,null,null,"0.00 (0.00 – 0.00)","0.00\n(0.00 – 0.00)"]
[null,null,null,null,null,null,null,null,null,null,"0.00 (0.00 – 0.00)","0.00\n(0.00 – 0.00)"]
[null,null,null,null,null,null,null,null,null,null,"0.00 (0.00 – 0.00)","0.00\n(0.00 – 0.00)"]
[null,null,null,null,null,null,null,null,null,null,"0.00 (0.00 – 0.00)","0.00\n(0.00 – 0.00)"]
[null,null,null,null,null,null,null,null,null,null,"0.00 (0.00 – 0.00)","0.00\n(0.00 – 0.00)"]
[null,null,null,null,null,null,null,null,null,null,"0.00 (0.00 – 0.00)","0.00\n(0.00 – 0.00)"]
[null,null,null,null,null,null,null,null,null,null,"0.00 (0.00 – 0.00)","0.00\n(0.00 – 0.00)"]
[null,null,null,null,null,null,null,null,null,null,"0.00 (0.00 – 0.00)","0.00\n(0.00 – 0.00)"]
[null,null,null,null,null,null,null,null,null,null,"0.00 (0.00 – 0.00)","0.00\n(0.00 – 0.00)"]
[null,null,null,null,null,null,null,null,null,null,"0.00 (0.00 – 0.00)","0.00\n(0.00 – 0.00)"]
[null,null,null,null,null,null,null,null,null,null,"0.00 (0.00 – 0.00)","0.00\n(0.00 – 0.00)"]
[null,null,null,null,null,null,null,null,null,null,"0.00 (0.00 – 0.00)","0.00\n(0.00 – 0.00)"]
[null,null,null,null,null,null,null,null,null,null,"0.00 (0.00 – 0.00)","0.00\n(0.00 – 0.00)"]
[null,null,null,null,null,null,null,null,null,null,"0.00 (0.00 – 0.00)","0.00\n(0.00 – 0.00)"]
[null,null,null,null,null,null,null,null,null,null,"0.00 (0.00 – 0.00)","0.00\n(0.00 – 0.00)"]
[null,null,null,null,null,null,null,null,null,null,"0.00 (0.00 – 0.00)","0.00\n(0.00 – 0.00)"]
[null,null,null,null,null,null,null,null,null,null,"0.00 (0.00 – 0.00)","0.00\n(0.00 – 0.00)"]
[null,null,null,null,null,null,null,null,null,null,"0.00 (0.00 – 0.00)","0.00\n(0.00 – 0.00)"]
[null,null,null,null,null,null,null,null,null,null,"0.00 (0.00 – 0.00)","0.00\n(0.00 – 0.00)"]
[null,null,null,null,null,null,null,null,null,null,"0.00 (0.00 – 0.00)","0.00\n(0.00 – 0.00)"]
[null,null,null,null,null,null,null,null,null,null,"0.00 (0.00 – 0.00)","0.00\n(0.00 – 0.00)"]
[null,null,null,null,null,null,null,null,null,null,"0.00 (0.00 – 0.00)","0.00\n(0.00 – 0.00)"]
[null,null,null,null,null,null,null,null,null,null,"0.00 (0.00 – 0.00)","0.00\n(0.00 – 0.00)"]
[null,null,null,null,null,null,null,null,null,null,"0.00 (0.00 – 0.00)","0.00\n(0.00 – 0.00)"]
[null,null,null,null,null,null,null,null,null,null,"0.00 (0.00 – 0.00)","0.00\n(0.00 – 0.00)"]
[null,null,null,null,null,null,null,null,null,null,"0.00 (0.00 – 0.00)","0.00\n(0.00 – 0.00)"]
[null,null,null,null,null,null,null,null,null,null,"0.00 (0.00 – 0.00)","0.00\n(0.00 – 0.00)"]
[null,null,null,null,null,null,null,null,null,null,"0.00 (0.00 – 0.00)","0.00\n(0.00 – 0.00)"]
[null,null,null,null,null,null,null,null,null,null,"0.00 (0.00 – 0.00)","0.00\n(0.00 – 0.00)"]
[null,null,null,null,null,null,null,null,null,null,"0.00 (0.00 – 0.00)","0.00\n(0.00 – 0.00)"]
[null,null,null,null,null,null,null,null,null,null,{"$f":"CONCATENATE(TEXT(I197,\"0.00\"),\" (\",TEXT(H197,\"0.00\"),\" – \",TEXT(J197,\"0.00\"),\")\")","v":"0.00 (0.00 – 0.00)"},"0.00\n(0.00 – 0.00)"]
[null,null,null,null,null,null,null,null,null,null,"0.00 (0.00 – 0.00)",{"$f":"CONCATENATE(TEXT(I198,\"0.00\"),\"\n(\",TEXT(H198,\"0.00\"),\" – \",TEXT(J198,\"0.00\"),\")\")","v":"0.00\n(0.00 – 0.00)"}]
[null,null,null,null,null,null,null,null,null,null,"0.00 (0.00 – 0.00)","0.00\n(0.00 – 0.00)"]
[null,null,null,null,null,null,null,null,null,null,"0.00 (0.00 – 0.00)","0.00\n(0.00 – 0.00)"]

{"sheet":"RE Model","index":25,"n_rows":91,"n_cols":9,"rows_kept":91,"cut":false,"hidden":false,"merged":[]}
["model",null,null,"# this code for this model was adapted from WinBUGS code from the multi-parameter Evidence Synthesis Research Group at the University of Bristol:  Website: www.bris.ac.uk/cobm/research/mpes"]
["{"]
[null,"for(i in 1:NS)"]
[null,"{ "]
["        "," w[i,1] <-0"]
[null,"         delta[i,1]<-0"]
[null,"         mu[i] ~ dnorm(0,.0001)                                                   # vague priors for baselines"]
[null,"         for (k in 1:na[i])  "]
[null,null," { "]
[null,"         "," r[i,k] ~ dbin(p[i,k],n[i,k])                                                     # binomial likelihood"]
["             ",null," logit(p[i,k])<-mu[i] + delta[i,k]     ",null,null,null,null,null,"# model"]
["            ",null," r0[i,k]<-r[i,k]+0.01*equals(r[i,k],0) -0.01*equals(r[i,k],n[i,k])"]
[null,"           "," p0[i,k]<- max(p[i,k],.001)"]
[null,"        "," r.hat[i,k]<- p0[i,k]*n[i,k]"]
[]
[null,"          "," #Deviance calculation for binomial data"]
[null,null,"dev[i,k]<- 2*(r0[i,k]*log(r0[i,k]/r.hat[i,k]) + (n[i,k] - r0[i,k])*log((n[i,k] - r0[i,k])/(n[i,k] - r.hat[i,k])))"]
[]
[null,null,"}                                                                "]
[null,null,"for (k in 2:na[i]) "]
[null,null,"{"]
["          ",null,"delta[i,k] ~ dnorm(md[i,k],taud[i,k])             # trial-specific LOR distributions"]
["          ",null,"md[i,k] <-  d[t[i,k]] - d[t[i,1]]  + sw[i,k]                   # mean of LOR distributions"]
["            ",null,"taud[i,k] <- tau *2*(k-1)/k                                    #precision of LOR distributions"]
["             ",null,"w[i,k] <- (delta[i,k]  - d[t[i,k]] + d[t[i,1]])          #adjustment, multi-arm RCTs"]
["              ",null,"sw[i,k] <-sum(w[i,1:k-1])/(k-1)                  # cumulative adjustment for multi-arm trials"]
[null,null,"}"]
[]
[null,null,"sdev[i]<-sum(dev[i,1:na[i]])"]
[" ","}   "]
[null,"resdev<-sum(sdev[])"]
[]
[null,"d[1]<-0"]
[null,"for (k in 2:NT)"]
[null,"{"]
[null,null,"d[k] ~ dnorm(0,.0001) #  vague priors for basic parameters"]
[null,"}                       "]
[null,{"$f":"IF(vague_prior,\"sd~dunif(0,2)   \",\"\")","v":"sd~dunif(0,2)   "},null,null,null,null,null,null," #  vague prior for random effects standard deviation"]
[null,{"$f":"IF(vague_prior,\"tau<-1/pow(sd,2)\",\"\")","v":"tau<-1/pow(sd,2)"},null,null,null,null,null,null," #  vague prior for random effects standard deviation"]
[null,{"$f":"IF(NOT(vague_prior),\"var ~ dlnorm(\"&INDEX(prior_mean, MATCH(outcome_selection,outcome_type,0),MATCH(intervention_selection,intervention_type,0))&\",\"&ROUND(1/INDEX(prior_sigma2, MATCH(outcome_selection,outcome_type,0),MATCH(intervention_selection,intervention_type,0)),4)&\") \",\"\")","v":""},null,null,null,null,null,null,"# Informative log-normal prior  for heterogeneity variance parameter tau - Turner 2012"]
[null,{"$f":"IF(NOT(vague_prior),\"tau<-1/var # between-trial precision (1/between-trial variance)\",\"\")","v":""},null,null,null,null,null,null,"# Informative log-normal prior  for heterogeneity variance parameter tau - Turner 2012"]
[null,{"$f":"IF(NOT(vague_prior),\"sd <- pow(tau,-0.5)\",\"\")","v":""},null,null,null,null,null,null,"# Informative log-normal prior  for heterogeneity variance parameter tau - Turner 2012"]
[]
[]
[null,"# Treatment 1 baseline, based on average of NP trials including it. "]
[null,"for (i in 1:NS) "]
[null,"{ "]
[null,null,"mu1[i] <- mu[i] * equals(t[i,1],1) "]
[null,"}"]
[null,"for (k in 1:NT) "]
[null," { "]
[null,null,"logit(T[k])<- (sum(mu1[])/NP) +d[k] "]
[null," }"]
[]
[null,"# ranking "]
[null,"for (k in 1:NT) "]
[null,"{ "]
[null,null,{"$f":"IF(events_bad,\"\",\"rk[k]<-NT+1-rank(d[],k)\")","v":""},null,null,"# events good"]
[null,null,{"$f":"IF(events_bad,\"rk[k]<- rank(d[],k)\",\"\")","v":"rk[k]<- rank(d[],k)"},null,null,"# events bad"]
[null,null,"best[k]<-equals(rk[k],1)"]
[null,null,"for (h in 1:NT)"]
[null,null,"{"]
[null,null,null,"prob[k,h]<-equals(rk[k],h)"]
[null,null,"}"]
[null,"}"]
[null,"for (k in 1:NT) "]
[null,"{ "]
[null,null,"for (h in 1:NT)"]
[null,null,"{"]
[null,null,null,"cumeffectiveness[k,h]<-sum(prob[k,1:h])   # The cumulative ranking probability of treatment i to be among the j best treatments."]
[null,null,"}"]
[null,"}"]
[null,"for(i in 1:NT)"]
[null,"{"]
[null,"          SUCRA[i]<-sum(cumeffectiveness[i,1:(NT-1)])/(NT-1) # The surface under the cumulative rankings for treatment i."]
[null,"}"]
[null,"# pairwise Ors and RRs"]
[null,"for (c in 1:(NT-1)) "]
[null,"{  "]
[null,null,"for (k in (c+1):NT)  "]
[null,null,"{"]
[null,null,null,"OR[c,k] <- exp(d[k] - d[c] )"]
[null,null,null,"lOR[c,k]<-d[k]-d[c]"]
[null,null,null,{"$f":"IF(events_bad,\"\",\"NNT[c,k]<-1/(T[k]-T[c])\")","v":""},null,null,"# events good"]
[null,null,null,{"$f":"IF(events_bad,\"NNT[c,k]<-1/(T[c]-T[k])\",\"\")","v":"NNT[c,k]<-1/(T[c]-T[k])"},null,null,"#events bad"]
[null,null,null,"RD[c,k]<-T[k]-T[c]"]
[null,null,null,"RR[c,k]<-T[k]/T[c]"]
[null,null,"}  "]
[null,"}"]
[]
["}","#END Program"]

{"sheet":"League Table Data","index":26,"n_rows":200,"n_cols":20,"rows_kept":200,"cut":false,"hidden":true,"merged":[[2,13,2,19],[2,5,2,11]]}
[{"$f":"RIGHT(CELL(\"filename\",A1),LEN(CELL(\"filename\",A1))-FIND(\"]\",CELL(\"filename\",A1)))","v":"League Table Data"}]
[]
[]
["Treatment Name","Treatment #","Rank",null,"Treatmen 1","Treatment 2","Treatment Comparisons","2.5% Cr.I.","Median","97.5% Cr.I.",{"$f":"$N$4 &\" (95% Cr.I.)\"","v":"O.R. (95% Cr.I.)"},{"$f":"$N$4 &\" (95% Cr.I.)\"","v":"O.R. (95% Cr.I.)"},null,{"$f":"IF(Forest=\"RR\", \"R.R\",\"O.R.\")","v":"O.R."},"Treatment Comparisons","2.5% CI","Median","97.5% CI","Treatment 1","Treatment 2"]
[null,null,null,null,null,null,null,null,null,null,{"$f":"CONCATENATE(TEXT(I5,\"0.00\"),\" (\",TEXT(H5,\"0.00\"),\" – \",TEXT(J5,\"0.00\"),\")\")","v":"0.00 (0.00 – 0.00)"},{"$f":"CONCATENATE(TEXT(I5,\"0.00\"),\"\n(\",TEXT(H5,\"0.00\"),\" – \",TEXT(J5,\"0.00\"),\")\")","v":"0.00\n(0.00 – 0.00)"}]
[null,null,null,null,null,null,null,null,null,null,{"$f":"CONCATENATE(TEXT(I6,\"0.00\"),\" (\",TEXT(H6,\"0.00\"),\" – \",TEXT(J6,\"0.00\"),\")\")","v":"0.00 (0.00 – 0.00)"},{"$f":"CONCATENATE(TEXT(I6,\"0.00\"),\"\n(\",TEXT(H6,\"0.00\"),\" – \",TEXT(J6,\"0.00\"),\")\")","v":"0.00\n(0.00 – 0.00)"}]
[null,null,null,null,null,null,null,null,null,null,"0.00 (0.00 – 0.00)","0.00\n(0.00 – 0.00)"]
[null,null,null,null,null,null,null,null,null,null,"0.00 (0.00 – 0.00)","0.00\n(0.00 – 0.00)"]
[null,null,null,null,null,null,null,null,null,null,"0.00 (0.00 – 0.00)","0.00\n(0.00 – 0.00)"]
[null,null,null,null,null,null,null,null,null,null,"0.00 (0.00 – 0.00)","0.00\n(0.00 – 0.00)"]
[null,null,null,null,null,null,null,null,null,null,"0.00 (0.00 – 0.00)","0.00\n(0.00 – 0.00)"]
[null,null,null,null,null,null,null,null,null,null,"0.00 (0.00 – 0.00)","0.00\n(0.00 – 0.00)"]
[null,null,null,null,null,null,null,null,null,null,"0.00 (0.00 – 0.00)","0.00\n(0.00 – 0.00)"]
[null,null,null,null,null,null,null,null,null,null,"0.00 (0.00 – 0.00)","0.00\n(0.00 – 0.00)"]
[null,null,null,null,null,null,null,null,null,null,"0.00 (0.00 – 0.00)","0.00\n(0.00 – 0.00)"]
[null,null,null,null,null,null,null,null,null,null,"0.00 (0.00 – 0.00)","0.00\n(0.00 – 0.00)"]
[null,null,null,null,null,null,null,null,null,null,"0.00 (0.00 – 0.00)","0.00\n(0.00 – 0.00)"]
[null,null,null,null,null,null,null,null,null,null,"0.00 (0.00 – 0.00)","0.00\n(0.00 – 0.00)"]
[null,null,null,null,null,null,null,null,null,null,"0.00 (0.00 – 0.00)","0.00\n(0.00 – 0.00)"]
[null,null,null,null,null,null,null,null,null,null,"0.00 (0.00 – 0.00)","0.00\n(0.00 – 0.00)"]
[null,null,null,null,null,null,null,null,null,null,"0.00 (0.00 – 0.00)","0.00\n(0.00 – 0.00)"]
[null,null,null,null,null,null,null,null,null,null,"0.00 (0.00 – 0.00)","0.00\n(0.00 – 0.00)"]
[null,null,null,null,null,null,null,null,null,null,"0.00 (0.00 – 0.00)","0.00\n(0.00 – 0.00)"]
[null,null,null,null,null,null,null,null,null,null,"0.00 (0.00 – 0.00)","0.00\n(0.00 – 0.00)"]
[null,null,null,null,null,null,null,null,null,null,"0.00 (0.00 – 0.00)","0.00\n(0.00 – 0.00)"]
[null,null,null,null,null,null,null,null,null,null,"0.00 (0.00 – 0.00)","0.00\n(0.00 – 0.00)"]
[null,null,null,null,null,null,null,null,null,null,"0.00 (0.00 – 0.00)","0.00\n(0.00 – 0.00)"]
[null,null,null,null,null,null,null,null,null,null,"0.00 (0.00 – 0.00)","0.00\n(0.00 – 0.00)"]
[null,null,null,null,null,null,null,null,null,null,"0.00 (0.00 – 0.00)","0.00\n(0.00 – 0.00)"]
[null,null,null,null,null,null,null,null,null,null,"0.00 (0.00 – 0.00)","0.00\n(0.00 – 0.00)"]
[null,null,null,null,null,null,null,null,null,null,"0.00 (0.00 – 0.00)","0.00\n(0.00 – 0.00)"]
[null,null,null,null,null,null,null,null,null,null,"0.00 (0.00 – 0.00)","0.00\n(0.00 – 0.00)"]
[null,null,null,null,null,null,null,null,null,null,"0.00 (0.00 – 0.00)","0.00\n(0.00 – 0.00)"]
[null,null,null,null,null,null,null,null,null,null,"0.00 (0.00 – 0.00)","0.00\n(0.00 – 0.00)"]
[null,null,null,null,null,null,null,null,null,null,"0.00 (0.00 – 0.00)","0.00\n(0.00 – 0.00)"]
[null,null,null,null,null,null,null,null,null,null,"0.00 (0.00 – 0.00)","0.00\n(0.00 – 0.00)"]
[null,null,null,null,null,null,null,null,null,null,"0.00 (0.00 – 0.00)","0.00\n(0.00 – 0.00)"]
[null,null,null,null,null,null,null,null,null,null,"0.00 (0.00 – 0.00)","0.00\n(0.00 – 0.00)"]
[null,null,null,null,null,null,null,null,null,null,"0.00 (0.00 – 0.00)","0.00\n(0.00 – 0.00)"]
[null,null,null,null,null,null,null,null,null,null,"0.00 (0.00 – 0.00)","0.00\n(0.00 – 0.00)"]
[null,null,null,null,null,null,null,null,null,null,"0.00 (0.00 – 0.00)","0.00\n(0.00 – 0.00)"]
[null,null,null,null,null,null,null,null,null,null,"0.00 (0.00 – 0.00)","0.00\n(0.00 – 0.00)"]
[null,null,null,null,null,null,null,null,null,null,"0.00 (0.00 – 0.00)","0.00\n(0.00 – 0.00)"]
[null,null,null,null,null,null,null,null,null,null,"0.00 (0.00 – 0.00)","0.00\n(0.00 – 0.00)"]
[null,null,null,null,null,null,null,null,null,null,"0.00 (0.00 – 0.00)","0.00\n(0.00 – 0.00)"]
[null,null,null,null,null,null,null,null,null,null,"0.00 (0.00 – 0.00)","0.00\n(0.00 – 0.00)"]
[null,null,null,null,null,null,null,null,null,null,"0.00 (0.00 – 0.00)","0.00\n(0.00 – 0.00)"]
[null,null,null,null,null,null,null,null,null,null,"0.00 (0.00 – 0.00)","0.00\n(0.00 – 0.00)"]
[null,null,null,null,null,null,null,null,null,null,"0.00 (0.00 – 0.00)","0.00\n(0.00 – 0.00)"]
[null,null,null,null,null,null,null,null,null,null,"0.00 (0.00 – 0.00)","0.00\n(0.00 – 0.00)"]
[null,null,null,null,null,null,null,null,null,null,"0.00 (0.00 – 0.00)","0.00\n(0.00 – 0.00)"]
[null,null,null,null,null,null,null,null,null,null,"0.00 (0.00 – 0.00)","0.00\n(0.00 – 0.00)"]
[null,null,null,null,null,null,null,null,null,null,"0.00 (0.00 – 0.00)","0.00\n(0.00 – 0.00)"]
[null,null,null,null,null,null,null,null,null,null,"0.00 (0.00 – 0.00)","0.00\n(0.00 – 0.00)"]
[null,null,null,null,null,null,null,null,null,null,"0.00 (0.00 – 0.00)","0.00\n(0.00 – 0.00)"]
[null,null,null,null,null,null,null,null,null,null,"0.00 (0.00 – 0.00)","0.00\n(0.00 – 0.00)"]
[null,null,null,null,null,null,null,null,null,null,"0.00 (0.00 – 0.00)","0.00\n(0.00 – 0.00)"]
[null,null,null,null,null,null,null,null,null,null,"0.00 (0.00 – 0.00)","0.00\n(0.00 – 0.00)"]
[null,null,null,null,null,null,null,null,null,null,"0.00 (0.00 – 0.00)","0.00\n(0.00 – 0.00)"]
[null,null,null,null,null,null,null,null,null,null,"0.00 (0.00 – 0.00)","0.00\n(0.00 – 0.00)"]
[null,null,null,null,null,null,null,null,null,null,"0.00 (0.00 – 0.00)","0.00\n(0.00 – 0.00)"]
[null,null,null,null,null,null,null,null,null,null,"0.00 (0.00 – 0.00)","0.00\n(0.00 – 0.00)"]
[null,null,null,null,null,null,null,null,null,null,"0.00 (0.00 – 0.00)","0.00\n(0.00 – 0.00)"]
[null,null,null,null,null,null,null,null,null,null,"0.00 (0.00 – 0.00)","0.00\n(0.00 – 0.00)"]
[null,null,null,null,null,null,null,null,null,null,"0.00 (0.00 – 0.00)","0.00\n(0.00 – 0.00)"]
[null,null,null,null,null,null,null,null,null,null,"0.00 (0.00 – 0.00)","0.00\n(0.00 – 0.00)"]
[null,null,null,null,null,null,null,null,null,null,"0.00 (0.00 – 0.00)","0.00\n(0.00 – 0.00)"]
[null,null,null,null,null,null,null,null,null,null,"0.00 (0.00 – 0.00)","0.00\n(0.00 – 0.00)"]
[null,null,null,null,null,null,null,null,null,null,"0.00 (0.00 – 0.00)","0.00\n(0.00 – 0.00)"]
[null,null,null,null,null,null,null,null,null,null,{"$f":"CONCATENATE(TEXT(I70,\"0.00\"),\" (\",TEXT(H70,\"0.00\"),\" – \",TEXT(J70,\"0.00\"),\")\")","v":"0.00 (0.00 – 0.00)"},{"$f":"CONCATENATE(TEXT(I70,\"0.00\"),\"\n(\",TEXT(H70,\"0.00\"),\" – \",TEXT(J70,\"0.00\"),\")\")","v":"0.00\n(0.00 – 0.00)"}]
[null,null,null,null,null,null,null,null,null,null,"0.00 (0.00 – 0.00)","0.00\n(0.00 – 0.00)"]
[null,null,null,null,null,null,null,null,null,null,"0.00 (0.00 – 0.00)","0.00\n(0.00 – 0.00)"]
[null,null,null,null,null,null,null,null,null,null,"0.00 (0.00 – 0.00)","0.00\n(0.00 – 0.00)"]
[null,null,null,null,null,null,null,null,null,null,"0.00 (0.00 – 0.00)","0.00\n(0.00 – 0.00)"]
[null,null,null,null,null,null,null,null,null,null,"0.00 (0.00 – 0.00)","0.00\n(0.00 – 0.00)"]
[null,null,null,null,null,null,null,null,null,null,"0.00 (0.00 – 0.00)","0.00\n(0.00 – 0.00)"]
[null,null,null,null,null,null,null,null,null,null,"0.00 (0.00 – 0.00)","0.00\n(0.00 – 0.00)"]
[null,null,null,null,null,null,null,null,null,null,"0.00 (0.00 – 0.00)","0.00\n(0.00 – 0.00)"]
[null,null,null,null,null,null,null,null,null,null,"0.00 (0.00 – 0.00)","0.00\n(0.00 – 0.00)"]
[null,null,null,null,null,null,null,null,null,null,"0.00 (0.00 – 0.00)","0.00\n(0.00 – 0.00)"]
[null,null,null,null,null,null,null,null,null,null,"0.00 (0.00 – 0.00)","0.00\n(0.00 – 0.00)"]
[null,null,null,null,null,null,null,null,null,null,"0.00 (0.00 – 0.00)","0.00\n(0.00 – 0.00)"]
[null,null,null,null,null,null,null,null,null,null,"0.00 (0.00 – 0.00)","0.00\n(0.00 – 0.00)"]
[null,null,null,null,null,null,null,null,null,null,"0.00 (0.00 – 0.00)","0.00\n(0.00 – 0.00)"]
[null,null,null,null,null,null,null,null,null,null,"0.00 (0.00 – 0.00)","0.00\n(0.00 – 0.00)"]
[null,null,null,null,null,null,null,null,null,null,"0.00 (0.00 – 0.00)","0.00\n(0.00 – 0.00)"]
[null,null,null,null,null,null,null,null,null,null,"0.00 (0.00 – 0.00)","0.00\n(0.00 – 0.00)"]
[null,null,null,null,null,null,null,null,null,null,"0.00 (0.00 – 0.00)","0.00\n(0.00 – 0.00)"]
[null,null,null,null,null,null,null,null,null,null,"0.00 (0.00 – 0.00)","0.00\n(0.00 – 0.00)"]
[null,null,null,null,null,null,null,null,null,null,"0.00 (0.00 – 0.00)","0.00\n(0.00 – 0.00)"]
[null,null,null,null,null,null,null,null,null,null,"0.00 (0.00 – 0.00)","0.00\n(0.00 – 0.00)"]
[null,null,null,null,null,null,null,null,null,null,"0.00 (0.00 – 0.00)","0.00\n(0.00 – 0.00)"]
[null,null,null,null,null,null,null,null,null,null,"0.00 (0.00 – 0.00)","0.00\n(0.00 – 0.00)"]
[null,null,null,null,null,null,null,null,null,null,"0.00 (0.00 – 0.00)","0.00\n(0.00 – 0.00)"]
[null,null,null,null,null,null,null,null,null,null,"0.00 (0.00 – 0.00)","0.00\n(0.00 – 0.00)"]
[null,null,null,null,null,null,null,null,null,null,"0.00 (0.00 – 0.00)","0.00\n(0.00 – 0.00)"]
[null,null,null,null,null,null,null,null,null,null,"0.00 (0.00 – 0.00)","0.00\n(0.00 – 0.00)"]
[null,null,null,null,null,null,null,null,null,null,"0.00 (0.00 – 0.00)","0.00\n(0.00 – 0.00)"]
[null,null,null,null,null,null,null,null,null,null,"0.00 (0.00 – 0.00)","0.00\n(0.00 – 0.00)"]
[null,null,null,null,null,null,null,null,null,null,"0.00 (0.00 – 0.00)","0.00\n(0.00 – 0.00)"]
[null,null,null,null,null,null,null,null,null,null,"0.00 (0.00 – 0.00)","0.00\n(0.00 – 0.00)"]
[null,null,null,null,null,null,null,null,null,null,"0.00 (0.00 – 0.00)","0.00\n(0.00 – 0.00)"]
[null,null,null,null,null,null,null,null,null,null,"0.00 (0.00 – 0.00)","0.00\n(0.00 – 0.00)"]
[null,null,null,null,null,null,null,null,null,null,"0.00 (0.00 – 0.00)","0.00\n(0.00 – 0.00)"]
[null,null,null,null,null,null,null,null,null,null,"0.00 (0.00 – 0.00)","0.00\n(0.00 – 0.00)"]
[null,null,null,null,null,null,null,null,null,null,"0.00 (0.00 – 0.00)","0.00\n(0.00 – 0.00)"]
[null,null,null,null,null,null,null,null,null,null,"0.00 (0.00 – 0.00)","0.00\n(0.00 – 0.00)"]
[null,null,null,null,null,null,null,null,null,null,"0.00 (0.00 – 0.00)","0.00\n(0.00 – 0.00)"]
[null,null,null,null,null,null,null,null,null,null,"0.00 (0.00 – 0.00)","0.00\n(0.00 – 0.00)"]
[null,null,null,null,null,null,null,null,null,null,"0.00 (0.00 – 0.00)","0.00\n(0.00 – 0.00)"]
[null,null,null,null,null,null,null,null,null,null,"0.00 (0.00 – 0.00)","0.00\n(0.00 – 0.00)"]
[null,null,null,null,null,null,null,null,null,null,"0.00 (0.00 – 0.00)","0.00\n(0.00 – 0.00)"]
[null,null,null,null,null,null,null,null,null,null,"0.00 (0.00 – 0.00)","0.00\n(0.00 – 0.00)"]
[null,null,null,null,null,null,null,null,null,null,"0.00 (0.00 – 0.00)","0.00\n(0.00 – 0.00)"]
[null,null,null,null,null,null,null,null,null,null,"0.00 (0.00 – 0.00)","0.00\n(0.00 – 0.00)"]
[null,null,null,null,null,null,null,null,null,null,"0.00 (0.00 – 0.00)","0.00\n(0.00 – 0.00)"]
[null,null,null,null,null,null,null,null,null,null,"0.00 (0.00 – 0.00)","0.00\n(0.00 – 0.00)"]
[null,null,null,null,null,null,null,null,null,null,"0.00 (0.00 – 0.00)","0.00\n(0.00 – 0.00)"]
[null,null,null,null,null,null,null,null,null,null,"0.00 (0.00 – 0.00)","0.00\n(0.00 – 0.00)"]
[null,null,null,null,null,null,null,null,null,null,"0.00 (0.00 – 0.00)","0.00\n(0.00 – 0.00)"]
[null,null,null,null,null,null,null,null,null,null,"0.00 (0.00 – 0.00)","0.00\n(0.00 – 0.00)"]
[null,null,null,null,null,null,null,null,null,null,"0.00 (0.00 – 0.00)","0.00\n(0.00 – 0.00)"]
[null,null,null,null,null,null,null,null,null,null,"0.00 (0.00 – 0.00)","0.00\n(0.00 – 0.00)"]
[null,null,null,null,null,null,null,null,null,null,"0.00 (0.00 – 0.00)","0.00\n(0.00 – 0.00)"]
[null,null,null,null,null,null,null,null,null,null,"0.00 (0.00 – 0.00)","0.00\n(0.00 – 0.00)"]
[null,null,null,null,null,null,null,null,null,null,"0.00 (0.00 – 0.00)","0.00\n(0.00 – 0.00)"]
[null,null,null,null,null,null,null,null,null,null,"0.00 (0.00 – 0.00)","0.00\n(0.00 – 0.00)"]
[null,null,null,null,null,null,null,null,null,null,"0.00 (0.00 – 0.00)","0.00\n(0.00 – 0.00)"]
[null,null,null,null,null,null,null,null,null,null,"0.00 (0.00 – 0.00)","0.00\n(0.00 – 0.00)"]
[null,null,null,null,null,null,null,null,null,null,"0.00 (0.00 – 0.00)","0.00\n(0.00 – 0.00)"]
[null,null,null,null,null,null,null,null,null,null,"0.00 (0.00 – 0.00)","0.00\n(0.00 – 0.00)"]
[null,null,null,null,null,null,null,null,null,null,"0.00 (0.00 – 0.00)","0.00\n(0.00 – 0.00)"]
[null,null,null,null,null,null,null,null,null,null,"0.00 (0.00 – 0.00)","0.00\n(0.00 – 0.00)"]
[null,null,null,null,null,null,null,null,null,null,{"$f":"CONCATENATE(TEXT(I134,\"0.00\"),\" (\",TEXT(H134,\"0.00\"),\" – \",TEXT(J134,\"0.00\"),\")\")","v":"0.00 (0.00 – 0.00)"},{"$f":"CONCATENATE(TEXT(I134,\"0.00\"),\"\n(\",TEXT(H134,\"0.00\"),\" – \",TEXT(J134,\"0.00\"),\")\")","v":"0.00\n(0.00 – 0.00)"}]
[null,null,null,null,null,null,null,null,null,null,"0.00 (0.00 – 0.00)","0.00\n(0.00 – 0.00)"]
[null,null,null,null,null,null,null,null,null,null,"0.00 (0.00 – 0.00)","0.00\n(0.00 – 0.00)"]
[null,null,null,null,null,null,null,null,null,null,"0.00 (0.00 – 0.00)","0.00\n(0.00 – 0.00)"]
[null,null,null,null,null,null,null,null,null,null,"0.00 (0.00 – 0.00)","0.00\n(0.00 – 0.00)"]
[null,null,null,null,null,null,null,null,null,null,"0.00 (0.00 – 0.00)","0.00\n(0.00 – 0.00)"]
[null,null,null,null,null,null,null,null,null,null,"0.00 (0.00 – 0.00)","0.00\n(0.00 – 0.00)"]
[null,null,null,null,null,null,null,null,null,null,"0.00 (0.00 – 0.00)","0.00\n(0.00 – 0.00)"]
[null,null,null,null,null,null,null,null,null,null,"0.00 (0.00 – 0.00)","0.00\n(0.00 – 0.00)"]
[null,null,null,null,null,null,null,null,null,null,"0.00 (0.00 – 0.00)","0.00\n(0.00 – 0.00)"]
[null,null,null,null,null,null,null,null,null,null,"0.00 (0.00 – 0.00)","0.00\n(0.00 – 0.00)"]
[null,null,null,null,null,null,null,null,null,null,"0.00 (0.00 – 0.00)","0.00\n(0.00 – 0.00)"]
[null,null,null,null,null,null,null,null,null,null,"0.00 (0.00 – 0.00)","0.00\n(0.00 – 0.00)"]
[null,null,null,null,null,null,null,null,null,null,"0.00 (0.00 – 0.00)","0.00\n(0.00 – 0.00)"]
[null,null,null,null,null,null,null,null,null,null,"0.00 (0.00 – 0.00)","0.00\n(0.00 – 0.00)"]
[null,null,null,null,null,null,null,null,null,null,"0.00 (0.00 – 0.00)","0.00\n(0.00 – 0.00)"]
[null,null,null,null,null,null,null,null,null,null,"0.00 (0.00 – 0.00)","0.00\n(0.00 – 0.00)"]
[null,null,null,null,null,null,null,null,null,null,"0.00 (0.00 – 0.00)","0.00\n(0.00 – 0.00)"]
[null,null,null,null,null,null,null,null,null,null,"0.00 (0.00 – 0.00)","0.00\n(0.00 – 0.00)"]
[null,null,null,null,null,null,null,null,null,null,"0.00 (0.00 – 0.00)","0.00\n(0.00 – 0.00)"]
[null,null,null,null,null,null,null,null,null,null,"0.00 (0.00 – 0.00)","0.00\n(0.00 – 0.00)"]
[null,null,null,null,null,null,null,null,null,null,"0.00 (0.00 – 0.00)","0.00\n(0.00 – 0.00)"]
[null,null,null,null,null,null,null,null,null,null,"0.00 (0.00 – 0.00)","0.00\n(0.00 – 0.00)"]
[null,null,null,null,null,null,null,null,null,null,"0.00 (0.00 – 0.00)","0.00\n(0.00 – 0.00)"]
[null,null,null,null,null,null,null,null,null,null,"0.00 (0.00 – 0.00)","0.00\n(0.00 – 0.00)"]
[null,null,null,null,null,null,null,null,null,null,"0.00 (0.00 – 0.00)","0.00\n(0.00 – 0.00)"]
[null,null,null,null,null,null,null,null,null,null,"0.00 (0.00 – 0.00)","0.00\n(0.00 – 0.00)"]
[null,null,null,null,null,null,null,null,null,null,"0.00 (0.00 – 0.00)","0.00\n(0.00 – 0.00)"]
[null,null,null,null,null,null,null,null,null,null,"0.00 (0.00 – 0.00)","0.00\n(0.00 – 0.00)"]
[null,null,null,null,null,null,null,null,null,null,"0.00 (0.00 – 0.00)","0.00\n(0.00 – 0.00)"]
[null,null,null,null,null,null,null,null,null,null,"0.00 (0.00 – 0.00)","0.00\n(0.00 – 0.00)"]
[null,null,null,null,null,null,null,null,null,null,"0.00 (0.00 – 0.00)","0.00\n(0.00 – 0.00)"]
[null,null,null,null,null,null,null,null,null,null,"0.00 (0.00 – 0.00)","0.00\n(0.00 – 0.00)"]
[null,null,null,null,null,null,null,null,null,null,"0.00 (0.00 – 0.00)","0.00\n(0.00 – 0.00)"]
[null,null,null,null,null,null,null,null,null,null,"0.00 (0.00 – 0.00)","0.00\n(0.00 – 0.00)"]
[null,null,null,null,null,null,null,null,null,null,"0.00 (0.00 – 0.00)","0.00\n(0.00 – 0.00)"]
[null,null,null,null,null,null,null,null,null,null,"0.00 (0.00 – 0.00)","0.00\n(0.00 – 0.00)"]
[null,null,null,null,null,null,null,null,null,null,"0.00 (0.00 – 0.00)","0.00\n(0.00 – 0.00)"]
[null,null,null,null,null,null,null,null,null,null,"0.00 (0.00 – 0.00)","0.00\n(0.00 – 0.00)"]
[null,null,null,null,null,null,null,null,null,null,"0.00 (0.00 – 0.00)","0.00\n(0.00 – 0.00)"]
[null,null,null,null,null,null,null,null,null,null,"0.00 (0.00 – 0.00)","0.00\n(0.00 – 0.00)"]
[null,null,null,null,null,null,null,null,null,null,"0.00 (0.00 – 0.00)","0.00\n(0.00 – 0.00)"]
[null,null,null,null,null,null,null,null,null,null,"0.00 (0.00 – 0.00)","0.00\n(0.00 – 0.00)"]
[null,null,null,null,null,null,null,null,null,null,"0.00 (0.00 – 0.00)","0.00\n(0.00 – 0.00)"]
[null,null,null,null,null,null,null,null,null,null,"0.00 (0.00 – 0.00)","0.00\n(0.00 – 0.00)"]
[null,null,null,null,null,null,null,null,null,null,"0.00 (0.00 – 0.00)","0.00\n(0.00 – 0.00)"]
[null,null,null,null,null,null,null,null,null,null,"0.00 (0.00 – 0.00)","0.00\n(0.00 – 0.00)"]
[null,null,null,null,null,null,null,null,null,null,"0.00 (0.00 – 0.00)","0.00\n(0.00 – 0.00)"]
[null,null,null,null,null,null,null,null,null,null,"0.00 (0.00 – 0.00)","0.00\n(0.00 – 0.00)"]
[null,null,null,null,null,null,null,null,null,null,"0.00 (0.00 – 0.00)","0.00\n(0.00 – 0.00)"]
[null,null,null,null,null,null,null,null,null,null,"0.00 (0.00 – 0.00)","0.00\n(0.00 – 0.00)"]
[null,null,null,null,null,null,null,null,null,null,"0.00 (0.00 – 0.00)","0.00\n(0.00 – 0.00)"]
[null,null,null,null,null,null,null,null,null,null,"0.00 (0.00 – 0.00)","0.00\n(0.00 – 0.00)"]
[null,null,null,null,null,null,null,null,null,null,"0.00 (0.00 – 0.00)","0.00\n(0.00 – 0.00)"]
[null,null,null,null,null,null,null,null,null,null,"0.00 (0.00 – 0.00)","0.00\n(0.00 – 0.00)"]
[null,null,null,null,null,null,null,null,null,null,"0.00 (0.00 – 0.00)","0.00\n(0.00 – 0.00)"]
[null,null,null,null,null,null,null,null,null,null,"0.00 (0.00 – 0.00)","0.00\n(0.00 – 0.00)"]
[null,null,null,null,null,null,null,null,null,null,"0.00 (0.00 – 0.00)","0.00\n(0.00 – 0.00)"]
[null,null,null,null,null,null,null,null,null,null,"0.00 (0.00 – 0.00)","0.00\n(0.00 – 0.00)"]
[null,null,null,null,null,null,null,null,null,null,"0.00 (0.00 – 0.00)","0.00\n(0.00 – 0.00)"]
[null,null,null,null,null,null,null,null,null,null,"0.00 (0.00 – 0.00)","0.00\n(0.00 – 0.00)"]
[null,null,null,null,null,null,null,null,null,null,"0.00 (0.00 – 0.00)","0.00\n(0.00 – 0.00)"]
[null,null,null,null,null,null,null,null,null,null,"0.00 (0.00 – 0.00)","0.00\n(0.00 – 0.00)"]
[null,null,null,null,null,null,null,null,null,null,"0.00 (0.00 – 0.00)","0.00\n(0.00 – 0.00)"]
[null,null,null,null,null,null,null,null,null,null,{"$f":"CONCATENATE(TEXT(I198,\"0.00\"),\" (\",TEXT(H198,\"0.00\"),\" – \",TEXT(J198,\"0.00\"),\")\")","v":"0.00 (0.00 – 0.00)"},{"$f":"CONCATENATE(TEXT(I198,\"0.00\"),\"\n(\",TEXT(H198,\"0.00\"),\" – \",TEXT(J198,\"0.00\"),\")\")","v":"0.00\n(0.00 – 0.00)"}]
[null,null,null,null,null,null,null,null,null,null,"0.00 (0.00 – 0.00)","0.00\n(0.00 – 0.00)"]
[null,null,null,null,null,null,null,null,null,null,"0.00 (0.00 – 0.00)","0.00\n(0.00 – 0.00)"]

{"sheet":"Random Effects  (Informative)","index":27,"n_rows":200,"n_cols":20,"rows_kept":200,"cut":false,"hidden":true,"merged":[[2,5,2,11],[2,13,2,19]]}
[{"$f":"RIGHT(CELL(\"filename\",A1),LEN(CELL(\"filename\",A1))-FIND(\"]\",CELL(\"filename\",A1)))","v":"Random Effects  (Informative)"}]
[]
[null,null,null,null,null,{"$f":"\"Random Effects  (Informative Prior)\"","v":"Random Effects  (Informative Prior)"},null,null,null,null,null,null,null,{"$f":"\"Fixed Effects\"","v":"Fixed Effects"}]
["Treatment Name","Treatment #","Rank",null,"Treatmen 1","Treatment 2","Treatment Comparisons","2.5% Cr.I.","Median","97.5% Cr.I.",{"$f":"$N$4 &\" (95% Cr.I.)\"","v":"O.R. (95% Cr.I.)"},{"$f":"$N$4 &\" (95% Cr.I.)\"","v":"O.R. (95% Cr.I.)"},null,{"$f":"IF(Forest=\"RR\", \"R.R\",\"O.R.\")","v":"O.R."},"Treatment Comparisons","2.5% CI","Median","97.5% CI","Treatment 1","Treatment 2"]
[null,null,null,null,null,null,null,null,null,null,{"$f":"CONCATENATE(TEXT(I5,\"0.00\"),\" (\",TEXT(H5,\"0.00\"),\" – \",TEXT(J5,\"0.00\"),\")\")","v":"0.00 (0.00 – 0.00)"},{"$f":"CONCATENATE(TEXT(I5,\"0.00\"),\"\n(\",TEXT(H5,\"0.00\"),\" – \",TEXT(J5,\"0.00\"),\")\")","v":"0.00\n(0.00 – 0.00)"}]
[null,null,null,null,null,null,null,null,null,null,"0.00 (0.00 – 0.00)",{"$f":"CONCATENATE(TEXT(I6,\"0.00\"),\"\n(\",TEXT(H6,\"0.00\"),\" – \",TEXT(J6,\"0.00\"),\")\")","v":"0.00\n(0.00 – 0.00)"}]
[null,null,null,null,null,null,null,null,null,null,"0.00 (0.00 – 0.00)","0.00\n(0.00 – 0.00)"]
[null,null,null,null,null,null,null,null,null,null,"0.00 (0.00 – 0.00)","0.00\n(0.00 – 0.00)"]
[null,null,null,null,null,null,null,null,null,null,"0.00 (0.00 – 0.00)","0.00\n(0.00 – 0.00)"]
[null,null,null,null,null,null,null,null,null,null,"0.00 (0.00 – 0.00)","0.00\n(0.00 – 0.00)"]
[null,null,null,null,null,null,null,null,null,null,{"$f":"CONCATENATE(TEXT(I11,\"0.00\"),\" (\",TEXT(H11,\"0.00\"),\" – \",TEXT(J11,\"0.00\"),\")\")","v":"0.00 (0.00 – 0.00)"},"0.00\n(0.00 – 0.00)"]
[null,null,null,null,null,null,null,null,null,null,"0.00 (0.00 – 0.00)","0.00\n(0.00 – 0.00)"]
[null,null,null,null,null,null,null,null,null,null,"0.00 (0.00 – 0.00)","0.00\n(0.00 – 0.00)"]
[null,null,null,null,null,null,null,null,null,null,"0.00 (0.00 – 0.00)","0.00\n(0.00 – 0.00)"]
[null,null,null,null,null,null,null,null,null,null,"0.00 (0.00 – 0.00)","0.00\n(0.00 – 0.00)"]
[null,null,null,null,null,null,null,null,null,null,"0.00 (0.00 – 0.00)","0.00\n(0.00 – 0.00)"]
[null,null,null,null,null,null,null,null,null,null,"0.00 (0.00 – 0.00)","0.00\n(0.00 – 0.00)"]
[null,null,null,null,null,null,null,null,null,null,"0.00 (0.00 – 0.00)","0.00\n(0.00 – 0.00)"]
[null,null,null,null,null,null,null,null,null,null,"0.00 (0.00 – 0.00)","0.00\n(0.00 – 0.00)"]
[null,null,null,null,null,null,null,null,null,null,"0.00 (0.00 – 0.00)","0.00\n(0.00 – 0.00)"]
[null,null,null,null,null,null,null,null,null,null,"0.00 (0.00 – 0.00)","0.00\n(0.00 – 0.00)"]
[null,null,null,null,null,null,null,null,null,null,"0.00 (0.00 – 0.00)","0.00\n(0.00 – 0.00)"]
[null,null,null,null,null,null,null,null,null,null,"0.00 (0.00 – 0.00)","0.00\n(0.00 – 0.00)"]
[null,null,null,null,null,null,null,null,null,null,"0.00 (0.00 – 0.00)","0.00\n(0.00 – 0.00)"]
[null,null,null,null,null,null,null,null,null,null,"0.00 (0.00 – 0.00)","0.00\n(0.00 – 0.00)"]
[null,null,null,null,null,null,null,null,null,null,"0.00 (0.00 – 0.00)","0.00\n(0.00 – 0.00)"]
[null,null,null,null,null,null,null,null,null,null,"0.00 (0.00 – 0.00)","0.00\n(0.00 – 0.00)"]
[null,null,null,null,null,null,null,null,null,null,"0.00 (0.00 – 0.00)","0.00\n(0.00 – 0.00)"]
[null,null,null,null,null,null,null,null,null,null,"0.00 (0.00 – 0.00)","0.00\n(0.00 – 0.00)"]
[null,null,null,null,null,null,null,null,null,null,"0.00 (0.00 – 0.00)","0.00\n(0.00 – 0.00)"]
[null,null,null,null,null,null,null,null,null,null,"0.00 (0.00 – 0.00)","0.00\n(0.00 – 0.00)"]
[null,null,null,null,null,null,null,null,null,null,"0.00 (0.00 – 0.00)","0.00\n(0.00 – 0.00)"]
[null,null,null,null,null,null,null,null,null,null,"0.00 (0.00 – 0.00)","0.00\n(0.00 – 0.00)"]
[null,null,null,null,null,null,null,null,null,null,"0.00 (0.00 – 0.00)","0.00\n(0.00 – 0.00)"]
[null,null,null,null,null,null,null,null,null,null,"0.00 (0.00 – 0.00)","0.00\n(0.00 – 0.00)"]
[null,null,null,null,null,null,null,null,null,null,"0.00 (0.00 – 0.00)","0.00\n(0.00 – 0.00)"]
[null,null,null,null,null,null,null,null,null,null,"0.00 (0.00 – 0.00)","0.00\n(0.00 – 0.00)"]
[null,null,null,null,null,null,null,null,null,null,"0.00 (0.00 – 0.00)","0.00\n(0.00 – 0.00)"]
[null,null,null,null,null,null,null,null,null,null,"0.00 (0.00 – 0.00)","0.00\n(0.00 – 0.00)"]
[null,null,null,null,null,null,null,null,null,null,"0.00 (0.00 – 0.00)","0.00\n(0.00 – 0.00)"]
[null,null,null,null,null,null,null,null,null,null,"0.00 (0.00 – 0.00)","0.00\n(0.00 – 0.00)"]
[null,null,null,null,null,null,null,null,null,null,"0.00 (0.00 – 0.00)","0.00\n(0.00 – 0.00)"]
[null,null,null,null,null,null,null,null,null,null,"0.00 (0.00 – 0.00)","0.00\n(0.00 – 0.00)"]
[null,null,null,null,null,null,null,null,null,null,"0.00 (0.00 – 0.00)","0.00\n(0.00 – 0.00)"]
[null,null,null,null,null,null,null,null,null,null,"0.00 (0.00 – 0.00)","0.00\n(0.00 – 0.00)"]
[null,null,null,null,null,null,null,null,null,null,"0.00 (0.00 – 0.00)","0.00\n(0.00 – 0.00)"]
[null,null,null,null,null,null,null,null,null,null,"0.00 (0.00 – 0.00)","0.00\n(0.00 – 0.00)"]
[null,null,null,null,null,null,null,null,null,null,"0.00 (0.00 – 0.00)","0.00\n(0.00 – 0.00)"]
[null,null,null,null,null,null,null,null,null,null,"0.00 (0.00 – 0.00)","0.00\n(0.00 – 0.00)"]
[null,null,null,null,null,null,null,null,null,null,"0.00 (0.00 – 0.00)","0.00\n(0.00 – 0.00)"]
[null,null,null,null,null,null,null,null,null,null,"0.00 (0.00 – 0.00)","0.00\n(0.00 – 0.00)"]
[null,null,null,null,null,null,null,null,null,null,"0.00 (0.00 – 0.00)","0.00\n(0.00 – 0.00)"]
[null,null,null,null,null,null,null,null,null,null,"0.00 (0.00 – 0.00)","0.00\n(0.00 – 0.00)"]
[null,null,null,null,null,null,null,null,null,null,"0.00 (0.00 – 0.00)","0.00\n(0.00 – 0.00)"]
[null,null,null,null,null,null,null,null,null,null,"0.00 (0.00 – 0.00)","0.00\n(0.00 – 0.00)"]
[null,null,null,null,null,null,null,null,null,null,"0.00 (0.00 – 0.00)","0.00\n(0.00 – 0.00)"]
[null,null,null,null,null,null,null,null,null,null,"0.00 (0.00 – 0.00)","0.00\n(0.00 – 0.00)"]
[null,null,null,null,null,null,null,null,null,null,"0.00 (0.00 – 0.00)","0.00\n(0.00 – 0.00)"]
[null,null,null,null,null,null,null,null,null,null,"0.00 (0.00 – 0.00)","0.00\n(0.00 – 0.00)"]
[null,null,null,null,null,null,null,null,null,null,"0.00 (0.00 – 0.00)","0.00\n(0.00 – 0.00)"]
[null,null,null,null,null,null,null,null,null,null,"0.00 (0.00 – 0.00)","0.00\n(0.00 – 0.00)"]
[null,null,null,null,null,null,null,null,null,null,"0.00 (0.00 – 0.00)","0.00\n(0.00 – 0.00)"]
[null,null,null,null,null,null,null,null,null,null,"0.00 (0.00 – 0.00)","0.00\n(0.00 – 0.00)"]
[null,null,null,null,null,null,null,null,null,null,"0.00 (0.00 – 0.00)","0.00\n(0.00 – 0.00)"]
[null,null,null,null,null,null,null,null,null,null,"0.00 (0.00 – 0.00)","0.00\n(0.00 – 0.00)"]
[null,null,null,null,null,null,null,null,null,null,"0.00 (0.00 – 0.00)","0.00\n(0.00 – 0.00)"]
[null,null,null,null,null,null,null,null,null,null,"0.00 (0.00 – 0.00)","0.00\n(0.00 – 0.00)"]
[null,null,null,null,null,null,null,null,null,null,"0.00 (0.00 – 0.00)","0.00\n(0.00 – 0.00)"]
[null,null,null,null,null,null,null,null,null,null,{"$f":"CONCATENATE(TEXT(I69,\"0.00\"),\" (\",TEXT(H69,\"0.00\"),\" – \",TEXT(J69,\"0.00\"),\")\")","v":"0.00 (0.00 – 0.00)"},"0.00\n(0.00 – 0.00)"]
[null,null,null,null,null,null,null,null,null,null,"0.00 (0.00 – 0.00)",{"$f":"CONCATENATE(TEXT(I70,\"0.00\"),\"\n(\",TEXT(H70,\"0.00\"),\" – \",TEXT(J70,\"0.00\"),\")\")","v":"0.00\n(0.00 – 0.00)"}]
[null,null,null,null,null,null,null,null,null,null,"0.00 (0.00 – 0.00)","0.00\n(0.00 – 0.00)"]
[null,null,null,null,null,null,null,null,null,null,"0.00 (0.00 – 0.00)","0.00\n(0.00 – 0.00)"]
[null,null,null,null,null,null,null,null,null,null,"0.00 (0.00 – 0.00)","0.00\n(0.00 – 0.00)"]
[null,null,null,null,null,null,null,null,null,null,"0.00 (0.00 – 0.00)","0.00\n(0.00 – 0.00)"]
[null,null,null,null,null,null,null,null,null,null,"0.00 (0.00 – 0.00)","0.00\n(0.00 – 0.00)"]
[null,null,null,null,null,null,null,null,null,null,"0.00 (0.00 – 0.00)","0.00\n(0.00 – 0.00)"]
[null,null,null,null,null,null,null,null,null,null,"0.00 (0.00 – 0.00)","0.00\n(0.00 – 0.00)"]
[null,null,null,null,null,null,null,null,null,null,"0.00 (0.00 – 0.00)","0.00\n(0.00 – 0.00)"]
[null,null,null,null,null,null,null,null,null,null,"0.00 (0.00 – 0.00)","0.00\n(0.00 – 0.00)"]
[null,null,null,null,null,null,null,null,null,null,"0.00 (0.00 – 0.00)","0.00\n(0.00 – 0.00)"]
[null,null,null,null,null,null,null,null,null,null,"0.00 (0.00 – 0.00)","0.00\n(0.00 – 0.00)"]
[null,null,null,null,null,null,null,null,null,null,"0.00 (0.00 – 0.00)","0.00\n(0.00 – 0.00)"]
[null,null,null,null,null,null,null,null,null,null,"0.00 (0.00 – 0.00)","0.00\n(0.00 – 0.00)"]
[null,null,null,null,null,null,null,null,null,null,"0.00 (0.00 – 0.00)","0.00\n(0.00 – 0.00)"]
[null,null,null,null,null,null,null,null,null,null,"0.00 (0.00 – 0.00)","0.00\n(0.00 – 0.00)"]
[null,null,null,null,null,null,null,null,null,null,"0.00 (0.00 – 0.00)","0.00\n(0.00 – 0.00)"]
[null,null,null,null,null,null,null,null,null,null,"0.00 (0.00 – 0.00)","0.00\n(0.00 – 0.00)"]
[null,null,null,null,null,null,null,null,null,null,"0.00 (0.00 – 0.00)","0.00\n(0.00 – 0.00)"]
[null,null,null,null,null,null,null,null,null,null,"0.00 (0.00 – 0.00)","0.00\n(0.00 – 0.00)"]
[null,null,null,null,null,null,null,null,null,null,"0.00 (0.00 – 0.00)","0.00\n(0.00 – 0.00)"]
[null,null,null,null,null,null,null,null,null,null,"0.00 (0.00 – 0.00)","0.00\n(0.00 – 0.00)"]
[null,null,null,null,null,null,null,null,null,null,"0.00 (0.00 – 0.00)","0.00\n(0.00 – 0.00)"]
[null,null,null,null,null,null,null,null,null,null,"0.00 (0.00 – 0.00)","0.00\n(0.00 – 0.00)"]
[null,null,null,null,null,null,null,null,null,null,"0.00 (0.00 – 0.00)","0.00\n(0.00 – 0.00)"]
[null,null,null,null,null,null,null,null,null,null,"0.00 (0.00 – 0.00)","0.00\n(0.00 – 0.00)"]
[null,null,null,null,null,null,null,null,null,null,"0.00 (0.00 – 0.00)","0.00\n(0.00 – 0.00)"]
[null,null,null,null,null,null,null,null,null,null,"0.00 (0.00 – 0.00)","0.00\n(0.00 – 0.00)"]
[null,null,null,null,null,null,null,null,null,null,"0.00 (0.00 – 0.00)","0.00\n(0.00 – 0.00)"]
[null,null,null,null,null,null,null,null,null,null,"0.00 (0.00 – 0.00)","0.00\n(0.00 – 0.00)"]
[null,null,null,null,null,null,null,null,null,null,"0.00 (0.00 – 0.00)","0.00\n(0.00 – 0.00)"]
[null,null,null,null,null,null,null,null,null,null,"0.00 (0.00 – 0.00)","0.00\n(0.00 – 0.00)"]
[null,null,null,null,null,null,null,null,null,null,"0.00 (0.00 – 0.00)","0.00\n(0.00 – 0.00)"]
[null,null,null,null,null,null,null,null,null,null,"0.00 (0.00 – 0.00)","0.00\n(0.00 – 0.00)"]
[null,null,null,null,null,null,null,null,null,null,"0.00 (0.00 – 0.00)","0.00\n(0.00 – 0.00)"]
[null,null,null,null,null,null,null,null,null,null,"0.00 (0.00 – 0.00)","0.00\n(0.00 – 0.00)"]
[null,null,null,null,null,null,null,null,null,null,"0.00 (0.00 – 0.00)","0.00\n(0.00 – 0.00)"]
[null,null,null,null,null,null,null,null,null,null,"0.00 (0.00 – 0.00)","0.00\n(0.00 – 0.00)"]
[null,null,null,null,null,null,null,null,null,null,"0.00 (0.00 – 0.00)","0.00\n(0.00 – 0.00)"]
[null,null,null,null,null,null,null,null,null,null,"0.00 (0.00 – 0.00)","0.00\n(0.00 – 0.00)"]
[null,null,null,null,null,null,null,null,null,null,"0.00 (0.00 – 0.00)","0.00\n(0.00 – 0.00)"]
[null,null,null,null,null,null,null,null,null,null,"0.00 (0.00 – 0.00)","0.00\n(0.00 – 0.00)"]
[null,null,null,null,null,null,null,null,null,null,"0.00 (0.00 – 0.00)","0.00\n(0.00 – 0.00)"]
[null,null,null,null,null,null,null,null,null,null,"0.00 (0.00 – 0.00)","0.00\n(0.00 – 0.00)"]
[null,null,null,null,null,null,null,null,null,null,"0.00 (0.00 – 0.00)","0.00\n(0.00 – 0.00)"]
[null,null,null,null,null,null,null,null,null,null,"0.00 (0.00 – 0.00)","0.00\n(0.00 – 0.00)"]
[null,null,null,null,null,null,null,null,null,null,"0.00 (0.00 – 0.00)","0.00\n(0.00 – 0.00)"]
[null,null,null,null,null,null,null,null,null,null,"0.00 (0.00 – 0.00)","0.00\n(0.00 – 0.00)"]
[null,null,null,null,null,null,null,null,null,null,"0.00 (0.00 – 0.00)","0.00\n(0.00 – 0.00)"]
[null,null,null,null,null,null,null,null,null,null,"0.00 (0.00 – 0.00)","0.00\n(0.00 – 0.00)"]
[null,null,null,null,null,null,null,null,null,null,"0.00 (0.00 – 0.00)","0.00\n(0.00 – 0.00)"]
[null,null,null,null,null,null,null,null,null,null,"0.00 (0.00 – 0.00)","0.00\n(0.00 – 0.00)"]
[null,null,null,null,null,null,null,null,null,null,"0.00 (0.00 – 0.00)","0.00\n(0.00 – 0.00)"]
[null,null,null,null,null,null,null,null,null,null,"0.00 (0.00 – 0.00)","0.00\n(0.00 – 0.00)"]
[null,null,null,null,null,null,null,null,null,null,"0.00 (0.00 – 0.00)","0.00\n(0.00 – 0.00)"]
[null,null,null,null,null,null,null,null,null,null,"0.00 (0.00 – 0.00)","0.00\n(0.00 – 0.00)"]
[null,null,null,null,null,null,null,null,null,null,"0.00 (0.00 – 0.00)","0.00\n(0.00 – 0.00)"]
[null,null,null,null,null,null,null,null,null,null,"0.00 (0.00 – 0.00)","0.00\n(0.00 – 0.00)"]
[null,null,null,null,null,null,null,null,null,null,"0.00 (0.00 – 0.00)","0.00\n(0.00 – 0.00)"]
[null,null,null,null,null,null,null,null,null,null,"0.00 (0.00 – 0.00)","0.00\n(0.00 – 0.00)"]
[null,null,null,null,null,null,null,null,null,null,"0.00 (0.00 – 0.00)","0.00\n(0.00 – 0.00)"]
[null,null,null,null,null,null,null,null,null,null,"0.00 (0.00 – 0.00)","0.00\n(0.00 – 0.00)"]
[null,null,null,null,null,null,null,null,null,null,"0.00 (0.00 – 0.00)","0.00\n(0.00 – 0.00)"]
[null,null,null,null,null,null,null,null,null,null,{"$f":"CONCATENATE(TEXT(I133,\"0.00\"),\" (\",TEXT(H133,\"0.00\"),\" – \",TEXT(J133,\"0.00\"),\")\")","v":"0.00 (0.00 – 0.00)"},"0.00\n(0.00 – 0.00)"]
[null,null,null,null,null,null,null,null,null,null,"0.00 (0.00 – 0.00)",{"$f":"CONCATENATE(TEXT(I134,\"0.00\"),\"\n(\",TEXT(H134,\"0.00\"),\" – \",TEXT(J134,\"0.00\"),\")\")","v":"0.00\n(0.00 – 0.00)"}]
[null,null,null,null,null,null,null,null,null,null,"0.00 (0.00 – 0.00)","0.00\n(0.00 – 0.00)"]
[null,null,null,null,null,null,null,null,null,null,"0.00 (0.00 – 0.00)","0.00\n(0.00 – 0.00)"]
[null,null,null,null,null,null,null,null,null,null,"0.00 (0.00 – 0.00)","0.00\n(0.00 – 0.00)"]
[null,null,null,null,null,null,null,null,null,null,"0.00 (0.00 – 0.00)","0.00\n(0.00 – 0.00)"]
[null,null,null,null,null,null,null,null,null,null,"0.00 (0.00 – 0.00)","0.00\n(0.00 – 0.00)"]
[null,null,null,null,null,null,null,null,null,null,"0.00 (0.00 – 0.00)","0.00\n(0.00 – 0.00)"]
[null,null,null,null,null,null,null,null,null,null,"0.00 (0.00 – 0.00)","0.00\n(0.00 – 0.00)"]
[null,null,null,null,null,null,null,null,null,null,"0.00 (0.00 – 0.00)","0.00\n(0.00 – 0.00)"]
[null,null,null,null,null,null,null,null,null,null,"0.00 (0.00 – 0.00)","0.00\n(0.00 – 0.00)"]
[null,null,null,null,null,null,null,null,null,null,"0.00 (0.00 – 0.00)","0.00\n(0.00 – 0.00)"]
[null,null,null,null,null,null,null,null,null,null,"0.00 (0.00 – 0.00)","0.00\n(0.00 – 0.00)"]
[null,null,null,null,null,null,null,null,null,null,"0.00 (0.00 – 0.00)","0.00\n(0.00 – 0.00)"]
[null,null,null,null,null,null,null,null,null,null,"0.00 (0.00 – 0.00)","0.00\n(0.00 – 0.00)"]
[null,null,null,null,null,null,null,null,null,null,"0.00 (0.00 – 0.00)","0.00\n(0.00 – 0.00)"]
[null,null,null,null,null,null,null,null,null,null,"0.00 (0.00 – 0.00)","0.00\n(0.00 – 0.00)"]
[null,null,null,null,null,null,null,null,null,null,"0.00 (0.00 – 0.00)","0.00\n(0.00 – 0.00)"]
[null,null,null,null,null,null,null,null,null,null,"0.00 (0.00 – 0.00)","0.00\n(0.00 – 0.00)"]
[null,null,null,null,null,null,null,null,null,null,"0.00 (0.00 – 0.00)","0.00\n(0.00 – 0.00)"]
[null,null,null,null,null,null,null,null,null,null,"0.00 (0.00 – 0.00)","0.00\n(0.00 – 0.00)"]
[null,null,null,null,null,null,null,null,null,null,"0.00 (0.00 – 0.00)","0.00\n(0.00 – 0.00)"]
[null,null,null,null,null,null,null,null,null,null,"0.00 (0.00 – 0.00)","0.00\n(0.00 – 0.00)"]
[null,null,null,null,null,null,null,null,null,null,"0.00 (0.00 – 0.00)","0.00\n(0.00 – 0.00)"]
[null,null,null,null,null,null,null,null,null,null,"0.00 (0.00 – 0.00)","0.00\n(0.00 – 0.00)"]
[null,null,null,null,null,null,null,null,null,null,"0.00 (0.00 – 0.00)","0.00\n(0.00 – 0.00)"]
[null,null,null,null,null,null,null,null,null,null,"0.00 (0.00 – 0.00)","0.00\n(0.00 – 0.00)"]
[null,null,null,null,null,null,null,null,null,null,"0.00 (0.00 – 0.00)","0.00\n(0.00 – 0.00)"]
[null,null,null,null,null,null,null,null,null,null,"0.00 (0.00 – 0.00)","0.00\n(0.00 – 0.00)"]
[null,null,null,null,null,null,null,null,null,null,"0.00 (0.00 – 0.00)","0.00\n(0.00 – 0.00)"]
[null,null,null,null,null,null,null,null,null,null,"0.00 (0.00 – 0.00)","0.00\n(0.00 – 0.00)"]
[null,null,null,null,null,null,null,null,null,null,"0.00 (0.00 – 0.00)","0.00\n(0.00 – 0.00)"]
[null,null,null,null,null,null,null,null,null,null,"0.00 (0.00 – 0.00)","0.00\n(0.00 – 0.00)"]
[null,null,null,null,null,null,null,null,null,null,"0.00 (0.00 – 0.00)","0.00\n(0.00 – 0.00)"]
[null,null,null,null,null,null,null,null,null,null,"0.00 (0.00 – 0.00)","0.00\n(0.00 – 0.00)"]
[null,null,null,null,null,null,null,null,null,null,"0.00 (0.00 – 0.00)","0.00\n(0.00 – 0.00)"]
[null,null,null,null,null,null,null,null,null,null,"0.00 (0.00 – 0.00)","0.00\n(0.00 – 0.00)"]
[null,null,null,null,null,null,null,null,null,null,"0.00 (0.00 – 0.00)","0.00\n(0.00 – 0.00)"]
[null,null,null,null,null,null,null,null,null,null,"0.00 (0.00 – 0.00)","0.00\n(0.00 – 0.00)"]
[null,null,null,null,null,null,null,null,null,null,"0.00 (0.00 – 0.00)","0.00\n(0.00 – 0.00)"]
[null,null,null,null,null,null,null,null,null,null,"0.00 (0.00 – 0.00)","0.00\n(0.00 – 0.00)"]
[null,null,null,null,null,null,null,null,null,null,"0.00 (0.00 – 0.00)","0.00\n(0.00 – 0.00)"]
[null,null,null,null,null,null,null,null,null,null,"0.00 (0.00 – 0.00)","0.00\n(0.00 – 0.00)"]
[null,null,null,null,null,null,null,null,null,null,"0.00 (0.00 – 0.00)","0.00\n(0.00 – 0.00)"]
[null,null,null,null,null,null,null,null,null,null,"0.00 (0.00 – 0.00)","0.00\n(0.00 – 0.00)"]
[null,null,null,null,null,null,null,null,null,null,"0.00 (0.00 – 0.00)","0.00\n(0.00 – 0.00)"]
[null,null,null,null,null,null,null,null,null,null,"0.00 (0.00 – 0.00)","0.00\n(0.00 – 0.00)"]
[null,null,null,null,null,null,null,null,null,null,"0.00 (0.00 – 0.00)","0.00\n(0.00 – 0.00)"]
[null,null,null,null,null,null,null,null,null,null,"0.00 (0.00 – 0.00)","0.00\n(0.00 – 0.00)"]
[null,null,null,null,null,null,null,null,null,null,"0.00 (0.00 – 0.00)","0.00\n(0.00 – 0.00)"]
[null,null,null,null,null,null,null,null,null,null,"0.00 (0.00 – 0.00)","0.00\n(0.00 – 0.00)"]
[null,null,null,null,null,null,null,null,null,null,"0.00 (0.00 – 0.00)","0.00\n(0.00 – 0.00)"]
[null,null,null,null,null,null,null,null,null,null,"0.00 (0.00 – 0.00)","0.00\n(0.00 – 0.00)"]
[null,null,null,null,null,null,null,null,null,null,"0.00 (0.00 – 0.00)","0.00\n(0.00 – 0.00)"]
[null,null,null,null,null,null,null,null,null,null,"0.00 (0.00 – 0.00)","0.00\n(0.00 – 0.00)"]
[null,null,null,null,null,null,null,null,null,null,"0.00 (0.00 – 0.00)","0.00\n(0.00 – 0.00)"]
[null,null,null,null,null,null,null,null,null,null,"0.00 (0.00 – 0.00)","0.00\n(0.00 – 0.00)"]
[null,null,null,null,null,null,null,null,null,null,"0.00 (0.00 – 0.00)","0.00\n(0.00 – 0.00)"]
[null,null,null,null,null,null,null,null,null,null,"0.00 (0.00 – 0.00)","0.00\n(0.00 – 0.00)"]
[null,null,null,null,null,null,null,null,null,null,"0.00 (0.00 – 0.00)","0.00\n(0.00 – 0.00)"]
[null,null,null,null,null,null,null,null,null,null,"0.00 (0.00 – 0.00)","0.00\n(0.00 – 0.00)"]
[null,null,null,null,null,null,null,null,null,null,"0.00 (0.00 – 0.00)","0.00\n(0.00 – 0.00)"]
[null,null,null,null,null,null,null,null,null,null,"0.00 (0.00 – 0.00)","0.00\n(0.00 – 0.00)"]
[null,null,null,null,null,null,null,null,null,null,"0.00 (0.00 – 0.00)","0.00\n(0.00 – 0.00)"]
[null,null,null,null,null,null,null,null,null,null,{"$f":"CONCATENATE(TEXT(I197,\"0.00\"),\" (\",TEXT(H197,\"0.00\"),\" – \",TEXT(J197,\"0.00\"),\")\")","v":"0.00 (0.00 – 0.00)"},"0.00\n(0.00 – 0.00)"]
[null,null,null,null,null,null,null,null,null,null,"0.00 (0.00 – 0.00)",{"$f":"CONCATENATE(TEXT(I198,\"0.00\"),\"\n(\",TEXT(H198,\"0.00\"),\" – \",TEXT(J198,\"0.00\"),\")\")","v":"0.00\n(0.00 – 0.00)"}]
[null,null,null,null,null,null,null,null,null,null,"0.00 (0.00 – 0.00)","0.00\n(0.00 – 0.00)"]
[null,null,null,null,null,null,null,null,null,null,"0.00 (0.00 – 0.00)","0.00\n(0.00 – 0.00)"]

{"sheet":"Random Effects (Vague)","index":28,"n_rows":200,"n_cols":20,"rows_kept":200,"cut":false,"hidden":true,"merged":[[2,5,2,11],[2,13,2,19]]}
[{"$f":"RIGHT(CELL(\"filename\",A1),LEN(CELL(\"filename\",A1))-FIND(\"]\",CELL(\"filename\",A1)))","v":"Random Effects (Vague)"}]
[]
[null,null,null,null,null,{"$f":"\"Random Effects (Vague Prior)\"","v":"Random Effects (Vague Prior)"},null,null,null,null,null,null,null,{"$f":"\"Fixed Effects\"","v":"Fixed Effects"}]
["Treatment Name","Treatment #","Rank",null,"Treatmen 1","Treatment 2","Treatment Comparisons","2.5% Cr.I.","Median","97.5% Cr.I.",{"$f":"$N$4 &\" (95% Cr.I.)\"","v":"O.R. (95% Cr.I.)"},{"$f":"$N$4 &\" (95% Cr.I.)\"","v":"O.R. (95% Cr.I.)"},null,{"$f":"IF(Forest=\"RR\", \"R.R\",\"O.R.\")","v":"O.R."},"Treatment Comparisons","2.5% CI","Median","97.5% CI","Treatment 1","Treatment 2"]
["Combined Resyn and Def.",4,1.298,null,5,1,"Amiodarone versus Medical",0.67479999999999996,0.97050000000000003,1.365,{"$f":"CONCATENATE(TEXT(I5,\"0.00\"),\" (\",TEXT(H5,\"0.00\"),\" – \",TEXT(J5,\"0.00\"),\")\")","v":"0.97 (0.67 – 1.37)"},{"$f":"CONCATENATE(TEXT(I5,\"0.00\"),\"\n(\",TEXT(H5,\"0.00\"),\" – \",TEXT(J5,\"0.00\"),\")\")","v":"0.97\n(0.67 – 1.37)"},null,"OR[1,2]","Cardiac Resynchronisation versus Medical",0.4975,0.6593,0.89129999999999998,2,1]
["Cardiac Resynchronisation",2,2.2709999999999999,null,2,3,"Cardiac Resynchronisation versus Implantable Defibrilator",0.66889632107023411,0.9505703422053231,1.3740038472107723,"0.95 (0.67 – 1.37)","0.95\n(0.67 – 1.37)",null,"OR[1,3]","Implantable Defibrilator versus Medical",0.54869999999999997,0.69299999999999995,0.88490000000000002,3,1]
["Implantable Defibrilator",3,2.5379999999999998,null,4,2,"Combined Resyn and Def. versus Cardiac Resynchronisation",0.57389999999999997,0.84219999999999995,1.218,"0.84 (0.57 – 1.22)","0.84\n(0.57 – 1.22)",null,"OR[1,4]","Combined Resyn and Def. versus Medical",0.38800000000000001,0.55700000000000005,0.79700000000000004,4,1]
["Amiodarone",5,4.3230000000000004,null,4,3,"Combined Resyn and Def. versus Implantable Defibrilator",0.5413,0.80330000000000001,1.1779999999999999,"0.80 (0.54 – 1.18)","0.80\n(0.54 – 1.18)",null,"OR[1,5]","Amiodarone versus Medical",0.67479999999999996,0.97050000000000003,1.365,5,1]
["Medical",1,4.569,null,3,5,"Implantable Defibrilator versus Amiodarone",0.51072522982635338,0.71530758226037205,1.0255358424776946,"0.72 (0.51 – 1.03)","0.72\n(0.51 – 1.03)",null,"OR[2,3]","Implantable Defibrilator versus Cardiac Resynchronisation",0.7278,1.052,1.4950000000000001,3,2]
[null,null,null,null,3,1,"Implantable Defibrilator versus Medical",0.54869999999999997,0.69299999999999995,0.88490000000000002,"0.69 (0.55 – 0.88)","0.69\n(0.55 – 0.88)",null,"OR[2,4]","Combined Resyn and Def. versus Cardiac Resynchronisation",0.57389999999999997,0.84219999999999995,1.218,4,2]
[null,null,null,null,2,5,"Cardiac Resynchronisation versus Amiodarone",0.44365572315882873,0.68027210884353739,1.0897994768962511,"0.68 (0.44 – 1.09)","0.68\n(0.44 – 1.09)",null,"OR[2,5]","Amiodarone versus Cardiac Resynchronisation",0.91759999999999997,1.47,2.254,5,2]
[null,null,null,null,2,1,"Cardiac Resynchronisation versus Medical",0.4975,0.6593,0.89129999999999998,"0.66 (0.50 – 0.89)","0.66\n(0.50 – 0.89)",null,"OR[3,4]","Combined Resyn and Def. versus Implantable Defibrilator",0.5413,0.80330000000000001,1.1779999999999999,4,3]
[null,null,null,null,4,5,"Combined Resyn and Def. versus Amiodarone",0.35842293906810035,0.57405281285878296,0.9380863039399624,"0.57 (0.36 – 0.94)","0.57\n(0.36 – 0.94)",null,"OR[3,5]","Amiodarone versus Implantable Defibrilator",0.97509999999999997,1.3979999999999999,1.958,5,3]
[null,null,null,null,4,1,"Combined Resyn and Def. versus Medical",0.38800000000000001,0.55700000000000005,0.79700000000000004,"0.56 (0.39 – 0.80)","0.56\n(0.39 – 0.80)",null,"OR[4,5]","Amiodarone versus Combined Resyn and Def.",1.0660000000000001,1.742,2.79,5,4]
[null,null,null,null,null,null,null,null,null,null,{"$f":"CONCATENATE(TEXT(I15,\"0.00\"),\" (\",TEXT(H15,\"0.00\"),\" – \",TEXT(J15,\"0.00\"),\")\")","v":"0.00 (0.00 – 0.00)"},{"$f":"CONCATENATE(TEXT(I15,\"0.00\"),\"\n(\",TEXT(H15,\"0.00\"),\" – \",TEXT(J15,\"0.00\"),\")\")","v":"0.00\n(0.00 – 0.00)"}]
[null,null,null,null,null,null,null,null,null,null,"0.00 (0.00 – 0.00)","0.00\n(0.00 – 0.00)"]
[null,null,null,null,null,null,null,null,null,null,"0.00 (0.00 – 0.00)","0.00\n(0.00 – 0.00)"]
[null,null,null,null,null,null,null,null,null,null,"0.00 (0.00 – 0.00)","0.00\n(0.00 – 0.00)"]
[null,null,null,null,null,null,null,null,null,null,"0.00 (0.00 – 0.00)","0.00\n(0.00 – 0.00)"]
[null,null,null,null,null,null,null,null,null,null,"0.00 (0.00 – 0.00)","0.00\n(0.00 – 0.00)"]
[null,null,null,null,null,null,null,null,null,null,"0.00 (0.00 – 0.00)","0.00\n(0.00 – 0.00)"]
[null,null,null,null,null,null,null,null,null,null,"0.00 (0.00 – 0.00)","0.00\n(0.00 – 0.00)"]
[null,null,null,null,null,null,null,null,null,null,"0.00 (0.00 – 0.00)","0.00\n(0.00 – 0.00)"]
[null,null,null,null,null,null,null,null,null,null,"0.00 (0.00 – 0.00)","0.00\n(0.00 – 0.00)"]
[null,null,null,null,null,null,null,null,null,null,"0.00 (0.00 – 0.00)","0.00\n(0.00 – 0.00)"]
[null,null,null,null,null,null,null,null,null,null,"0.00 (0.00 – 0.00)","0.00\n(0.00 – 0.00)"]
[null,null,null,null,null,null,null,null,null,null,"0.00 (0.00 – 0.00)","0.00\n(0.00 – 0.00)"]
[null,null,null,null,null,null,null,null,null,null,"0.00 (0.00 – 0.00)","0.00\n(0.00 – 0.00)"]
[null,null,null,null,null,null,null,null,null,null,"0.00 (0.00 – 0.00)","0.00\n(0.00 – 0.00)"]
[null,null,null,null,null,null,null,null,null,null,"0.00 (0.00 – 0.00)","0.00\n(0.00 – 0.00)"]
[null,null,null,null,null,null,null,null,null,null,"0.00 (0.00 – 0.00)","0.00\n(0.00 – 0.00)"]
[null,null,null,null,null,null,null,null,null,null,"0.00 (0.00 – 0.00)","0.00\n(0.00 – 0.00)"]
[null,null,null,null,null,null,null,null,null,null,"0.00 (0.00 – 0.00)","0.00\n(0.00 – 0.00)"]
[null,null,null,null,null,null,null,null,null,null,"0.00 (0.00 – 0.00)","0.00\n(0.00 – 0.00)"]
[null,null,null,null,null,null,null,null,null,null,"0.00 (0.00 – 0.00)","0.00\n(0.00 – 0.00)"]
[null,null,null,null,null,null,null,null,null,null,"0.00 (0.00 – 0.00)","0.00\n(0.00 – 0.00)"]
[null,null,null,null,null,null,null,null,null,null,"0.00 (0.00 – 0.00)","0.00\n(0.00 – 0.00)"]
[null,null,null,null,null,null,null,null,null,null,"0.00 (0.00 – 0.00)","0.00\n(0.00 – 0.00)"]
[null,null,null,null,null,null,null,null,null,null,"0.00 (0.00 – 0.00)","0.00\n(0.00 – 0.00)"]
[null,null,null,null,null,null,null,null,null,null,"0.00 (0.00 – 0.00)","0.00\n(0.00 – 0.00)"]
[null,null,null,null,null,null,null,null,null,null,"0.00 (0.00 – 0.00)","0.00\n(0.00 – 0.00)"]
[null,null,null,null,null,null,null,null,null,null,"0.00 (0.00 – 0.00)","0.00\n(0.00 – 0.00)"]
[null,null,null,null,null,null,null,null,null,null,"0.00 (0.00 – 0.00)","0.00\n(0.00 – 0.00)"]
[null,null,null,null,null,null,null,null,null,null,"0.00 (0.00 – 0.00)","0.00\n(0.00 – 0.00)"]
[null,null,null,null,null,null,null,null,null,null,"0.00 (0.00 – 0.00)","0.00\n(0.00 – 0.00)"]
[null,null,null,null,null,null,null,null,null,null,"0.00 (0.00 – 0.00)","0.00\n(0.00 – 0.00)"]
[null,null,null,null,null,null,null,null,null,null,"0.00 (0.00 – 0.00)","0.00\n(0.00 – 0.00)"]
[null,null,null,null,null,null,null,null,null,null,"0.00 (0.00 – 0.00)","0.00\n(0.00 – 0.00)"]
[null,null,null,null,null,null,null,null,null,null,"0.00 (0.00 – 0.00)","0.00\n(0.00 – 0.00)"]
[null,null,null,null,null,null,null,null,null,null,"0.00 (0.00 – 0.00)","0.00\n(0.00 – 0.00)"]
[null,null,null,null,null,null,null,null,null,null,"0.00 (0.00 – 0.00)","0.00\n(0.00 – 0.00)"]
[null,null,null,null,null,null,null,null,null,null,"0.00 (0.00 – 0.00)","0.00\n(0.00 – 0.00)"]
[null,null,null,null,null,null,null,null,null,null,"0.00 (0.00 – 0.00)","0.00\n(0.00 – 0.00)"]
[null,null,null,null,null,null,null,null,null,null,"0.00 (0.00 – 0.00)","0.00\n(0.00 – 0.00)"]
[null,null,null,null,null,null,null,null,null,null,"0.00 (0.00 – 0.00)","0.00\n(0.00 – 0.00)"]
[null,null,null,null,null,null,null,null,null,null,"0.00 (0.00 – 0.00)","0.00\n(0.00 – 0.00)"]
[null,null,null,null,null,null,null,null,null,null,"0.00 (0.00 – 0.00)","0.00\n(0.00 – 0.00)"]
[null,null,null,null,null,null,null,null,null,null,"0.00 (0.00 – 0.00)","0.00\n(0.00 – 0.00)"]
[null,null,null,null,null,null,null,null,null,null,"0.00 (0.00 – 0.00)","0.00\n(0.00 – 0.00)"]
[null,null,null,null,null,null,null,null,null,null,"0.00 (0.00 – 0.00)","0.00\n(0.00 – 0.00)"]
[null,null,null,null,null,null,null,null,null,null,"0.00 (0.00 – 0.00)","0.00\n(0.00 – 0.00)"]
[null,null,null,null,null,null,null,null,null,null,"0.00 (0.00 – 0.00)","0.00\n(0.00 – 0.00)"]
[null,null,null,null,null,null,null,null,null,null,"0.00 (0.00 – 0.00)","0.00\n(0.00 – 0.00)"]
[null,null,null,null,null,null,null,null,null,null,"0.00 (0.00 – 0.00)","0.00\n(0.00 – 0.00)"]
[null,null,null,null,null,null,null,null,null,null,"0.00 (0.00 – 0.00)","0.00\n(0.00 – 0.00)"]
[null,null,null,null,null,null,null,null,null,null,"0.00 (0.00 – 0.00)","0.00\n(0.00 – 0.00)"]
[null,null,null,null,null,null,null,null,null,null,"0.00 (0.00 – 0.00)","0.00\n(0.00 – 0.00)"]
[null,null,null,null,null,null,null,null,null,null,"0.00 (0.00 – 0.00)","0.00\n(0.00 – 0.00)"]
[null,null,null,null,null,null,null,null,null,null,{"$f":"CONCATENATE(TEXT(I69,\"0.00\"),\" (\",TEXT(H69,\"0.00\"),\" – \",TEXT(J69,\"0.00\"),\")\")","v":"0.00 (0.00 – 0.00)"},"0.00\n(0.00 – 0.00)"]
[null,null,null,null,null,null,null,null,null,null,"0.00 (0.00 – 0.00)",{"$f":"CONCATENATE(TEXT(I70,\"0.00\"),\"\n(\",TEXT(H70,\"0.00\"),\" – \",TEXT(J70,\"0.00\"),\")\")","v":"0.00\n(0.00 – 0.00)"}]
[null,null,null,null,null,null,null,null,null,null,"0.00 (0.00 – 0.00)","0.00\n(0.00 – 0.00)"]
[null,null,null,null,null,null,null,null,null,null,"0.00 (0.00 – 0.00)","0.00\n(0.00 – 0.00)"]
[null,null,null,null,null,null,null,null,null,null,"0.00 (0.00 – 0.00)","0.00\n(0.00 – 0.00)"]
[null,null,null,null,null,null,null,null,null,null,"0.00 (0.00 – 0.00)","0.00\n(0.00 – 0.00)"]
[null,null,null,null,null,null,null,null,null,null,"0.00 (0.00 – 0.00)","0.00\n(0.00 – 0.00)"]
[null,null,null,null,null,null,null,null,null,null,"0.00 (0.00 – 0.00)","0.00\n(0.00 – 0.00)"]
[null,null,null,null,null,null,null,null,null,null,"0.00 (0.00 – 0.00)","0.00\n(0.00 – 0.00)"]
[null,null,null,null,null,null,null,null,null,null,"0.00 (0.00 – 0.00)","0.00\n(0.00 – 0.00)"]
[null,null,null,null,null,null,null,null,null,null,"0.00 (0.00 – 0.00)","0.00\n(0.00 – 0.00)"]
[null,null,null,null,null,null,null,null,null,null,"0.00 (0.00 – 0.00)","0.00\n(0.00 – 0.00)"]
[null,null,null,null,null,null,null,null,null,null,"0.00 (0.00 – 0.00)","0.00\n(0.00 – 0.00)"]
[null,null,null,null,null,null,null,null,null,null,"0.00 (0.00 – 0.00)","0.00\n(0.00 – 0.00)"]
[null,null,null,null,null,null,null,null,null,null,"0.00 (0.00 – 0.00)","0.00\n(0.00 – 0.00)"]
[null,null,null,null,null,null,null,null,null,null,"0.00 (0.00 – 0.00)","0.00\n(0.00 – 0.00)"]
[null,null,null,null,null,null,null,null,null,null,"0.00 (0.00 – 0.00)","0.00\n(0.00 – 0.00)"]
[null,null,null,null,null,null,null,null,null,null,"0.00 (0.00 – 0.00)","0.00\n(0.00 – 0.00)"]
[null,null,null,null,null,null,null,null,null,null,"0.00 (0.00 – 0.00)","0.00\n(0.00 – 0.00)"]
[null,null,null,null,null,null,null,null,null,null,"0.00 (0.00 – 0.00)","0.00\n(0.00 – 0.00)"]
[null,null,null,null,null,null,null,null,null,null,"0.00 (0.00 – 0.00)","0.00\n(0.00 – 0.00)"]
[null,null,null,null,null,null,null,null,null,null,"0.00 (0.00 – 0.00)","0.00\n(0.00 – 0.00)"]
[null,null,null,null,null,null,null,null,null,null,"0.00 (0.00 – 0.00)","0.00\n(0.00 – 0.00)"]
[null,null,null,null,null,null,null,null,null,null,"0.00 (0.00 – 0.00)","0.00\n(0.00 – 0.00)"]
[null,null,null,null,null,null,null,null,null,null,"0.00 (0.00 – 0.00)","0.00\n(0.00 – 0.00)"]
[null,null,null,null,null,null,null,null,null,null,"0.00 (0.00 – 0.00)","0.00\n(0.00 – 0.00)"]
[null,null,null,null,null,null,null,null,null,null,"0.00 (0.00 – 0.00)","0.00\n(0.00 – 0.00)"]
[null,null,null,null,null,null,null,null,null,null,"0.00 (0.00 – 0.00)","0.00\n(0.00 – 0.00)"]
[null,null,null,null,null,null,null,null,null,null,"0.00 (0.00 – 0.00)","0.00\n(0.00 – 0.00)"]
[null,null,null,null,null,null,null,null,null,null,"0.00 (0.00 – 0.00)","0.00\n(0.00 – 0.00)"]
[null,null,null,null,null,null,null,null,null,null,"0.00 (0.00 – 0.00)","0.00\n(0.00 – 0.00)"]
[null,null,null,null,null,null,null,null,null,null,"0.00 (0.00 – 0.00)","0.00\n(0.00 – 0.00)"]
[null,null,null,null,null,null,null,null,null,null,"0.00 (0.00 – 0.00)","0.00\n(0.00 – 0.00)"]
[null,null,null,null,null,null,null,null,null,null,"0.00 (0.00 – 0.00)","0.00\n(0.00 – 0.00)"]
[null,null,null,null,null,null,null,null,null,null,"0.00 (0.00 – 0.00)","0.00\n(0.00 – 0.00)"]
[null,null,null,null,null,null,null,null,null,null,"0.00 (0.00 – 0.00)","0.00\n(0.00 – 0.00)"]
[null,null,null,null,null,null,null,null,null,null,"0.00 (0.00 – 0.00)","0.00\n(0.00 – 0.00)"]
[null,null,null,null,null,null,null,null,null,null,"0.00 (0.00 – 0.00)","0.00\n(0.00 – 0.00)"]
[null,null,null,null,null,null,null,null,null,null,"0.00 (0.00 – 0.00)","0.00\n(0.00 – 0.00)"]
[null,null,null,null,null,null,null,null,null,null,"0.00 (0.00 – 0.00)","0.00\n(0.00 – 0.00)"]
[null,null,null,null,null,null,null,null,null,null,"0.00 (0.00 – 0.00)","0.00\n(0.00 – 0.00)"]
[null,null,null,null,null,null,null,null,null,null,"0.00 (0.00 – 0.00)","0.00\n(0.00 – 0.00)"]
[null,null,null,null,null,null,null,null,null,null,"0.00 (0.00 – 0.00)","0.00\n(0.00 – 0.00)"]
[null,null,null,null,null,null,null,null,null,null,"0.00 (0.00 – 0.00)","0.00\n(0.00 – 0.00)"]
[null,null,null,null,null,null,null,null,null,null,"0.00 (0.00 – 0.00)","0.00\n(0.00 – 0.00)"]
[null,null,null,null,null,null,null,null,null,null,"0.00 (0.00 – 0.00)","0.00\n(0.00 – 0.00)"]
[null,null,null,null,null,null,null,null,null,null,"0.00 (0.00 – 0.00)","0.00\n(0.00 – 0.00)"]
[null,null,null,null,null,null,null,null,null,null,"0.00 (0.00 – 0.00)","0.00\n(0.00 – 0.00)"]
[null,null,null,null,null,null,null,null,null,null,"0.00 (0.00 – 0.00)","0.00\n(0.00 – 0.00)"]
[null,null,null,null,null,null,null,null,null,null,"0.00 (0.00 – 0.00)","0.00\n(0.00 – 0.00)"]
[null,null,null,null,null,null,null,null,null,null,"0.00 (0.00 – 0.00)","0.00\n(0.00 – 0.00)"]
[null,null,null,null,null,null,null,null,null,null,"0.00 (0.00 – 0.00)","0.00\n(0.00 – 0.00)"]
[null,null,null,null,null,null,null,null,null,null,"0.00 (0.00 – 0.00)","0.00\n(0.00 – 0.00)"]
[null,null,null,null,null,null,null,null,null,null,"0.00 (0.00 – 0.00)","0.00\n(0.00 – 0.00)"]
[null,null,null,null,null,null,null,null,null,null,"0.00 (0.00 – 0.00)","0.00\n(0.00 – 0.00)"]
[null,null,null,null,null,null,null,null,null,null,"0.00 (0.00 – 0.00)","0.00\n(0.00 – 0.00)"]
[null,null,null,null,null,null,null,null,null,null,"0.00 (0.00 – 0.00)","0.00\n(0.00 – 0.00)"]
[null,null,null,null,null,null,null,null,null,null,"0.00 (0.00 – 0.00)","0.00\n(0.00 – 0.00)"]
[null,null,null,null,null,null,null,null,null,null,"0.00 (0.00 – 0.00)","0.00\n(0.00 – 0.00)"]
[null,null,null,null,null,null,null,null,null,null,"0.00 (0.00 – 0.00)","0.00\n(0.00 – 0.00)"]
[null,null,null,null,null,null,null,null,null,null,"0.00 (0.00 – 0.00)","0.00\n(0.00 – 0.00)"]
[null,null,null,null,null,null,null,null,null,null,"0.00 (0.00 – 0.00)","0.00\n(0.00 – 0.00)"]
[null,null,null,null,null,null,null,null,null,null,"0.00 (0.00 – 0.00)","0.00\n(0.00 – 0.00)"]
[null,null,null,null,null,null,null,null,null,null,"0.00 (0.00 – 0.00)","0.00\n(0.00 – 0.00)"]
[null,null,null,null,null,null,null,null,null,null,{"$f":"CONCATENATE(TEXT(I133,\"0.00\"),\" (\",TEXT(H133,\"0.00\"),\" – \",TEXT(J133,\"0.00\"),\")\")","v":"0.00 (0.00 – 0.00)"},"0.00\n(0.00 – 0.00)"]
[null,null,null,null,null,null,null,null,null,null,"0.00 (0.00 – 0.00)",{"$f":"CONCATENATE(TEXT(I134,\"0.00\"),\"\n(\",TEXT(H134,\"0.00\"),\" – \",TEXT(J134,\"0.00\"),\")\")","v":"0.00\n(0.00 – 0.00)"}]
[null,null,null,null,null,null,null,null,null,null,"0.00 (0.00 – 0.00)","0.00\n(0.00 – 0.00)"]
[null,null,null,null,null,null,null,null,null,null,"0.00 (0.00 – 0.00)","0.00\n(0.00 – 0.00)"]
[null,null,null,null,null,null,null,null,null,null,"0.00 (0.00 – 0.00)","0.00\n(0.00 – 0.00)"]
[null,null,null,null,null,null,null,null,null,null,"0.00 (0.00 – 0.00)","0.00\n(0.00 – 0.00)"]
[null,null,null,null,null,null,null,null,null,null,"0.00 (0.00 – 0.00)","0.00\n(0.00 – 0.00)"]
[null,null,null,null,null,null,null,null,null,null,"0.00 (0.00 – 0.00)","0.00\n(0.00 – 0.00)"]
[null,null,null,null,null,null,null,null,null,null,"0.00 (0.00 – 0.00)","0.00\n(0.00 – 0.00)"]
[null,null,null,null,null,null,null,null,null,null,"0.00 (0.00 – 0.00)","0.00\n(0.00 – 0.00)"]
[null,null,null,null,null,null,null,null,null,null,"0.00 (0.00 – 0.00)","0.00\n(0.00 – 0.00)"]
[null,null,null,null,null,null,null,null,null,null,"0.00 (0.00 – 0.00)","0.00\n(0.00 – 0.00)"]
[null,null,null,null,null,null,null,null,null,null,"0.00 (0.00 – 0.00)","0.00\n(0.00 – 0.00)"]
[null,null,null,null,null,null,null,null,null,null,"0.00 (0.00 – 0.00)","0.00\n(0.00 – 0.00)"]
[null,null,null,null,null,null,null,null,null,null,"0.00 (0.00 – 0.00)","0.00\n(0.00 – 0.00)"]
[null,null,null,null,null,null,null,null,null,null,"0.00 (0.00 – 0.00)","0.00\n(0.00 – 0.00)"]
[null,null,null,null,null,null,null,null,null,null,"0.00 (0.00 – 0.00)","0.00\n(0.00 – 0.00)"]
[null,null,null,null,null,null,null,null,null,null,"0.00 (0.00 – 0.00)","0.00\n(0.00 – 0.00)"]
[null,null,null,null,null,null,null,null,null,null,"0.00 (0.00 – 0.00)","0.00\n(0.00 – 0.00)"]
[null,null,null,null,null,null,null,null,null,null,"0.00 (0.00 – 0.00)","0.00\n(0.00 – 0.00)"]
[null,null,null,null,null,null,null,null,null,null,"0.00 (0.00 – 0.00)","0.00\n(0.00 – 0.00)"]
[null,null,null,null,null,null,null,null,null,null,"0.00 (0.00 – 0.00)","0.00\n(0.00 – 0.00)"]
[null,null,null,null,null,null,null,null,null,null,"0.00 (0.00 – 0.00)","0.00\n(0.00 – 0.00)"]
[null,null,null,null,null,null,null,null,null,null,"0.00 (0.00 – 0.00)","0.00\n(0.00 – 0.00)"]
[null,null,null,null,null,null,null,null,null,null,"0.00 (0.00 – 0.00)","0.00\n(0.00 – 0.00)"]
[null,null,null,null,null,null,null,null,null,null,"0.00 (0.00 – 0.00)","0.00\n(0.00 – 0.00)"]
[null,null,null,null,null,null,null,null,null,null,"0.00 (0.00 – 0.00)","0.00\n(0.00 – 0.00)"]
[null,null,null,null,null,null,null,null,null,null,"0.00 (0.00 – 0.00)","0.00\n(0.00 – 0.00)"]
[null,null,null,null,null,null,null,null,null,null,"0.00 (0.00 – 0.00)","0.00\n(0.00 – 0.00)"]
[null,null,null,null,null,null,null,null,null,null,"0.00 (0.00 – 0.00)","0.00\n(0.00 – 0.00)"]
[null,null,null,null,null,null,null,null,null,null,"0.00 (0.00 – 0.00)","0.00\n(0.00 – 0.00)"]
[null,null,null,null,null,null,null,null,null,null,"0.00 (0.00 – 0.00)","0.00\n(0.00 – 0.00)"]
[null,null,null,null,null,null,null,null,null,null,"0.00 (0.00 – 0.00)","0.00\n(0.00 – 0.00)"]
[null,null,null,null,null,null,null,null,null,null,"0.00 (0.00 – 0.00)","0.00\n(0.00 – 0.00)"]
[null,null,null,null,null,null,null,null,null,null,"0.00 (0.00 – 0.00)","0.00\n(0.00 – 0.00)"]
[null,null,null,null,null,null,null,null,null,null,"0.00 (0.00 – 0.00)","0.00\n(0.00 – 0.00)"]
[null,null,null,null,null,null,null,null,null,null,"0.00 (0.00 – 0.00)","0.00\n(0.00 – 0.00)"]
[null,null,null,null,null,null,null,null,null,null,"0.00 (0.00 – 0.00)","0.00\n(0.00 – 0.00)"]
[null,null,null,null,null,null,null,null,null,null,"0.00 (0.00 – 0.00)","0.00\n(0.00 – 0.00)"]
[null,null,null,null,null,null,null,null,null,null,"0.00 (0.00 – 0.00)","0.00\n(0.00 – 0.00)"]
[null,null,null,null,null,null,null,null,null,null,"0.00 (0.00 – 0.00)","0.00\n(0.00 – 0.00)"]
[null,null,null,null,null,null,null,null,null,null,"0.00 (0.00 – 0.00)","0.00\n(0.00 – 0.00)"]
[null,null,null,null,null,null,null,null,null,null,"0.00 (0.00 – 0.00)","0.00\n(0.00 – 0.00)"]
[null,null,null,null,null,null,null,null,null,null,"0.00 (0.00 – 0.00)","0.00\n(0.00 – 0.00)"]
[null,null,null,null,null,null,null,null,null,null,"0.00 (0.00 – 0.00)","0.00\n(0.00 – 0.00)"]
[null,null,null,null,null,null,null,null,null,null,"0.00 (0.00 – 0.00)","0.00\n(0.00 – 0.00)"]
[null,null,null,null,null,null,null,null,null,null,"0.00 (0.00 – 0.00)","0.00\n(0.00 – 0.00)"]
[null,null,null,null,null,null,null,null,null,null,"0.00 (0.00 – 0.00)","0.00\n(0.00 – 0.00)"]
[null,null,null,null,null,null,null,null,null,null,"0.00 (0.00 – 0.00)","0.00\n(0.00 – 0.00)"]
[null,null,null,null,null,null,null,null,null,null,"0.00 (0.00 – 0.00)","0.00\n(0.00 – 0.00)"]
[null,null,null,null,null,null,null,null,null,null,"0.00 (0.00 – 0.00)","0.00\n(0.00 – 0.00)"]
[null,null,null,null,null,null,null,null,null,null,"0.00 (0.00 – 0.00)","0.00\n(0.00 – 0.00)"]
[null,null,null,null,null,null,null,null,null,null,"0.00 (0.00 – 0.00)","0.00\n(0.00 – 0.00)"]
[null,null,null,null,null,null,null,null,null,null,"0.00 (0.00 – 0.00)","0.00\n(0.00 – 0.00)"]
[null,null,null,null,null,null,null,null,null,null,"0.00 (0.00 – 0.00)","0.00\n(0.00 – 0.00)"]
[null,null,null,null,null,null,null,null,null,null,"0.00 (0.00 – 0.00)","0.00\n(0.00 – 0.00)"]
[null,null,null,null,null,null,null,null,null,null,"0.00 (0.00 – 0.00)","0.00\n(0.00 – 0.00)"]
[null,null,null,null,null,null,null,null,null,null,"0.00 (0.00 – 0.00)","0.00\n(0.00 – 0.00)"]
[null,null,null,null,null,null,null,null,null,null,"0.00 (0.00 – 0.00)","0.00\n(0.00 – 0.00)"]
[null,null,null,null,null,null,null,null,null,null,"0.00 (0.00 – 0.00)","0.00\n(0.00 – 0.00)"]
[null,null,null,null,null,null,null,null,null,null,"0.00 (0.00 – 0.00)","0.00\n(0.00 – 0.00)"]
[null,null,null,null,null,null,null,null,null,null,"0.00 (0.00 – 0.00)","0.00\n(0.00 – 0.00)"]
[null,null,null,null,null,null,null,null,null,null,"0.00 (0.00 – 0.00)","0.00\n(0.00 – 0.00)"]
[null,null,null,null,null,null,null,null,null,null,"0.00 (0.00 – 0.00)","0.00\n(0.00 – 0.00)"]
[null,null,null,null,null,null,null,null,null,null,{"$f":"CONCATENATE(TEXT(I197,\"0.00\"),\" (\",TEXT(H197,\"0.00\"),\" – \",TEXT(J197,\"0.00\"),\")\")","v":"0.00 (0.00 – 0.00)"},"0.00\n(0.00 – 0.00)"]
[null,null,null,null,null,null,null,null,null,null,"0.00 (0.00 – 0.00)",{"$f":"CONCATENATE(TEXT(I198,\"0.00\"),\"\n(\",TEXT(H198,\"0.00\"),\" – \",TEXT(J198,\"0.00\"),\")\")","v":"0.00\n(0.00 – 0.00)"}]
[null,null,null,null,null,null,null,null,null,null,"0.00 (0.00 – 0.00)","0.00\n(0.00 – 0.00)"]
[null,null,null,null,null,null,null,null,null,null,"0.00 (0.00 – 0.00)","0.00\n(0.00 – 0.00)"]

{"sheet":"FE Inconsistency Model","index":29,"n_rows":30,"n_cols":4,"rows_kept":30,"cut":false,"hidden":false,"merged":[]}
[]
["#Fixed effects model for multi-arm trials (any number of arms) - developed based on WinBUGS code from  Multi-parameter Evidence Synthesis Research Group at the University of Bristol  Website: www.bris.ac.uk/cobm/research/mpes"]
["model        "]
["{ "]
[null,"for(i in 1:NS)            # LOOP THROUGH STUDIES "]
[null,"{  "]
[null,null,"mu[i]~ dnorm(0,.0001)      # vague priors for trial baselines "]
[null,null,"for (k in 1:na[i])      # LOOP THROUGH ARMS "]
[null,null,"{ "]
[null,null,null,"r[i,k] ~ dbin(p[i,k],n[i,k])        # binomial likelihood "]
[null,null,null,"logit(p[i,k]) <- mu[i] + d[t[i,1],t[i,k]]    #model for linear predictor "]
[null,null,null,"rhat[i,k]<- p[i,k] * n[i,k]     # expected value of the numerators "]
[null,null,null,"dev[i,k] <- 2* (r[i,k] * (log(r[i,k])-log(rhat[i,k])) + (n[i,k]-r[i,k]) *(log(n[i,k]-r[i,k]) - log(n[i,k]-rhat[i,k]))) #Deviance contribution "]
[]
[null,null,"} "]
[null,null,"resdev[i] <- sum(dev[i,1:na[i]])   # summed residual deviance contribution for this trial "]
[null,"} "]
[null,"totresdev <- sum(resdev[])       # Total Residual Deviance "]
[null,"for (k in 1:NT)      # set effects of k vs k to zero "]
[null,"{ "]
[null,null,"d[k,k]<- 0 "]
[null,"}"]
[null,"for (c in 1:(NT-1))       # priors for all mean treatment effects "]
[null,"{ "]
[null,null,"for (k in (c+1):NT)"]
[null,null,"{ "]
[null,null,null," d[c,k] ~ dnorm(0,.0001)"]
[null,null,"}"]
[null,"}"]
["}  #PROGRAM ENDS "]

{"sheet":"RE Inconsistency Model","index":30,"n_rows":33,"n_cols":4,"rows_kept":33,"cut":false,"hidden":false,"merged":[]}
[]
["# Random effects model for multi-arm trials (any number of arms) - developed based on WinBUGS code from  Multi-parameter Evidence Synthesis Research Group at the University of Bristol  Website: www.bris.ac.uk/cobm/research/mpes"]
["model                      # *** PROGRAM STARTS"]
["{"]
[null,"for(i in 1:NS)            # LOOP THROUGH STUDIES"]
[null,"{ "]
[null,null,"delta[i,1]<-0           # treatment effect is zero in control arm"]
[null,null,"mu[i] ~ dnorm(0,.0001)  # vague priors for trial baselines"]
[null,null,"for (k in 1:na[i])     # LOOP THROUGH ARMS"]
[null,null,"{"]
[null,null,null,"r[i,k] ~ dbin(p[i,k],n[i,k]) # binomial likelihood"]
[null,null,null," logit(p[i,k]) <- mu[i] + delta[i,k]  # model for linear predictor"]
[null,null,null,"rhat[i,k] <- p[i,k] * n[i,k] # expected value of the numerators "]
[null,null,null,"dev[i,k] <- 2 * (r[i,k] * (log(r[i,k])-log(rhat[i,k]))  +  (n[i,k]-r[i,k]) * (log(n[i,k]-r[i,k]) - log(n[i,k]-rhat[i,k])))   #Deviance contribution"]
[null,null,"}"]
["          ",null,"resdev[i] <- sum(dev[i,1:na[i]]) # summed residual deviance contribution for this trial"]
[null,null,"for (k in 2:na[i])   # LOOP THROUGH ARMS"]
[null,null,"{"]
[null,null,null,"delta[i,k] ~ dnorm(d[t[i,1],t[i,k]] ,tau) # trial-specific LOR distributions"]
[null,null,"}"]
[null,"  }   "]
[null,"totresdev <- sum(resdev[])   # Total Residual Deviance"]
[null,"for (c in 1:(NT-1))  # priors for all mean treatment effects"]
[null,"{"]
[null,null,"for (k in (c+1):NT)  "]
[null,null,"{ "]
[null,null,null,"d[c,k] ~ dnorm(0,.0001)  "]
[null,null,"}"]
[null,"  }  "]
[null,"sd ~ dunif(0,5)  # vague prior for between-trial standard deviation"]
[null,"var <- pow(sd,2) # between-trial variance"]
[null,"tau <- 1/var     # between-trial precision"]
["} # PROGRAM ENDS"]

{"sheet":"Rankogram Data","index":31,"n_rows":29,"n_cols":27,"rows_kept":29,"cut":false,"hidden":true,"merged":[[2,1,2,9]]}
[]
[]
[]
[null,null,null,null,null,null,null,null,null,null,null,null,"Medical","Cardiac Resynchronisation","Implantable Defibrilator","Combined Resyn and Def.","Amiodarone","t2","t3","t4","t5","t6",0,0,0,0,0]
[null,"prob[1,1]","Medical",1,5.8329999999999999E-5,7.6369999999999997E-3,2.495E-5,0,0,0,null,1,5.8329999999999999E-5,0.13320000000000001,8.5430000000000006E-2,0.7752,6.0920000000000002E-3]
[null,"prob[1,2]","Medical",2,7.1670000000000002E-4,2.6759999999999999E-2,8.5879999999999998E-5,0,0,0,null,2,7.1670000000000002E-4,0.50690000000000002,0.31659999999999999,0.1615,1.4290000000000001E-2]
[null,"prob[1,3]","Medical",3,7.6579999999999999E-3,8.7179999999999994E-2,4.0200000000000001E-4,0,0,0,null,3,7.6579999999999999E-3,0.31969999999999998,0.57430000000000003,5.4330000000000003E-2,4.3979999999999998E-2]
[null,"prob[1,4]","Medical",4,0.41289999999999999,0.4924,5.306E-3,0,0,1,null,4,0.41289999999999999,3.567E-2,2.2259999999999999E-2,7.633E-3,0.52149999999999996]
[null,"prob[1,5]","Medical",5,0.57869999999999999,0.49380000000000002,5.3499999999999997E-3,0,1,1,null,5,0.57869999999999999,4.5170000000000002E-3,1.3669999999999999E-3,1.3500000000000001E-3,0.41410000000000002]
[null,"prob[2,1]","Cardiac Resynchronisation",1,0.13320000000000001,0.33979999999999999,3.1849999999999999E-3,0,0,1]
[null,"prob[2,2]","Cardiac Resynchronisation",2,0.50690000000000002,0.5,6.0400000000000002E-3,0,1,1]
[null,"prob[2,3]","Cardiac Resynchronisation",3,0.31969999999999998,0.46639999999999998,5.3049999999999998E-3,0,0,1]
[null,"prob[2,4]","Cardiac Resynchronisation",4,3.567E-2,0.1855,1.1410000000000001E-3,0,0,1]
[null,"prob[2,5]","Cardiac Resynchronisation",5,4.5170000000000002E-3,6.7049999999999998E-2,2.7310000000000002E-4,0,0,0]
[null,"prob[3,1]","Implantable Defibrilator",1,8.5430000000000006E-2,0.27950000000000003,3.088E-3,0,0,1]
[null,"prob[3,2]","Implantable Defibrilator",2,0.31659999999999999,0.4652,4.8300000000000001E-3,0,0,1]
[null,"prob[3,3]","Implantable Defibrilator",3,0.57430000000000003,0.49440000000000001,6.2529999999999999E-3,0,1,1]
[null,"prob[3,4]","Implantable Defibrilator",4,2.2259999999999999E-2,0.14749999999999999,7.3649999999999996E-4,0,0,0]
[null,"prob[3,5]","Implantable Defibrilator",5,1.3669999999999999E-3,3.6940000000000001E-2,1.2650000000000001E-4,0,0,0]
[null,"prob[4,1]","Combined Resyn and Def.",1,0.7752,0.41739999999999999,4.6189999999999998E-3,0,1,1]
[null,"prob[4,2]","Combined Resyn and Def.",2,0.1615,0.36799999999999999,3.5000000000000001E-3,0,0,1]
[null,"prob[4,3]","Combined Resyn and Def.",3,5.4330000000000003E-2,0.22670000000000001,1.9040000000000001E-3,0,0,1]
[null,"prob[4,4]","Combined Resyn and Def.",4,7.633E-3,8.7029999999999996E-2,4.0910000000000002E-4,0,0,0]
[null,"prob[4,5]","Combined Resyn and Def.",5,1.3500000000000001E-3,3.6720000000000003E-2,1.262E-4,0,0,0]
[null,"prob[5,1]","Amiodarone",1,6.0920000000000002E-3,7.7810000000000004E-2,3.2249999999999998E-4,0,0,0]
[null,"prob[5,2]","Amiodarone",2,1.4290000000000001E-2,0.1187,5.4509999999999997E-4,0,0,0]
[null,"prob[5,3]","Amiodarone",3,4.3979999999999998E-2,0.20499999999999999,1.222E-3,0,0,1]
[null,"prob[5,4]","Amiodarone",4,0.52149999999999996,0.4995,5.3959999999999998E-3,0,1,1]
[null,"prob[5,5]","Amiodarone",5,0.41410000000000002,0.49259999999999998,5.3429999999999997E-3,0,0,1]